{"text_format":"1","workbook":"xlsx","n_sheets":6,"sheets":["CAPA","Resumo","Insumos","Coeficientes","Planilha","Depre e Rem Gen"],"not_rendered":{"charts":0,"images":1,"macros":0,"external_links":0,"defined_names":10,"comments":0,"pivot_tables":0},"unopened":[],"bounds":{"document_bytes":16777216,"sheet_cells":100000,"rows_first":2000,"rows_last":500,"rows_between":2000,"halvings":0,"cell_chars":16384,"cell_head_chars":4096},"cells_cut":0,"cells_raw":0,"read":"whole","date_system":"1900"}

{"sheet":"CAPA","index":0,"n_rows":30,"n_cols":12,"rows_kept":30,"cut":false,"hidden":false,"merged":[[16,1,19,10],[29,0,29,11],[21,1,24,10],[20,1,20,10]]}
[" "]
[]
[]
[null,null,"GOVERNO DO ESTADO DO PARANÁ"]
[]
[null,null,"DEPARTAMENTO DE ESTRADAS DE RODAGEM"]
[]
[]
[]
[]
[]
[]
[]
[]
[]
[]
[null,"ESTUDO DOS CUSTOS DO SERVIÇO RODOVIÁRIO DO SISTEMA DE TRANSPORTE PÚBLICO DE PASSAGEIROS DO ESTADO DO PARANÁ"]
[]
[]
[]
[null,"LOTE LESTE E CAMPOS GERAIS",null,null,null,null,null,null,null,null,null," "]
[null,"Documento Preliminar Sujeito a Modificações"]
[]
[]
[]
[]
[]
[]
[]
[{"$f":"Insumos!G15","v":"2024-06-01"}]

{"sheet":"Resumo","index":1,"n_rows":167,"n_cols":19,"rows_kept":167,"cut":false,"hidden":false,"merged":[[91,10,92,10],[91,12,91,14],[8,65,8,70],[8,71,8,76],[8,77,8,82],[23,12,23,13],[24,12,24,13],[26,12,26,13],[28,12,28,13],[29,12,29,13],[30,12,30,13],[31,12,31,13],[32,12,32,13],[33,12,33,13],[34,12,34,13],[35,12,35,13],[22,12,22,13],[86,10,90,10],[8,161,8,166],[8,167,8,172],[8,113,8,118],[8,119,8,124],[8,125,8,130],[8,131,8,136],[8,137,8,142],[8,83,8,88],[8,89,8,94],[8,95,8,100],[8,101,8,106],[8,107,8,112],[8,53,8,58],[8,59,8,64],[86,3,90,3],[86,12,90,14],[8,23,8,28],[8,29,8,34],[8,35,8,40],[8,41,8,46],[8,47,8,52],[8,14,8,16],[8,17,8,22],[8,143,8,148],[8,149,8,154],[21,8,22,8],[8,155,8,160],[8,0,8,9],[21,1,22,2],[21,4,21,5],[8,281,8,286],[8,287,8,292],[8,233,8,238],[8,239,8,244],[8,245,8,250],[8,251,8,256],[8,257,8,262],[8,203,8,208],[8,209,8,214],[8,215,8,220],[8,221,8,226],[8,227,8,232],[8,173,8,178],[8,179,8,184],[8,185,8,190],[8,191,8,196],[8,197,8,202],[8,269,8,274],[8,275,8,280],[8,263,8,268],[8,383,8,388],[8,389,8,394],[8,395,8,400],[8,401,8,406],[8,407,8,412],[8,353,8,358],[8,359,8,364],[8,365,8,370],[8,371,8,376],[8,377,8,382],[8,323,8,328],[8,329,8,334],[8,335,8,340],[8,341,8,346],[8,347,8,352],[8,293,8,298],[8,299,8,304],[8,305,8,310],[8,311,8,316],[8,317,8,322],[8,503,8,508],[8,509,8,514],[8,515,8,520],[8,521,8,526],[8,527,8,532],[8,473,8,478],[8,479,8,484],[8,485,8,490],[8,491,8,496],[8,497,8,502],[8,443,8,448],[8,449,8,454],[8,455,8,460],[8,461,8,466],[8,467,8,472],[8,413,8,418],[8,419,8,424],[8,425,8,430],[8,431,8,436],[8,437,8,442],[8,623,8,628],[8,629,8,634],[8,635,8,640],[8,641,8,646],[8,647,8,652],[8,593,8,598],[8,599,8,604],[8,605,8,610],[8,611,8,616],[8,617,8,622],[8,563,8,568],[8,569,8,574],[8,575,8,580],[8,581,8,586],[8,587,8,592],[8,533,8,538],[8,539,8,544],[8,545,8,550],[8,551,8,556],[8,557,8,562],[8,743,8,748],[8,749,8,754],[8,755,8,760],[8,761,8,766],[8,767,8,772],[8,713,8,718],[8,719,8,724],[8,725,8,730],[8,731,8,736],[8,737,8,742],[8,683,8,688],[8,689,8,694],[8,695,8,700],[8,701,8,706],[8,707,8,712],[8,653,8,658],[8,659,8,664],[8,665,8,670],[8,671,8,676],[8,677,8,682],[8,863,8,868],[8,869,8,874],[8,875,8,880],[8,881,8,886],[8,887,8,892],[8,833,8,838],[8,839,8,844],[8,845,8,850],[8,851,8,856],[8,857,8,862],[8,803,8,808],[8,809,8,814],[8,815,8,820],[8,821,8,826],[8,827,8,832],[8,773,8,778],[8,779,8,784],[8,785,8,790],[8,791,8,796],[8,797,8,802],[8,983,8,988],[8,989,8,994],[8,995,8,1000],[8,1001,8,1006],[8,1007,8,1012],[8,953,8,958],[8,959,8,964],[8,965,8,970],[8,971,8,976],[8,977,8,982],[8,923,8,928],[8,929,8,934],[8,935,8,940],[8,941,8,946],[8,947,8,952],[8,893,8,898],[8,899,8,904],[8,905,8,910],[8,911,8,916],[8,917,8,922],[8,1103,8,1108],[8,1109,8,1114],[8,1115,8,1120],[8,1121,8,1126],[8,1127,8,1132],[8,1073,8,1078],[8,1079,8,1084],[8,1085,8,1090],[8,1091,8,1096],[8,1097,8,1102],[8,1043,8,1048],[8,1049,8,1054],[8,1055,8,1060],[8,1061,8,1066],[8,1067,8,1072],[8,1013,8,1018],[8,1019,8,1024],[8,1025,8,1030],[8,1031,8,1036],[8,1037,8,1042],[8,1223,8,1228],[8,1229,8,1234],[8,1235,8,1240],[8,1241,8,1246],[8,1247,8,1252],[8,1193,8,1198],[8,1199,8,1204],[8,1205,8,1210],[8,1211,8,1216],[8,1217,8,1222],[8,1163,8,1168],[8,1169,8,1174],[8,1175,8,1180],[8,1181,8,1186],[8,1187,8,1192],[8,1133,8,1138],[8,1139,8,1144],[8,1145,8,1150],[8,1151,8,1156],[8,1157,8,1162],[8,1343,8,1348],[8,1349,8,1354],[8,1355,8,1360],[8,1361,8,1366],[8,1367,8,1372],[8,1313,8,1318],[8,1319,8,1324],[8,1325,8,1330],[8,1331,8,1336],[8,1337,8,1342],[8,1283,8,1288],[8,1289,8,1294],[8,1295,8,1300],[8,1301,8,1306],[8,1307,8,1312],[8,1253,8,1258],[8,1259,8,1264],[8,1265,8,1270],[8,1271,8,1276],[8,1277,8,1282],[8,1463,8,1468],[8,1469,8,1474],[8,1475,8,1480],[8,1481,8,1486],[8,1487,8,1492],[8,1433,8,1438],[8,1439,8,1444],[8,1445,8,1450],[8,1451,8,1456],[8,1457,8,1462],[8,1403,8,1408],[8,1409,8,1414],[8,1415,8,1420],[8,1421,8,1426],[8,1427,8,1432],[8,1373,8,1378],[8,1379,8,1384],[8,1385,8,1390],[8,1391,8,1396],[8,1397,8,1402],[8,1583,8,1588],[8,1589,8,1594],[8,1595,8,1600],[8,1601,8,1606],[8,1607,8,1612],[8,1553,8,1558],[8,1559,8,1564],[8,1565,8,1570],[8,1571,8,1576],[8,1577,8,1582],[8,1523,8,1528],[8,1529,8,1534],[8,1535,8,1540],[8,1541,8,1546],[8,1547,8,1552],[8,1493,8,1498],[8,1499,8,1504],[8,1505,8,1510],[8,1511,8,1516],[8,1517,8,1522],[8,1703,8,1708],[8,1709,8,1714],[8,1715,8,1720],[8,1721,8,1726],[8,1727,8,1732],[8,1673,8,1678],[8,1679,8,1684],[8,1685,8,1690],[8,1691,8,1696],[8,1697,8,1702],[8,1643,8,1648],[8,1649,8,1654],[8,1655,8,1660],[8,1661,8,1666],[8,1667,8,1672],[8,1613,8,1618],[8,1619,8,1624],[8,1625,8,1630],[8,1631,8,1636],[8,1637,8,1642],[8,1823,8,1828],[8,1829,8,1834],[8,1835,8,1840],[8,1841,8,1846],[8,1847,8,1852],[8,1793,8,1798],[8,1799,8,1804],[8,1805,8,1810],[8,1811,8,1816],[8,1817,8,1822],[8,1763,8,1768],[8,1769,8,1774],[8,1775,8,1780],[8,1781,8,1786],[8,1787,8,1792],[8,1733,8,1738],[8,1739,8,1744],[8,1745,8,1750],[8,1751,8,1756],[8,1757,8,1762],[8,1943,8,1948],[8,1949,8,1954],[8,1955,8,1960],[8,1961,8,1966],[8,1967,8,1972],[8,1913,8,1918],[8,1919,8,1924],[8,1925,8,1930],[8,1931,8,1936],[8,1937,8,1942],[8,1883,8,1888],[8,1889,8,1894],[8,1895,8,1900],[8,1901,8,1906],[8,1907,8,1912],[8,1853,8,1858],[8,1859,8,1864],[8,1865,8,1870],[8,1871,8,1876],[8,1877,8,1882],[8,2063,8,2068],[8,2069,8,2074],[8,2075,8,2080],[8,2081,8,2086],[8,2087,8,2092],[8,2033,8,2038],[8,2039,8,2044],[8,2045,8,2050],[8,2051,8,2056],[8,2057,8,2062],[8,2003,8,2008],[8,2009,8,2014],[8,2015,8,2020],[8,2021,8,2026],[8,2027,8,2032],[8,1973,8,1978],[8,1979,8,1984],[8,1985,8,1990],[8,1991,8,1996],[8,1997,8,2002],[8,2183,8,2188],[8,2189,8,2194],[8,2195,8,2200],[8,2201,8,2206],[8,2207,8,2212],[8,2153,8,2158],[8,2159,8,2164],[8,2165,8,2170],[8,2171,8,2176],[8,2177,8,2182],[8,2123,8,2128],[8,2129,8,2134],[8,2135,8,2140],[8,2141,8,2146],[8,2147,8,2152],[8,2093,8,2098],[8,2099,8,2104],[8,2105,8,2110],[8,2111,8,2116],[8,2117,8,2122],[8,2303,8,2308],[8,2309,8,2314],[8,2315,8,2320],[8,2321,8,2326],[8,2327,8,2332],[8,2273,8,2278],[8,2279,8,2284],[8,2285,8,2290],[8,2291,8,2296],[8,2297,8,2302],[8,2243,8,2248],[8,2249,8,2254],[8,2255,8,2260],[8,2261,8,2266],[8,2267,8,2272],[8,2213,8,2218],[8,2219,8,2224],[8,2225,8,2230],[8,2231,8,2236],[8,2237,8,2242],[8,2423,8,2428],[8,2429,8,2434],[8,2435,8,2440],[8,2441,8,2446],[8,2447,8,2452],[8,2393,8,2398],[8,2399,8,2404],[8,2405,8,2410],[8,2411,8,2416],[8,2417,8,2422],[8,2363,8,2368],[8,2369,8,2374],[8,2375,8,2380],[8,2381,8,2386],[8,2387,8,2392],[8,2333,8,2338],[8,2339,8,2344],[8,2345,8,2350],[8,2351,8,2356],[8,2357,8,2362],[8,2543,8,2548],[8,2549,8,2554],[8,2555,8,2560],[8,2561,8,2566],[8,2567,8,2572],[8,2513,8,2518],[8,2519,8,2524],[8,2525,8,2530],[8,2531,8,2536],[8,2537,8,2542],[8,2483,8,2488],[8,2489,8,2494],[8,2495,8,2500],[8,2501,8,2506],[8,2507,8,2512],[8,2453,8,2458],[8,2459,8,2464],[8,2465,8,2470],[8,2471,8,2476],[8,2477,8,2482],[8,2663,8,2668],[8,2669,8,2674],[8,2675,8,2680],[8,2681,8,2686],[8,2687,8,2692],[8,2633,8,2638],[8,2639,8,2644],[8,2645,8,2650],[8,2651,8,2656],[8,2657,8,2662],[8,2603,8,2608],[8,2609,8,2614],[8,2615,8,2620],[8,2621,8,2626],[8,2627,8,2632],[8,2573,8,2578],[8,2579,8,2584],[8,2585,8,2590],[8,2591,8,2596],[8,2597,8,2602],[8,2783,8,2788],[8,2789,8,2794],[8,2795,8,2800],[8,2801,8,2806],[8,2807,8,2812],[8,2753,8,2758],[8,2759,8,2764],[8,2765,8,2770],[8,2771,8,2776],[8,2777,8,2782],[8,2723,8,2728],[8,2729,8,2734],[8,2735,8,2740],[8,2741,8,2746],[8,2747,8,2752],[8,2693,8,2698],[8,2699,8,2704],[8,2705,8,2710],[8,2711,8,2716],[8,2717,8,2722],[8,2903,8,2908],[8,2909,8,2914],[8,2915,8,2920],[8,2921,8,2926],[8,2927,8,2932],[8,2873,8,2878],[8,2879,8,2884],[8,2885,8,2890],[8,2891,8,2896],[8,2897,8,2902],[8,2843,8,2848],[8,2849,8,2854],[8,2855,8,2860],[8,2861,8,2866],[8,2867,8,2872],[8,2813,8,2818],[8,2819,8,2824],[8,2825,8,2830],[8,2831,8,2836],[8,2837,8,2842],[8,3023,8,3028],[8,3029,8,3034],[8,3035,8,3040],[8,3041,8,3046],[8,3047,8,3052],[8,2993,8,2998],[8,2999,8,3004],[8,3005,8,3010],[8,3011,8,3016],[8,3017,8,3022],[8,2963,8,2968],[8,2969,8,2974],[8,2975,8,2980],[8,2981,8,2986],[8,2987,8,2992],[8,2933,8,2938],[8,2939,8,2944],[8,2945,8,2950],[8,2951,8,2956],[8,2957,8,2962],[8,3143,8,3148],[8,3149,8,3154],[8,3155,8,3160],[8,3161,8,3166],[8,3167,8,3172],[8,3113,8,3118],[8,3119,8,3124],[8,3125,8,3130],[8,3131,8,3136],[8,3137,8,3142],[8,3083,8,3088],[8,3089,8,3094],[8,3095,8,3100],[8,3101,8,3106],[8,3107,8,3112],[8,3053,8,3058],[8,3059,8,3064],[8,3065,8,3070],[8,3071,8,3076],[8,3077,8,3082],[8,3263,8,3268],[8,3269,8,3274],[8,3275,8,3280],[8,3281,8,3286],[8,3287,8,3292],[8,3233,8,3238],[8,3239,8,3244],[8,3245,8,3250],[8,3251,8,3256],[8,3257,8,3262],[8,3203,8,3208],[8,3209,8,3214],[8,3215,8,3220],[8,3221,8,3226],[8,3227,8,3232],[8,3173,8,3178],[8,3179,8,3184],[8,3185,8,3190],[8,3191,8,3196],[8,3197,8,3202],[8,3383,8,3388],[8,3389,8,3394],[8,3395,8,3400],[8,3401,8,3406],[8,3407,8,3412],[8,3353,8,3358],[8,3359,8,3364],[8,3365,8,3370],[8,3371,8,3376],[8,3377,8,3382],[8,3323,8,3328],[8,3329,8,3334],[8,3335,8,3340],[8,3341,8,3346],[8,3347,8,3352],[8,3293,8,3298],[8,3299,8,3304],[8,3305,8,3310],[8,3311,8,3316],[8,3317,8,3322],[8,3503,8,3508],[8,3509,8,3514],[8,3515,8,3520],[8,3521,8,3526],[8,3527,8,3532],[8,3473,8,3478],[8,3479,8,3484],[8,3485,8,3490],[8,3491,8,3496],[8,3497,8,3502],[8,3443,8,3448],[8,3449,8,3454],[8,3455,8,3460],[8,3461,8,3466],[8,3467,8,3472],[8,3413,8,3418],[8,3419,8,3424],[8,3425,8,3430],[8,3431,8,3436],[8,3437,8,3442],[8,3623,8,3628],[8,3629,8,3634],[8,3635,8,3640],[8,3641,8,3646],[8,3647,8,3652],[8,3593,8,3598],[8,3599,8,3604],[8,3605,8,3610],[8,3611,8,3616],[8,3617,8,3622],[8,3563,8,3568],[8,3569,8,3574],[8,3575,8,3580],[8,3581,8,3586],[8,3587,8,3592],[8,3533,8,3538],[8,3539,8,3544],[8,3545,8,3550],[8,3551,8,3556],[8,3557,8,3562],[8,3743,8,3748],[8,3749,8,3754],[8,3755,8,3760],[8,3761,8,3766],[8,3767,8,3772],[8,3713,8,3718],[8,3719,8,3724],[8,3725,8,3730],[8,3731,8,3736],[8,3737,8,3742],[8,3683,8,3688],[8,3689,8,3694],[8,3695,8,3700],[8,3701,8,3706],[8,3707,8,3712],[8,3653,8,3658],[8,3659,8,3664],[8,3665,8,3670],[8,3671,8,3676],[8,3677,8,3682],[8,3863,8,3868],[8,3869,8,3874],[8,3875,8,3880],[8,3881,8,3886],[8,3887,8,3892],[8,3833,8,3838],[8,3839,8,3844],[8,3845,8,3850],[8,3851,8,3856],[8,3857,8,3862],[8,3803,8,3808],[8,3809,8,3814],[8,3815,8,3820],[8,3821,8,3826],[8,3827,8,3832],[8,3773,8,3778],[8,3779,8,3784],[8,3785,8,3790],[8,3791,8,3796],[8,3797,8,3802],[8,3983,8,3988],[8,3989,8,3994],[8,3995,8,4000],[8,4001,8,4006],[8,4007,8,4012],[8,3953,8,3958],[8,3959,8,3964],[8,3965,8,3970],[8,3971,8,3976],[8,3977,8,3982],[8,3923,8,3928],[8,3929,8,3934],[8,3935,8,3940],[8,3941,8,3946],[8,3947,8,3952],[8,3893,8,3898],[8,3899,8,3904],[8,3905,8,3910],[8,3911,8,3916],[8,3917,8,3922],[8,4103,8,4108],[8,4109,8,4114],[8,4115,8,4120],[8,4121,8,4126],[8,4127,8,4132],[8,4073,8,4078],[8,4079,8,4084],[8,4085,8,4090],[8,4091,8,4096],[8,4097,8,4102],[8,4043,8,4048],[8,4049,8,4054],[8,4055,8,4060],[8,4061,8,4066],[8,4067,8,4072],[8,4013,8,4018],[8,4019,8,4024],[8,4025,8,4030],[8,4031,8,4036],[8,4037,8,4042],[8,4223,8,4228],[8,4229,8,4234],[8,4235,8,4240],[8,4241,8,4246],[8,4247,8,4252],[8,4193,8,4198],[8,4199,8,4204],[8,4205,8,4210],[8,4211,8,4216],[8,4217,8,4222],[8,4163,8,4168],[8,4169,8,4174],[8,4175,8,4180],[8,4181,8,4186],[8,4187,8,4192],[8,4133,8,4138],[8,4139,8,4144],[8,4145,8,4150],[8,4151,8,4156],[8,4157,8,4162],[8,4343,8,4348],[8,4349,8,4354],[8,4355,8,4360],[8,4361,8,4366],[8,4367,8,4372],[8,4313,8,4318],[8,4319,8,4324],[8,4325,8,4330],[8,4331,8,4336],[8,4337,8,4342],[8,4283,8,4288],[8,4289,8,4294],[8,4295,8,4300],[8,4301,8,4306],[8,4307,8,4312],[8,4253,8,4258],[8,4259,8,4264],[8,4265,8,4270],[8,4271,8,4276],[8,4277,8,4282],[8,4463,8,4468],[8,4469,8,4474],[8,4475,8,4480],[8,4481,8,4486],[8,4487,8,4492],[8,4433,8,4438],[8,4439,8,4444],[8,4445,8,4450],[8,4451,8,4456],[8,4457,8,4462],[8,4403,8,4408],[8,4409,8,4414],[8,4415,8,4420],[8,4421,8,4426],[8,4427,8,4432],[8,4373,8,4378],[8,4379,8,4384],[8,4385,8,4390],[8,4391,8,4396],[8,4397,8,4402],[8,4583,8,4588],[8,4589,8,4594],[8,4595,8,4600],[8,4601,8,4606],[8,4607,8,4612],[8,4553,8,4558],[8,4559,8,4564],[8,4565,8,4570],[8,4571,8,4576],[8,4577,8,4582],[8,4523,8,4528],[8,4529,8,4534],[8,4535,8,4540],[8,4541,8,4546],[8,4547,8,4552],[8,4493,8,4498],[8,4499,8,4504],[8,4505,8,4510],[8,4511,8,4516],[8,4517,8,4522],[8,4703,8,4708],[8,4709,8,4714],[8,4715,8,4720],[8,4721,8,4726],[8,4727,8,4732],[8,4673,8,4678],[8,4679,8,4684],[8,4685,8,4690],[8,4691,8,4696],[8,4697,8,4702],[8,4643,8,4648],[8,4649,8,4654],[8,4655,8,4660],[8,4661,8,4666],[8,4667,8,4672],[8,4613,8,4618],[8,4619,8,4624],[8,4625,8,4630],[8,4631,8,4636],[8,4637,8,4642],[8,4823,8,4828],[8,4829,8,4834],[8,4835,8,4840],[8,4841,8,4846],[8,4847,8,4852],[8,4793,8,4798],[8,4799,8,4804],[8,4805,8,4810],[8,4811,8,4816],[8,4817,8,4822],[8,4763,8,4768],[8,4769,8,4774],[8,4775,8,4780],[8,4781,8,4786],[8,4787,8,4792],[8,4733,8,4738],[8,4739,8,4744],[8,4745,8,4750],[8,4751,8,4756],[8,4757,8,4762],[8,4943,8,4948],[8,4949,8,4954],[8,4955,8,4960],[8,4961,8,4966],[8,4967,8,4972],[8,4913,8,4918],[8,4919,8,4924],[8,4925,8,4930],[8,4931,8,4936],[8,4937,8,4942],[8,4883,8,4888],[8,4889,8,4894],[8,4895,8,4900],[8,4901,8,4906],[8,4907,8,4912],[8,4853,8,4858],[8,4859,8,4864],[8,4865,8,4870],[8,4871,8,4876],[8,4877,8,4882],[8,5063,8,5068],[8,5069,8,5074],[8,5075,8,5080],[8,5081,8,5086],[8,5087,8,5092],[8,5033,8,5038],[8,5039,8,5044],[8,5045,8,5050],[8,5051,8,5056],[8,5057,8,5062],[8,5003,8,5008],[8,5009,8,5014],[8,5015,8,5020],[8,5021,8,5026],[8,5027,8,5032],[8,4973,8,4978],[8,4979,8,4984],[8,4985,8,4990],[8,4991,8,4996],[8,4997,8,5002],[8,5183,8,5188],[8,5189,8,5194],[8,5195,8,5200],[8,5201,8,5206],[8,5207,8,5212],[8,5153,8,5158],[8,5159,8,5164],[8,5165,8,5170],[8,5171,8,5176],[8,5177,8,5182],[8,5123,8,5128],[8,5129,8,5134],[8,5135,8,5140],[8,5141,8,5146],[8,5147,8,5152],[8,5093,8,5098],[8,5099,8,5104],[8,5105,8,5110],[8,5111,8,5116],[8,5117,8,5122],[8,5303,8,5308],[8,5309,8,5314],[8,5315,8,5320],[8,5321,8,5326],[8,5327,8,5332],[8,5273,8,5278],[8,5279,8,5284],[8,5285,8,5290],[8,5291,8,5296],[8,5297,8,5302],[8,5243,8,5248],[8,5249,8,5254],[8,5255,8,5260],[8,5261,8,5266],[8,5267,8,5272],[8,5213,8,5218],[8,5219,8,5224],[8,5225,8,5230],[8,5231,8,5236],[8,5237,8,5242],[8,5423,8,5428],[8,5429,8,5434],[8,5435,8,5440],[8,5441,8,5446],[8,5447,8,5452],[8,5393,8,5398],[8,5399,8,5404],[8,5405,8,5410],[8,5411,8,5416],[8,5417,8,5422],[8,5363,8,5368],[8,5369,8,5374],[8,5375,8,5380],[8,5381,8,5386],[8,5387,8,5392],[8,5333,8,5338],[8,5339,8,5344],[8,5345,8,5350],[8,5351,8,5356],[8,5357,8,5362],[8,5543,8,5548],[8,5549,8,5554],[8,5555,8,5560],[8,5561,8,5566],[8,5567,8,5572],[8,5513,8,5518],[8,5519,8,5524],[8,5525,8,5530],[8,5531,8,5536],[8,5537,8,5542],[8,5483,8,5488],[8,5489,8,5494],[8,5495,8,5500],[8,5501,8,5506],[8,5507,8,5512],[8,5453,8,5458],[8,5459,8,5464],[8,5465,8,5470],[8,5471,8,5476],[8,5477,8,5482],[8,5663,8,5668],[8,5669,8,5674],[8,5675,8,5680],[8,5681,8,5686],[8,5687,8,5692],[8,5633,8,5638],[8,5639,8,5644],[8,5645,8,5650],[8,5651,8,5656],[8,5657,8,5662],[8,5603,8,5608],[8,5609,8,5614],[8,5615,8,5620],[8,5621,8,5626],[8,5627,8,5632],[8,5573,8,5578],[8,5579,8,5584],[8,5585,8,5590],[8,5591,8,5596],[8,5597,8,5602],[8,5783,8,5788],[8,5789,8,5794],[8,5795,8,5800],[8,5801,8,5806],[8,5807,8,5812],[8,5753,8,5758],[8,5759,8,5764],[8,5765,8,5770],[8,5771,8,5776],[8,5777,8,5782],[8,5723,8,5728],[8,5729,8,5734],[8,5735,8,5740],[8,5741,8,5746],[8,5747,8,5752],[8,5693,8,5698],[8,5699,8,5704],[8,5705,8,5710],[8,5711,8,5716],[8,5717,8,5722],[8,5903,8,5908],[8,5909,8,5914],[8,5915,8,5920],[8,5921,8,5926],[8,5927,8,5932],[8,5873,8,5878],[8,5879,8,5884],[8,5885,8,5890],[8,5891,8,5896],[8,5897,8,5902],[8,5843,8,5848],[8,5849,8,5854]],"merged_total":2809,"flags":["merged_cut"]}
[]
[null,"Documento Preliminar Sujeito a Modificações"]
[]
[]
["GOVERNO DO ESTADO DO PARANÁ"]
[]
[]
[]
["DEPARTAMENTO DE ESTRADAS DE RODAGEM"]
[]
[]
[]
["ESTUDO DOS CUSTOS DO SERVIÇO RODOVIÁRIO DO SISTEMA DE TRANSPORTE PÚBLICO DE PASSAGEIROS DO ESTADO DO PARANÁ"]
[]
[]
[]
[]
[" RESUMO"]
[]
[]
[{"$f":"Insumos!G15","v":"2024-06-01"}]
[null,"Indicador",null,"Unidade","Valor",null,"Variação",null,"Variação"]
[null,null,null,null,"Calculado","Anterior",null,null,null,null,null,null,"Indicador",null,"Leste (c/corr.)","Norte","Noroeste","Oeste","Total"]
[null,"Demanda Equivalente",null,"pass/mês",{"$f":"Insumos!G29","v":0},6315981,{"$f":"E24/F24-1","v":-1},null,{"$f":"G24/H24-1","v":{"$error":"#DIV/0!"}},null,null,null,"Demanda Equivalente",null,131766,174450,159428,171919,{"$f":"SUM(O24:R24)","v":637563}]
[null,"Ocupação Média",null,"pass/viagem",{"$f":"Insumos!G31","v":0},24.5,{"$f":"E25/F25-1","v":-1},null,{"$f":"G25/H25-1","v":{"$error":"#DIV/0!"}},null,null,null,"Ocupação Média",null,41.58,42.71,41.71,41.83,{"$f":"S24/S26","v":41.983603318846306}]
[null,"Viagens",null,"viagens/mês",{"$f":"E24/E25","v":{"$error":"#DIV/0!"}},{"$f":"F24/F25","v":257795.14285714287},{"$error":"#DIV/0!"},null,null,null,null,null,"Viagens",null,{"$f":"ROUND(O24/O25,0)","v":3169},{"$f":"ROUND(P24/P25,0)","v":4085},{"$f":"ROUND(Q24/Q25,0)","v":3822},4110,{"$f":"SUM(O26:R26)","v":15186}]
[null,"Percurso",null,"km/mês",{"$f":"Insumos!G37","v":0},4906596.8379633678,-1,null,{"$error":"#DIV/0!"},null,null,null,"Percurso",null,757022.67,840993,725780.77,1159804.97,{"$f":"SUM(O27:R27)","v":3483601.41}]
[null,"Extensão Média",null,"km",{"$f":"E27/E26","v":{"$error":"#DIV/0!"}},{"$f":"F27/F26","v":19.032929727005591},{"$error":"#DIV/0!"},null,null,null,null,null,"Extensão Média",null,{"$f":"O27/O26","v":238.88377090564848},{"$f":"P27/P26","v":205.87343941248471},189.89554421768707,{"$f":"R27/R26","v":282.1909902676399},{"$f":"S27/S26","v":229.39558870011854}]
[null,"Frota Total",null,"veículos",{"$f":"Planilha!G401","v":0},1032,-1,null,{"$error":"#DIV/0!"},null,null,null,"Frota Total",null,109,128,126,141,{"$f":"SUM(O29:R29)","v":504}]
[null,"Frota Efetiva",null,"veículos",{"$f":"Planilha!G393","v":0},929,-1,null,{"$error":"#DIV/0!"},null,null,null,"Frota Efetiva",null,98,115,113,127,453]
[null,"Idade Média da Frota",null,"anos",{"$f":"Insumos!J295","v":{"$error":"#DIV/0!"}},9.7374031007751931,{"$error":"#DIV/0!"},null,{"$error":"#DIV/0!"},null,null,null,"Idade Média da Frota",null,8.3302752293577988,8.375,8.5158730158730158,7.4539007092198579,{"$f":"(O31*O29+P31*P29+Q29*Q31+R29*R31)/S29","v":8.1428571428571423}]
[null,"PMM",null,"km/veículo.mês",{"$f":"Planilha!G414","v":{"$error":"#DIV/0!"}},5545.6691904880172,{"$error":"#DIV/0!"},null,{"$error":"#DIV/0!"},null,null,null,"PMM",null,{"$f":"1.05*O27/O30","v":8110.9571785714288},{"$f":"1.05*P27/P30","v":7678.6317391304347},6743.9806061946911,9588.9387283464566,{"$f":"1.05*S27/S30","v":8074.5728046357626}]
[null,"IPK Equivalente",null,"passageiros/km",{"$f":"Planilha!G415","v":{"$error":"#DIV/0!"}},1.2259,{"$error":"#DIV/0!"},null,{"$error":"#DIV/0!"},null,null,null,"IPK Equivalente",null,{"$f":"O24/(O27*1.05)","v":0.16576971013487424},{"$f":"P24/(P27*1.05)","v":0.19755557673233562},{"$f":"Q24/(Q27*1.05)","v":0.20920393147946104},{"$f":"R24/(R27*1.05)","v":0.14117233947737001},{"$f":"S24/(S27*1.05)","v":0.17430319536552749}]
[null,"Custo por Quilômetro",null,"R$/km",{"$f":"Planilha!G1209","v":{"$error":"#DIV/0!"}},{"$f":"Planilha!G1210","v":{"$error":"#DIV/0!"}},{"$f":"E34/F34-1","v":{"$error":"#DIV/0!"}},null,{"$error":"#DIV/0!"},null,null,null,"Custo por Quilômetro",null,13.280082554620142,34.896258275921284,5.6450078174936857,28.771950052882733,{"$f":"(P34*P27+Q34*Q27+R34*R27+O27*O34)/S27","v":22.065590241543326}]
[null,"Custo por Passageiro",null,"R$/passageiro",{"$f":"E34/E33","v":{"$error":"#DIV/0!"}},{"$f":"F34/F33","v":{"$error":"#DIV/0!"}},{"$error":"#DIV/0!"},null,{"$error":"#DIV/0!"},null,null,null,"Custo por Passageiro",null,{"$f":"O34/O33","v":80.111635254807084},{"$f":"P34/P33","v":176.64020855863549},26.983277883799687,203.80727669031006,{"$f":"S34/S33","v":126.59314819369806}]
[null,"Coeficiente Tarifário",null,"R$/passageiro.km",{"$f":"Planilha!G1212","v":{"$error":"#DIV/0!"}},{"$f":"Planilha!G1213","v":{"$error":"#DIV/0!"}},{"$error":"#DIV/0!"},null,{"$error":"#DIV/0!"},null,null,null,"Coeficiente Tarifário",null,0.31938630482491925,0.81705123568066684,0.13533943460785627,0.68783050568689297,{"$f":"S34/S25","v":0.52557637975867}]
[null,"PMM - Percurso Médio Mensal "]
[null,"IPK - Indice de Passageiros por Quilômetro "]
[]
[]
[]
[]
[]
[]
[]
[]
[null," CUSTOS DE OPERAÇÃO"]
[]
[null," RUBRICA",null,null,null,null,"VALOR (R$/km)"]
[]
[null," CUSTOS VARIÁVEIS",null,null,null,null,{"$f":"Planilha!G513","v":{"$error":"#DIV/0!"}}]
[null,null," Combustível",null,null,null,{"$f":"Planilha!G463","v":{"$error":"#DIV/0!"}}]
[null,null," Lubrificantes e ARLA",null,null,null,{"$f":"Planilha!G470","v":0}]
[null,null," Rodagem",null,null,null,{"$f":"Planilha!G491","v":{"$error":"#DIV/0!"}}]
[null,null," Peças e Acessórios",null,null,null,{"$f":"Planilha!G508","v":{"$error":"#DIV/0!"}}]
[null," CUSTOS FIXOS",null,null,null,null,{"$f":"Planilha!G1191","v":{"$error":"#DIV/0!"}}]
[null,null," Capital",null,null,null,{"$f":"Planilha!G1154*Planilha!G401/Planilha!G409","v":{"$error":"#DIV/0!"}}]
[null,null,null,"Depreciação",null,null,{"$f":"Planilha!G835*Planilha!G401/Planilha!G409","v":{"$error":"#DIV/0!"}}]
[null,null,null,null,"Veículos",null,{"$f":"Planilha!G800*Planilha!G401/Planilha!G409","v":{"$error":"#DIV/0!"}}]
[null,null,null,null," Outros ativos",null,{"$f":"Planilha!G833*Planilha!G401/Planilha!G409","v":{"$error":"#DIV/0!"}}]
[null,null,null,"Remuneração",null,null,{"$f":"(Planilha!G1117+Planilha!G1120+Planilha!G1140+Planilha!G1142)*Planilha!G401/Planilha!G409","v":{"$error":"#DIV/0!"}}]
[null,null,null,null,"Veículos",null,{"$f":"Planilha!G1117*Planilha!G401/Planilha!G409","v":{"$error":"#DIV/0!"}}]
[null,null,null,null,"Almoxarifado",null,{"$f":"Planilha!G1120*Planilha!G401/Planilha!G409","v":{"$error":"#DIV/0!"}}]
[null,null,null,null," Outros ativos",null,{"$f":"Planilha!G1142*Planilha!G401/Planilha!G409","v":{"$error":"#DIV/0!"}}]
[null,null,null,"Amortização de Outros ativos",null,null,{"$f":"Planilha!G1150*Planilha!G401/Planilha!G409","v":{"$error":"#DIV/0!"}}]
[null,null,null,null,"Outorga",null,{"$f":"Planilha!G1149*Planilha!G401/Planilha!G409","v":{"$error":"#DIV/0!"}}]
[null,null,null,null,"Invest. Terminal e Infraestrutura",null,{"$f":"Planilha!G1149*Planilha!G401/Planilha!G409","v":{"$error":"#DIV/0!"}}]
[null,null," Pessoal",null,null,null,{"$f":"Planilha!G1175*Planilha!G393/Planilha!G409","v":{"$error":"#DIV/0!"}}]
[null,null,null,"Operação",null,null,{"$f":"Planilha!G1166*Planilha!G393/Planilha!G409","v":{"$error":"#DIV/0!"}}]
[null,null,null,"Manutenção",null,null,{"$f":"Planilha!G1168*Planilha!G393/Planilha!G409","v":{"$error":"#DIV/0!"}}]
[null,null,null,"Administração",null,null,{"$f":"Planilha!G1170*Planilha!G393/Planilha!G409","v":{"$error":"#DIV/0!"}}]
[null,null,null,"Benefícios",null,null,{"$f":"Planilha!G1172*Planilha!G393/Planilha!G409","v":{"$error":"#DIV/0!"}}]
[null,null,null,"Diretoria",null,null,{"$f":"Planilha!G1174*Planilha!G393/Planilha!G409","v":{"$error":"#DIV/0!"}}]
[null,null," Administração",null,null,null,{"$f":"Planilha!G1184*Planilha!G401/Planilha!G409","v":{"$error":"#DIV/0!"}}]
[null,null,null,"Despesa de Administração",null,null,{"$f":"Planilha!G1181*Planilha!G401/Planilha!G409","v":{"$error":"#DIV/0!"}}]
[null,null,null,"Custo Ambiental",null,null,{"$f":"Planilha!G1183*Planilha!G401/Planilha!G409","v":{"$error":"#DIV/0!"}}]
[null,"CUSTO DE REMUNERAÇÃO PELA PRESTAÇÃO DOS SERVIÇOS",null,null,null,null,{"$f":"Planilha!G1202","v":{"$error":"#DIV/0!"}}]
[null," IMPOSTOS",null,null,null,null,{"$f":"Planilha!G1209-Planilha!G1207","v":{"$error":"#DIV/0!"}}]
[null," TOTAL",null,null,null,null,{"$f":"Planilha!G1209","v":{"$error":"#DIV/0!"}}]
[]
[]
[]
[]
[]
[null," PARTICIPAÇÕES DOS CUSTOS DE OPERAÇÃO"]
[]
[null,null,null,"Resultados do Cálculo com as Correções",null,null,null,null,null,null,"Resultados do Cálculo sem as Correções",null,"Resultados da Amostra "]
[]
[]
[]
[]
[null," RUBRICA",null,null,null,null,"VALOR ",null,null,null,"VALOR ",null,"Intervalo de Confiança"]
[null,null,null,null,null,null,null,null,null,null,null,null,"Máximo","Média","Minimo"]
[null," CUSTOS VARIÁVEIS",null,null,null,null,{"$f":"G51/$G$79","v":{"$error":"#DIV/0!"}},null,null,null,0.12238537793186152,null,0.36093144256785054,0.30141753512867975,0.24190362768950896]
[null,null," Combustível",null,null,null,{"$error":"#DIV/0!"},null,null,null,5.6883144638516313E-2,null,0.20582373053589237,0.15817291597190861,0.11052210140792484]
[null,null," Lubrificantes e ARLA",null,null,null,{"$error":"#DIV/0!"},null,null,null,7.9573143509542848E-3,null,1.3267552973589078E-2,8.0668455702846767E-3,2.8661381669802758E-3]
[null,null," Rodagem",null,null,null,{"$error":"#DIV/0!"},null,null,null,1.0292231972951061E-2,null,5.0040571944893371E-2,3.5937499479088142E-2,2.1834427013282913E-2]
[null,null," Peças e Acessórios",null,null,null,{"$error":"#DIV/0!"},null,null,null,4.7252686969439857E-2,null,0.13545355964173281,9.9240274107398357E-2,6.3026988573063908E-2]
[null," CUSTOS FIXOS",null,null,null,null,{"$error":"#DIV/0!"},null,null,null,0.72511462206813848,null,0.69179806541311839,0.59302403023370842,0.49424999505429851]
[null,null," Capital",null,null,null,{"$error":"#DIV/0!"},null,null,null,8.8148326066580004E-2,null,0.25429956139765103,0.17451990545837279,9.474024951909453E-2]
[null,null,null,"Depreciação",null,null,{"$error":"#DIV/0!"},null,null,null,2.0974010020157318E-2,null,0.16919190224783692,8.9329849344140816E-2,9.4677964404447229E-3]
[null,null,null,null,"Veículos",null,{"$error":"#DIV/0!"},null,null,null,1.9819837109463109E-2]
[null,null,null,null," Outros ativos",null,{"$error":"#DIV/0!"},null,null,null,1.154172910694206E-3]
[null,null,null,"Remuneração",null,null,{"$error":"#DIV/0!"},null,null,null,6.7174316046422697E-2,null,0.12310958239473049,8.5190056114231985E-2,4.7270529833733477E-2]
[null,null,null,null,"Veículos",null,{"$error":"#DIV/0!"},null,null,null,1.0715879857579139E-2]
[null,null,null,null,"Almoxarifado",null,{"$error":"#DIV/0!"},null,null,null,1.0258854490017944E-2]
[null,null,null,null," Outros ativos",null,{"$f":"G64/$G$79","v":{"$error":"#DIV/0!"}},null,null,null,4.6199581698825619E-2]
[null,null,null,"Amortização de Outros ativos",null,null,{"$error":"#DIV/0!"},null,null,null,0]
[null,null,null,null,"Outorga",null,{"$error":"#DIV/0!"},null,null,null,0]
[null,null,null,null,"Investimento Terminal e Infraestrutura",null,{"$error":"#DIV/0!"},null,null,null,0]
[null,null," Pessoal",null,null,null,{"$error":"#DIV/0!"},null,null,null,0.57654258423466376,null,0.40991868238492513,0.35384328715161079,0.29776789191829645]
[null,null,null,"Operação",null,null,{"$error":"#DIV/0!"},null,null,null,3.0298129797188947E-2,null,0.22244832021187141,0.19333632385468472,0.16422432749749802]
[null,null,null,"Manutenção",null,null,{"$error":"#DIV/0!"},null,null,null,1.1094387380355866E-2,null,9.5016378011104671E-2,6.9833684857162001E-2,4.4650991703219331E-2]
[null,null,null,"Administração",null,null,{"$error":"#DIV/0!"},null,null,null,6.6944929712080877E-3,null,0.14722297490807579,6.448819651956765E-2,0]
[null,null,null,"Benefícios",null,null,{"$error":"#DIV/0!"},null,null,null,0.52210411210624108,null,0.14830295790557579,6.1799266456099997E-2,0]
[null,null,null,"Diretoria",null,null,{"$error":"#DIV/0!"},null,null,null,6.3514619796697829E-3,null,0,0,0]
[null,null," Administração",null,null,null,{"$error":"#DIV/0!"},null,null,null,6.0423711766894678E-2,null,0.12029849872592036,6.4660837623724779E-2,9.0231765215292095E-3]
[null,null,null,"Despesa de Administração",null,null,{"$error":"#DIV/0!"},null,null,null,6.0423711766894678E-2,null,0.12029849872592036,6.4660837623724779E-2,9.0231765215292095E-3]
[null,null,null,"Custo Ambiental",null,null,{"$error":"#DIV/0!"},null,null,null,0]
[null,"CUSTO DE REMUNERAÇÃO PELA PRESTAÇÃO DOS SERVIÇOS",null,null,null,null,{"$error":"#DIV/0!"},null,null,null,0]
[null," IMPOSTOS",null,null,null,null,{"$error":"#DIV/0!"},null,null,null,0.1525,null,0.26078286837435616,0.14073530757313096,2.0687746771905768E-2]
[null," TOTAL",null,null,null,null,{"$error":"#DIV/0!"}]
[]
[]
[null,"Resultados do Cálculo sem as Correções"]
[]
[null,"Indicador",null,"Unidade","Valor",null,"Variação"]
[null,null,null,null,"Calculado","Anterior"]
[null,"Demanda Equivalente",null,"pass/mês",131766,6315981.0000000009,-0.97913768264977363]
[null,"Ocupação Média",null,"pass/viagem",41.58,24.5,0.69714285714285706]
[null,"Viagens",null,"viagens/mês",{"$f":"E129/E130","v":3168.9754689754691},{"$f":"F129/F130","v":257795.1428571429},0.69714285714285706]
[null,"Percurso",null,"km/mês",757022.67,4906596.8379633678,-0.8457132927362695]
[null,"Extensão Média",null,"km",{"$f":"E132/E131","v":238.8856201038204},{"$f":"F132/F131","v":19.032929727005591},-0.8457132927362695]
[null,"Frota Total",null,"veículos",109,1032,-0.89437984496124034]
[null,"Frota Efetiva",null,"veículos",98,929,-0.89451022604951558]
[null,"Idade Média da Frota",null,"anos",8.3302752293577988,9.7374031007751931,-0.14450750953356062]
[null,"PMM",null,"km/veículo.mês",8110.9571428571435,5545.6691904880172,0.46257500479277258]
[null,"IPK Equivalente",null,"passageiros/km",0.16576971086479386,1.2259,-0.86477713446056459]
[null,"Custo por Quilômetro",null,"R$/km",32.738432655831694,32.738432655831694,0]
[null,"Custo por Passageiro",null,"R$/passageiro",197.49345332775553,26.705630684257848,6.3951989998937524]
[null,"Coeficiente Tarifário",null,"R$/passageiro.km",0.78736009273284502,0.78736009273284502,0]
[]
[null,"Coeficientes Anteriores"]
[null,"Pessoal de Administração",null,null,22.095400000000001,"%/pessoal de operação"]
[null,"Benefícios",null,null,10.489000000000001,"% do PVNC/veículo.mês"]
[]
[null,"Resultados do Cálculo com as Correções"]
[]
[null,"Indicador",null,"Unidade","Valor",null,"Variação"]
[null,null,null,null,"Calculado","Anterior"]
[null,"Demanda Equivalente",null,"pass/mês",131766,6315981,-0.97913768264977363]
[null,"Ocupação Média",null,"pass/viagem",41.58,24.5,0.69714285714285706]
[null,"Viagens",null,"viagens/mês",3168.9754689754691,257795.14285714287,-0.98770738876670161]
[null,"Percurso",null,"km/mês",757022.67,4906596.8379633678,-0.8457132927362695]
[null,"Extensão Média",null,"km",238.88562010382,19.032929727005591,11.551174387244677]
[null,"Frota Total",null,"veículos",109,1032,-0.89437984496124034]
[null,"Frota Efetiva",null,"veículos",98,929,-0.89451022604951558]
[null,"Idade Média da Frota",null,"anos",8.3302752293577988,9.7374031007751931,-0.14450750953356062]
[null,"PMM",null,"km/veículo.mês",8110.9571428571435,5545.6691904880172,0.46257500479277258]
[null,"IPK Equivalente",null,"passageiros/km",0.16576971086479386,1.2259,-0.86477713446056459]
[null,"Custo por Quilômetro",null,"R$/km",13.280082554620142,32.738432655831694,-0.59435802274869864]
[null,"Custo por Passageiro",null,"R$/passageiro",80.111634902058398,26.705630684257848,1.9998031444837481]
[null,"Coeficiente Tarifário",null,"R$/passageiro.km",0.31938630482491925,0.78736009273284502,-0.59435802274869864]
[]
[null,"Coeficientes Corrigidos"]
[null,"Pessoal de Administração",null,null,35.228599238249103,"%/pessoal de operação"]
[null,"Benefícios",null,null,0.28942609714943401,"% do PVNC/veículo.mês"]

{"sheet":"Insumos","index":2,"n_rows":434,"n_cols":11,"rows_kept":434,"cut":false,"hidden":false,"merged":[[30,1,30,4],[207,5,207,6],[295,5,295,6],[3,1,3,6],[7,1,8,6],[299,1,299,4],[118,1,118,4],[18,1,18,4],[21,1,21,4],[120,2,136,2],[120,3,120,4],[121,3,121,4],[122,3,122,4],[5,1,5,6],[20,1,20,4],[58,3,58,4],[59,3,59,4],[96,1,96,4],[28,1,28,4],[36,1,36,4],[26,1,26,4],[34,1,34,4],[41,1,41,4],[43,3,43,4],[133,3,133,4],[134,3,134,4],[43,1,63,1],[43,2,45,2],[168,3,168,4],[169,3,169,4],[46,2,48,2],[354,2,354,4],[148,3,148,4],[149,3,149,4],[153,3,153,4],[154,2,170,2],[154,3,154,4],[155,3,155,4],[156,3,156,4],[157,3,157,4],[158,3,158,4],[159,3,159,4],[160,3,160,4],[161,3,161,4],[162,3,162,4],[163,3,163,4],[164,3,164,4],[165,3,165,4],[74,3,74,4],[75,3,75,4],[76,3,76,4],[68,3,68,4],[128,3,128,4],[129,3,129,4],[130,3,130,4],[131,3,131,4],[132,3,132,4],[52,3,52,4],[61,3,61,4],[63,3,63,4],[50,3,50,4],[51,3,51,4],[49,2,51,2],[52,2,54,2],[58,2,63,2],[53,3,53,4],[54,3,54,4],[60,3,60,4],[188,2,204,2],[188,3,188,4],[189,3,189,4],[190,3,190,4],[191,3,191,4],[80,2,85,2],[80,3,80,4],[81,3,81,4],[82,3,82,4],[83,3,83,4],[85,3,85,4],[151,3,151,4],[172,3,172,4],[173,3,173,4],[174,3,174,4],[175,3,175,4],[176,3,176,4],[177,3,177,4],[178,3,178,4],[179,3,179,4],[186,3,186,4],[143,3,143,4],[144,3,144,4],[187,3,187,4],[171,2,187,2],[171,3,171,4],[181,3,181,4],[137,3,137,4],[138,3,138,4],[139,3,139,4],[140,3,140,4],[141,3,141,4],[150,3,150,4],[146,3,146,4],[147,3,147,4],[183,3,183,4],[152,3,152,4],[145,3,145,4],[182,3,182,4],[184,3,184,4],[185,3,185,4],[170,3,170,4],[180,3,180,4],[137,2,153,2],[142,3,142,4],[45,3,45,4],[46,3,46,4],[47,3,47,4],[123,3,123,4],[124,3,124,4],[125,3,125,4],[126,3,126,4],[127,3,127,4],[89,2,89,4],[91,2,91,4],[111,3,111,4],[112,3,112,4],[104,2,106,2],[107,2,109,2],[104,3,104,4],[105,3,105,4],[70,3,70,4],[71,2,73,2],[71,3,71,4],[72,3,72,4],[73,3,73,4],[74,2,76,2],[48,3,48,4],[49,3,49,4],[384,2,388,2],[389,2,393,2],[220,3,220,4],[221,3,221,4],[222,3,222,4],[223,3,223,4],[205,1,205,4],[206,1,206,4],[208,2,224,2],[208,3,208,4],[209,3,209,4],[210,3,210,4],[211,3,211,4],[212,3,212,4],[213,3,213,4],[301,1,301,4],[224,3,224,4],[376,3,376,4],[377,3,377,4],[374,2,378,2],[379,2,383,2],[356,2,356,4],[347,3,347,4],[350,3,350,4],[120,1,204,1],[208,1,292,1],[166,3,166,4],[167,3,167,4],[135,3,135,4],[136,3,136,4],[352,1,357,1],[379,3,379,4],[380,3,380,4],[355,2,355,4],[357,2,357,4],[352,2,352,4],[353,2,353,4],[359,1,393,1],[387,3,387,4],[389,3,389,4],[390,3,390,4],[391,3,391,4],[392,3,392,4],[384,3,384,4],[336,2,338,2],[385,3,385,4],[386,3,386,4],[348,3,348,4],[349,3,349,4],[339,2,341,2],[345,2,350,2],[381,3,381,4],[382,3,382,4],[359,3,361,3],[362,3,364,3],[365,3,367,3],[368,3,370,3],[371,3,373,3],[359,2,373,2],[374,3,374,4],[375,3,375,4],[345,3,345,4],[290,3,290,4],[291,3,291,4],[292,3,292,4],[286,3,286,4],[287,3,287,4],[342,2,344,2],[342,3,342,4],[343,3,343,4],[344,3,344,4],[341,3,341,4],[313,3,313,4],[314,3,314,4],[336,3,336,4],[335,3,335,4],[334,3,334,4],[331,3,331,4],[333,3,333,4],[326,3,326,4],[327,3,327,4],[329,3,329,4],[330,3,330,4],[332,3,332,4],[318,2,320,2],[324,2,329,2],[98,1,113,1],[113,2,113,4],[98,2,100,2],[101,2,103,2],[98,3,98,4],[99,3,99,4],[100,3,100,4],[303,3,303,4],[304,3,304,4],[259,2,275,2],[259,3,259,4],[260,3,260,4],[261,3,261,4],[262,3,262,4],[263,3,263,4],[264,3,264,4],[258,3,258,4],[242,2,258,2],[242,3,242,4],[247,3,247,4],[248,3,248,4],[249,3,249,4],[250,3,250,4],[251,3,251,4],[110,2,112,2],[110,3,110,4],[273,3,273,4],[254,3,254,4],[255,3,255,4],[256,3,256,4],[101,3,101,4],[102,3,102,4],[103,3,103,4],[106,3,106,4],[107,3,107,4],[108,3,108,4],[109,3,109,4],[266,3,266,4],[267,3,267,4],[268,3,268,4],[269,3,269,4],[270,3,270,4],[271,3,271,4],[272,3,272,4],[243,3,243,4],[244,3,244,4],[245,3,245,4],[246,3,246,4],[265,3,265,4],[293,1,293,4],[274,3,274,4],[275,3,275,4],[294,1,294,4],[309,1,329,1],[330,1,350,1],[319,3,319,4],[318,3,318,4],[317,3,317,4],[276,3,276,4],[277,3,277,4],[278,3,278,4],[306,1,306,4],[289,3,289,4],[309,2,311,2],[276,2,292,2],[279,3,279,4],[312,2,314,2],[315,2,317,2],[346,3,346,4],[340,3,340,4],[288,3,288,4],[307,1,307,4],[426,2,428,2],[425,3,425,4],[426,3,426,4],[427,3,427,4],[428,3,428,4],[404,3,404,4],[400,2,404,2],[396,1,404,1],[406,1,407,1],[406,2,406,4],[407,2,407,4],[398,2,398,4],[399,2,399,4],[400,3,400,4],[401,3,401,4],[402,3,402,4],[403,3,403,4],[396,2,396,4],[397,2,397,4],[429,3,429,4],[430,3,430,4],[431,3,431,4],[432,3,432,4],[429,2,432,2],[433,2,433,4],[411,1,433,1],[412,3,412,4],[413,3,413,4],[414,3,414,4],[415,3,415,4],[416,3,416,4],[417,3,417,4],[418,3,418,4],[419,3,419,4],[420,3,420,4],[421,3,421,4],[422,3,422,4],[423,3,423,4],[424,3,424,4],[411,2,414,2],[415,2,423,2],[411,3,411,4],[424,2,425,2],[1,1,1,6],[55,2,57,2],[55,3,55,4],[56,3,56,4],[57,3,57,4],[62,3,62,4],[84,3,84,4],[90,2,90,4],[77,2,79,2],[77,3,77,4],[78,3,78,4],[79,3,79,4],[86,1,91,1],[86,2,86,4],[87,2,87,4],[88,2,88,4],[65,1,85,1],[65,2,67,2],[65,3,65,4],[66,3,66,4],[67,3,67,4],[68,2,70,2],[69,3,69,4],[44,3,44,4],[219,3,219,4],[192,3,192,4],[193,3,193,4],[194,3,194,4],[195,3,195,4],[196,3,196,4],[197,3,197,4],[198,3,198,4],[200,3,200,4],[201,3,201,4],[214,3,214,4],[215,3,215,4],[216,3,216,4],[217,3,217,4],[218,3,218,4],[204,3,204,4],[199,3,199,4],[202,3,202,4],[203,3,203,4],[225,2,241,2],[230,3,230,4],[231,3,231,4],[280,3,280,4],[281,3,281,4],[282,3,282,4],[283,3,283,4],[284,3,284,4],[285,3,285,4],[238,3,238,4],[239,3,239,4],[240,3,240,4],[241,3,241,4],[252,3,252,4],[253,3,253,4],[257,3,257,4],[234,3,234,4],[232,3,232,4],[233,3,233,4],[225,3,225,4],[226,3,226,4],[227,3,227,4],[228,3,228,4],[229,3,229,4],[235,3,235,4],[236,3,236,4],[237,3,237,4],[303,1,305,2],[316,3,316,4],[339,3,339,4],[325,3,325,4],[324,3,324,4],[320,3,320,4],[315,3,315,4],[305,3,305,4],[330,2,332,2],[333,2,335,2],[309,3,309,4],[310,3,310,4],[311,3,311,4],[312,3,312,4],[338,3,338,4],[337,3,337,4],[321,2,323,2],[321,3,321,4],[322,3,322,4],[323,3,323,4],[328,3,328,4]]}
[]
[null,"Documento Preliminar Sujeito a Modificações"]
[]
[null,"GOVERNO DO ESTADO DO PARANÁ"]
[]
[null,"DEPARTAMENTO DE ESTRADAS DE RODAGEM"]
[]
[null,"ESTUDO DOS CUSTOS DO SERVIÇO RODOVIÁRIO DO SISTEMA DE TRANSPORTE PÚBLICO DE PASSAGEIROS DO ESTADO DO PARANÁ"]
[]
[]
[]
[]
[]
[]
[null,"1. DATA",null,null,null,null,"2024-06-01"]
[]
[null,"2. CUSTO E COEFICIENTE TARIFÁRIO VIGENTE"]
[]
[null,"RUBRICA",null,null,null,"UNIDADE","Valor"]
[]
[null,"CUSTO",null,null,null,"R$/km",{"$f":"Planilha!G1209","v":{"$error":"#DIV/0!"}}]
[null,"COEFICIENTE TARIFÁRIO",null,null,null,"R$/pass.km",{"$f":"Planilha!G1212","v":{"$error":"#DIV/0!"}}]
[]
[]
[null,"3. DEMANDA EQUIVALENTE MÉDIA MENSAL"]
[]
[null,"RUBRICA",null,null,null,"UNIDADE","Valor"]
[]
[null,"DEMANDA",null,null,null,"passageiros/mês"]
[]
[null,"OCUPAÇÃO MÉDIA",null,null,null,"passageiros/viagem"]
[]
[null,"4. PERCURSO MENSAL"]
[]
[null,"RUBRICA",null,null,null,"UNIDADE","Valor"]
[]
[null,"PERCURSO PRODUTIVO",null,null,null,"km/mês"]
[]
[]
[null,"5. FROTA"]
[]
[null,"RUBRICA",null,null,null,"UNIDADE",{"$f":"G35","v":"Valor"}]
[]
[null,"FROTA SEM AR CONDICIONADO","Micro-Ônibus","Modelo 1",null,"veículos",0]
[null,null,null,"Modelo 2",null,"veículos",0]
[null,null,null,"Modelo 3",null,"veículos",0]
[null,null,"Ônibus Convencional","Modelo 1",null,"veículos",0]
[null,null,null,"Modelo 2",null,"veículos",0]
[null,null,null,"Modelo 3",null,"veículos",0]
[null,null,"Ônibus Leito","Modelo 1",null,"veículos",0]
[null,null,null,"Modelo 2",null,"veículos",0]
[null,null,null,"Modelo 3",null,"veículos",0]
[null,null,"Ônibus Misto","Modelo 1",null,"veículos",0]
[null,null,null,"Modelo 2",null,"veículos",0]
[null,null,null,"Modelo 3",null,"veículos",0]
[null,null,"Outro","Modelo 1",null,"veículos",0]
[null,null,null,"Modelo 2",null,"veículos",0]
[null,null,null,"Modelo 3",null,"veículos",0]
[null,null,"Frota Total sem Ar Condicionado","Micro-Ônibus",null,"veículos",0]
[null,null,null,"Ônibus Leve",null,"veículos",0]
[null,null,null,"Ônibus Pesado",null,"veículos",0]
[null,null,null,"Ônibus Articulado",null,"veículos",0]
[null,null,null,"Ônibus Biarticulado",null,"veículos",0]
[null,null,null,"Total",null,"veículos",0]
[]
[null,"FROTA COM AR CONDICIONADO","Micro-Ônibus","Modelo 1",null,"veículos",0]
[null,"AR CONDICIONADO",null,"Modelo 2",null,"veículos",0]
[null,null,null,"Modelo 3",null,"veículos",0]
[null,null,"Ônibus Convencional","Modelo 1",null,"veículos",0]
[null,null,null,"Modelo 2",null,"veículos",0]
[null,null,null,"Modelo 3",null,"veículos",0]
[null,null,"Ônibus Leito","Modelo 1",null,"veículos",0]
[null,null,null,"Modelo 2",null,"veículos",0]
[null,null,null,"Modelo 3",null,"veículos",0]
[null,null,"Ônibus Misto","Modelo 1",null,"veículos",0]
[null,null,null,"Modelo 2",null,"veículos",0]
[null,null,null,"Modelo 3",null,"veículos",0]
[null,null,"Outro","Modelo 1",null,"veículos",0]
[null,null,null,"Modelo 2",null,"veículos",0]
[null,null,null,"Modelo 3",null,"veículos",0]
[null,null,"Frota Total com Ar Condicionado","Micro-Ônibus",null,"veículos",{"$f":"SUM(G66:G68)","v":0}]
[null,null,"Ar Condicionado","Ônibus Convencional",null,"veículos",{"$f":"SUM(G69:G71)","v":0}]
[null,null,null,"Ônibus Leito",null,"veículos",{"$f":"SUM(G72:G74)","v":0}]
[null,null,null,"Ônibus Misto",null,"veículos",{"$f":"SUM(G75:G77)","v":0}]
[null,null,null,"Outro",null,"veículos",{"$f":"SUM(G78:G80)","v":0}]
[null,null,null,"Total",null,"veículos",{"$f":"SUM(G81:G85)","v":0}]
[null,"FROTA TOTAL","Micro-Ônibus",null,null,"veículos",{"$f":"G59+G81","v":0}]
[null,null,"Ônibus Convencional",null,null,"veículos",{"$f":"G60+G82","v":0}]
[null,null,"Ônibus Leito",null,null,"veículos",0]
[null,null,"Ônibus Misto",null,null,"veículos",0]
[null,null,"Outro",null,null,"veículos",0]
[null,null,"TOTAL",null,null,"veículos",{"$f":"SUM(G87:G91)","v":0}]
[]
[]
[null,"6. PNEUS"]
[]
[null,"RUBRICA",null,null,null,"UNIDADE","Valor"]
[]
[null,"QUANTIDADE PNEUS","Micro-Ônibus","Modelo Padrão",null,"unidades",{"$f":"SUM(G44:G46,G66:G68)*6","v":0}]
[null,null,null,null,null,"unidades"]
[null,null,null,null,null,"unidades"]
[null,null,"Ônibus Convencional","Modelo Padrão",null,"unidades",{"$f":"SUM(G47:G49,G69:G71)*6","v":0}]
[null,null,null,null,null,"unidades"]
[null,null,null,null,null,"unidades"]
[null,null,"Ônibus Leito","Modelo Padrão",null,"unidades",{"$f":"SUM(G50:G52,G72:G74)*6","v":0}]
[null,null,null,null,null,"unidades"]
[null,null,null,null,null,"unidades"]
[null,null,"Ônibus Misto","Modelo Padrão",null,"unidades",{"$f":"SUM(G53:G55,G75:G77)*10","v":0}]
[null,null,null,null,null,"unidades"]
[null,null,null,null,null,"unidades"]
[null,null,"Outro","Modelo Padrão",null,"unidades",{"$f":"SUM(G56:G58,G78:G80)*14","v":0}]
[null,null,null,null,null,"unidades"]
[null,null,null,null,null,"unidades"]
[null,null,"Total",null,null,"unidades",{"$f":"SUM(G99:G113)","v":0}]
[]
[]
[null,"7. DISTRIBUIÇÃO ETÁRIA DA FROTA"]
[]
[null,"RUBRICA",null,null,null,"UNIDADE","Valor"]
[]
[null,"FROTA SEM AR CONDICIONADO","Micro-Ônibus","0 a 1 ano",null,"veículos",0,null,null,1,{"$f":"G121*J121","v":0}]
[null,null,null,"1 a 2 anos",null,"veículos",0,null,null,{"$f":"1+J121","v":2},{"$f":"G122*J122","v":0}]
[null,null,null,"2 a 3 anos",null,"veículos",0,null,null,{"$f":"1+J122","v":3},{"$f":"G123*J123","v":0}]
[null,null,null,"3 a 4 anos",null,"veículos",0,null,null,4,0]
[null,null,null,"4 a 5 anos",null,"veículos",0,null,null,5,0]
[null,null,null,"5 a 6 anos",null,"veículos",0,null,null,6,0]
[null,null,null,"6 a 7 anos",null,"veículos",0,null,null,7,0]
[null,null,null,"7 a 8 anos",null,"veículos",0,null,null,8,0]
[null,null,null,"8 a 9 anos",null,"veículos",0,null,null,9,0]
[null,null,null,"9 a 10 anos",null,"veículos",0,null,null,10,0]
[null,null,null,"10 a 11 anos",null,"veículos",0,null,null,11,0]
[null,null,null,"11 a 12 anos",null,"veículos",0,null,null,12,0]
[null,null,null,"12 a 13 anos",null,"veículos",0,null,null,13,0]
[null,null,null,"13 a 14 anos",null,"veículos",0,null,null,14,0]
[null,null,null,"14 a 15 anos",null,"veículos",0,null,null,15,0]
[null,null,null,"+ de 15 anos",null,"veículos",0,null,null,16,0]
[null,null,null,"Total",null,"veículos",{"$f":"SUM(G121:G136)","v":0}]
[null,null,"Ônibus Convencional","0 a 1 ano",null,"veículos",0,null,null,{"$f":"1+J137","v":1},{"$f":"G138*J138","v":0}]
[null,null,null,"1 a 2 anos",null,"veículos",0,null,null,2,0]
[null,null,null,"2 a 3 anos",null,"veículos",0,null,null,3,0]
[null,null,null,"3 a 4 anos",null,"veículos",0,null,null,4,0]
[null,null,null,"4 a 5 anos",null,"veículos",0,null,null,5,0]
[null,null,null,"5 a 6 anos",null,"veículos",0,null,null,6,0]
[null,null,null,"6 a 7 anos",null,"veículos",0,null,null,7,0]
[null,null,null,"7 a 8 anos",null,"veículos",0,null,null,8,0]
[null,null,null,"8 a 9 anos",null,"veículos",0,null,null,9,0]
[null,null,null,"9 a 10 anos",null,"veículos",0,null,null,10,0]
[null,null,null,"10 a 11 anos",null,"veículos",0,null,null,11,0]
[null,null,null,"11 a 12 anos",null,"veículos",0,null,null,12,0]
[null,null,null,"12 a 13 anos",null,"veículos",0,null,null,13,0]
[null,null,null,"13 a 14 anos",null,"veículos",0,null,null,14,0]
[null,null,null,"14 a 15 anos",null,"veículos",0,null,null,15,0]
[null,null,null,"+ de 15 anos",null,"veículos",0,null,null,16,0]
[null,null,null,"Total",null,"veículos",{"$f":"SUM(G138:G153)","v":0}]
[null,null,"Ônibus Leito","0 a 1 ano",null,"veículos",0,null,null,{"$f":"1+J154","v":1},{"$f":"G155*J155","v":0}]
[null,null,null,"1 a 2 anos",null,"veículos",0,null,null,2,0]
[null,null,null,"2 a 3 anos",null,"veículos",0,null,null,3,0]
[null,null,null,"3 a 4 anos",null,"veículos",0,null,null,4,0]
[null,null,null,"4 a 5 anos",null,"veículos",0,null,null,5,0]
[null,null,null,"5 a 6 anos",null,"veículos",0,null,null,6,0]
[null,null,null,"6 a 7 anos",null,"veículos",0,null,null,7,0]
[null,null,null,"7 a 8 anos",null,"veículos",0,null,null,8,0]
[null,null,null,"8 a 9 anos",null,"veículos",0,null,null,9,0]
[null,null,null,"9 a 10 anos",null,"veículos",0,null,null,10,0]
[null,null,null,"10 a 11 anos",null,"veículos",0,null,null,11,0]
[null,null,null,"11 a 12 anos",null,"veículos",0,null,null,12,0]
[null,null,null,"12 a 13 anos",null,"veículos",0,null,null,13,0]
[null,null,null,"13 a 14 anos",null,"veículos",0,null,null,14,0]
[null,null,null,"14 a 15 anos",null,"veículos",0,null,null,15,0]
[null,null,null,"+ de 15 anos",null,"veículos",0,null,null,16,0]
[null,null,null,"Total",null,"veículos",{"$f":"SUM(G155:G170)","v":0}]
[null,null,"Ônibus Misto","0 a 1 ano",null,"veículos",0,null,null,{"$f":"1+J171","v":1},{"$f":"G172*J172","v":0}]
[null,null,null,"1 a 2 anos",null,"veículos",0,null,null,2,0]
[null,null,null,"2 a 3 anos",null,"veículos",0,null,null,3,0]
[null,null,null,"3 a 4 anos",null,"veículos",0,null,null,4,0]
[null,null,null,"4 a 5 anos",null,"veículos",0,null,null,5,0]
[null,null,null,"5 a 6 anos",null,"veículos",0,null,null,6,0]
[null,null,null,"6 a 7 anos",null,"veículos",0,null,null,7,0]
[null,null,null,"7 a 8 anos",null,"veículos",0,null,null,8,0]
[null,null,null,"8 a 9 anos",null,"veículos",0,null,null,9,0]
[null,null,null,"9 a 10 anos",null,"veículos",0,null,null,10,0]
[null,null,null,"10 a 11 anos",null,"veículos",0,null,null,11,0]
[null,null,null,"11 a 12 anos",null,"veículos",0,null,null,12,0]
[null,null,null,"12 a 13 anos",null,"veículos",0,null,null,13,0]
[null,null,null,"13 a 14 anos",null,"veículos",0,null,null,14,0]
[null,null,null,"14 a 15 anos",null,"veículos",0,null,null,15,0]
[null,null,null,"+ de 15 anos",null,"veículos",0,null,null,16,0]
[null,null,null,"Total",null,"veículos",{"$f":"SUM(G172:G187)","v":0}]
[null,null,"Outro","0 a 1 ano",null,"veículos",0,null,null,{"$f":"1+J188","v":1},{"$f":"G189*J189","v":0}]
[null,null,null,"1 a 2 anos",null,"veículos",0,null,null,2,0]
[null,null,null,"2 a 3 anos",null,"veículos",0,null,null,3,0]
[null,null,null,"3 a 4 anos",null,"veículos",0,null,null,4,0]
[null,null,null,"4 a 5 anos",null,"veículos",0,null,null,5,0]
[null,null,null,"5 a 6 anos",null,"veículos",0,null,null,6,0]
[null,null,null,"6 a 7 anos",null,"veículos",0,null,null,7,0]
[null,null,null,"7 a 8 anos",null,"veículos",0,null,null,8,0]
[null,null,null,"8 a 9 anos",null,"veículos",0,null,null,9,0]
[null,null,null,"9 a 10 anos",null,"veículos",0,null,null,10,0]
[null,null,null,"10 a 11 anos",null,"veículos",0,null,null,11,0]
[null,null,null,"11 a 12 anos",null,"veículos",0,null,null,12,0]
[null,null,null,"12 a 13 anos",null,"veículos",0,null,null,13,0]
[null,null,null,"13 a 14 anos",null,"veículos",0,null,null,14,0]
[null,null,null,"14 a 15 anos",null,"veículos",0,null,null,15,0]
[null,null,null,"+ de 15 anos",null,"veículos",0,null,null,16,0]
[null,null,null,"Total",null,"veículos",{"$f":"SUM(G189:G204)","v":0}]
[null,"FROTA TOTAL SEM AR CONDICIONADO",null,null,null,"veículos",{"$f":"G188+G171+G154+G137+G205","v":0}]
[null,"FROTA OPERANTE SEM AR CONDICIONADO",null,null,null,"veículos",{"$f":"ROUND((1-Coeficientes!F20/100)*G206,0)","v":0}]
[null,null,null,null,null,{"$f":"IF(G206=G64,\"  \",\"Verificar Frota sem Ar Condicionado\")","v":"  "}]
[null,"FROTA COM AR CONDICIONADO","Micro-Ônibus","0 a 1 ano",null,"veículos",0,null,null,{"$f":"1+J208","v":1},{"$f":"G209*J209","v":0}]
[null,null,null,"1 a 2 anos",null,"veículos",0,null,null,2,0]
[null,null,null,"2 a 3 anos",null,"veículos",0,null,null,3,0]
[null,null,null,"3 a 4 anos",null,"veículos",0,null,null,4,0]
[null,null,null,"4 a 5 anos",null,"veículos",0,null,null,5,0]
[null,null,null,"5 a 6 anos",null,"veículos",0,null,null,6,0]
[null,null,null,"6 a 7 anos",null,"veículos",0,null,null,7,0]
[null,null,null,"7 a 8 anos",null,"veículos",0,null,null,8,0]
[null,null,null,"8 a 9 anos",null,"veículos",0,null,null,9,0]
[null,null,null,"9 a 10 anos",null,"veículos",0,null,null,10,0]
[null,null,null,"10 a 11 anos",null,"veículos",0,null,null,11,0]
[null,null,null,"11 a 12 anos",null,"veículos",0,null,null,12,0]
[null,null,null,"12 a 13 anos",null,"veículos",0,null,null,13,0]
[null,null,null,"13 a 14 anos",null,"veículos",0,null,null,14,0]
[null,null,null,"14 a 15 anos",null,"veículos",0,null,null,15,0]
[null,null,null,"+ de 15 anos",null,"veículos",0,null,null,16,0]
[null,null,null,"Total",null,"veículos",{"$f":"SUM(G209:G224)","v":0}]
[null,null,"Ônibus Convencional","0 a 1 ano",null,"veículos",0,null,null,{"$f":"1+J225","v":1},{"$f":"G226*J226","v":0}]
[null,null,null,"1 a 2 anos",null,"veículos",0,null,null,2,0]
[null,null,null,"2 a 3 anos",null,"veículos",0,null,null,3,0]
[null,null,null,"3 a 4 anos",null,"veículos",0,null,null,4,0]
[null,null,null,"4 a 5 anos",null,"veículos",0,null,null,5,0]
[null,null,null,"5 a 6 anos",null,"veículos",0,null,null,6,0]
[null,null,null,"6 a 7 anos",null,"veículos",0,null,null,7,0]
[null,null,null,"7 a 8 anos",null,"veículos",0,null,null,8,0]
[null,null,null,"8 a 9 anos",null,"veículos",0,null,null,9,0]
[null,null,null,"9 a 10 anos",null,"veículos",0,null,null,10,0]
[null,null,null,"10 a 11 anos",null,"veículos",0,null,null,11,0]
[null,null,null,"11 a 12 anos",null,"veículos",0,null,null,12,0]
[null,null,null,"12 a 13 anos",null,"veículos",0,null,null,13,0]
[null,null,null,"13 a 14 anos",null,"veículos",0,null,null,14,0]
[null,null,null,"14 a 15 anos",null,"veículos",0,null,null,15,0]
[null,null,null,"+ de 15 anos",null,"veículos",0,null,null,16,0]
[null,null,null,"Total",null,"veículos",{"$f":"SUM(G226:G241)","v":0}]
[null,null,"Ônibus Leito","0 a 1 ano",null,"veículos",0,null,null,{"$f":"1+J242","v":1},{"$f":"G243*J243","v":0}]
[null,null,null,"1 a 2 anos",null,"veículos",0,null,null,2,0]
[null,null,null,"2 a 3 anos",null,"veículos",0,null,null,3,0]
[null,null,null,"3 a 4 anos",null,"veículos",0,null,null,4,0]
[null,null,null,"4 a 5 anos",null,"veículos",0,null,null,5,0]
[null,null,null,"5 a 6 anos",null,"veículos",0,null,null,6,0]
[null,null,null,"6 a 7 anos",null,"veículos",0,null,null,7,0]
[null,null,null,"7 a 8 anos",null,"veículos",0,null,null,8,0]
[null,null,null,"8 a 9 anos",null,"veículos",0,null,null,9,0]
[null,null,null,"9 a 10 anos",null,"veículos",0,null,null,10,0]
[null,null,null,"10 a 11 anos",null,"veículos",0,null,null,11,0]
[null,null,null,"11 a 12 anos",null,"veículos",0,null,null,12,0]
[null,null,null,"12 a 13 anos",null,"veículos",0,null,null,13,0]
[null,null,null,"13 a 14 anos",null,"veículos",0,null,null,14,0]
[null,null,null,"14 a 15 anos",null,"veículos",0,null,null,15,0]
[null,null,null,"+ de 15 anos",null,"veículos",0,null,null,16,0]
[null,null,null,"Total",null,"veículos",{"$f":"SUM(G243:G258)","v":0}]
[null,null,"Ônibus Misto","0 a 1 ano",null,"veículos",0,null,null,{"$f":"1+J259","v":1},{"$f":"G260*J260","v":0}]
[null,null,null,"1 a 2 anos",null,"veículos",0,null,null,2,0]
[null,null,null,"2 a 3 anos",null,"veículos",0,null,null,3,0]
[null,null,null,"3 a 4 anos",null,"veículos",0,null,null,4,0]
[null,null,null,"4 a 5 anos",null,"veículos",0,null,null,5,0]
[null,null,null,"5 a 6 anos",null,"veículos",0,null,null,6,0]
[null,null,null,"6 a 7 anos",null,"veículos",0,null,null,7,0]
[null,null,null,"7 a 8 anos",null,"veículos",0,null,null,8,0]
[null,null,null,"8 a 9 anos",null,"veículos",0,null,null,9,0]
[null,null,null,"9 a 10 anos",null,"veículos",0,null,null,10,0]
[null,null,null,"10 a 11 anos",null,"veículos",0,null,null,11,0]
[null,null,null,"11 a 12 anos",null,"veículos",0,null,null,12,0]
[null,null,null,"12 a 13 anos",null,"veículos",0,null,null,13,0]
[null,null,null,"13 a 14 anos",null,"veículos",0,null,null,14,0]
[null,null,null,"14 a 15 anos",null,"veículos",0,null,null,15,0]
[null,null,null,"+ de 15 anos",null,"veículos",0,null,null,16,0]
[null,null,null,"Total",null,"veículos",{"$f":"SUM(G260:G275)","v":0}]
[null,null,"Outro","0 a 1 ano",null,"veículos",0,null,null,{"$f":"1+J276","v":1},{"$f":"G277*J277","v":0}]
[null,null,null,"1 a 2 anos",null,"veículos",0,null,null,2,0]
[null,null,null,"2 a 3 anos",null,"veículos",0,null,null,3,0]
[null,null,null,"3 a 4 anos",null,"veículos",0,null,null,4,0]
[null,null,null,"4 a 5 anos",null,"veículos",0,null,null,5,0]
[null,null,null,"5 a 6 anos",null,"veículos",0,null,null,6,0]
[null,null,null,"6 a 7 anos",null,"veículos",0,null,null,7,0]
[null,null,null,"7 a 8 anos",null,"veículos",0,null,null,8,0]
[null,null,null,"8 a 9 anos",null,"veículos",0,null,null,9,0]
[null,null,null,"9 a 10 anos",null,"veículos",0,null,null,10,0]
[null,null,null,"10 a 11 anos",null,"veículos",0,null,null,11,0]
[null,null,null,"11 a 12 anos",null,"veículos",0,null,null,12,0]
[null,null,null,"12 a 13 anos",null,"veículos",0,null,null,13,0]
[null,null,null,"13 a 14 anos",null,"veículos",0,null,null,14,0]
[null,null,null,"14 a 15 anos",null,"veículos",0,null,null,15,0]
[null,null,null,"+ de 15 anos",null,"veículos",0,null,null,16,0]
[null,null,null,"Total",null,"veículos",{"$f":"SUM(G277:G292)","v":0}]
[null,"FROTA TOTAL COM AR CONDICIONADO",null,null,null,"veículos",{"$f":"G276+G259+G242+G225+G293","v":0}]
[null,"FROTA OPERANTE COM AR CONDICIONADO",null,null,null,"veículos",{"$f":"ROUND((1-Coeficientes!F20/100)*G294,0)","v":0},null,null,{"$f":"SUM(K121:K292)/(G92)","v":{"$error":"#DIV/0!"}},"Idade Média"]
[null,null,null,null,null,{"$f":"IF(G86=G294,\"  \",\"Verificar Frota com Ar Condicionado\")","v":"  "}]
[]
[null,"8. PREÇO DOS INSUMOS"]
[]
[null,"RUBRICA",null,null,null,"UNIDADE","Valor"]
[]
[null,"PREÇO DE UM LITRO DE COMBUSTÍVEL",null,null,null,"R$/litro",0]
[]
[null,"SALÁRIO MÉDIO MENSAL",null,"Motorista",null,"R$/mês",0]
[null,null,null,"Cobrador",null,"R$/mês",0]
[null,null,null,"Fiscal/Despachante",null,"R$/mês",0]
[null,"BENEFÍCIO MENSAL TOTAL",null,null,null,"R$/mês",0]
[null,"REMUNERAÇÃO MENSAL DE DIRETORIA",null,null,null,"R$/mês",0]
[]
[null,"PREÇO DO VEÍCULO NOVO COMPLETO SEM AR CONDICIONADO","Micro-Ônibus","Modelo 1",null,"R$/veículo",0]
[null,null,null,"Modelo 2",null,"R$/veículo",0]
[null,null,null,"Modelo 3",null,"R$/veículo",0]
[null,null,"Ônibus Convencional","Modelo 1",null,"R$/veículo",0]
[null,null,null,"Modelo 2",null,"R$/veículo",0]
[null,null,null,"Modelo 3",null,"R$/veículo",0]
[null,null,"Ônibus Leito","Modelo 1",null,"R$/veículo",0]
[null,null,null,"Modelo 2",null,"R$/veículo",0]
[null,null,null,"Modelo 3",null,"R$/veículo",0]
[null,null,"Ônibus Misto","Modelo 1",null,"R$/veículo",0]
[null,null,null,"Modelo 2",null,"R$/veículo",0]
[null,null,null,"Modelo 3",null,"R$/veículo",0]
[null,null,"Outro","Modelo 1",null,"R$/veículo",0]
[null,null,null,"Modelo 2",null,"R$/veículo",0]
[null,null,null,"Modelo 3",null,"R$/veículo",0]
[null,null,"Preço Ponderado","Micro-Ônibus",null,"R$/veículo",{"$f":"IF(G59=0,0,SUMPRODUCT(G44:G46,G310:G312)/G59)","v":0}]
[null,null,null,"Ônibus Leve",null,"R$/veículo",{"$f":"IF(G60=0,0,SUMPRODUCT(G47:G49,G313:G315)/G60)","v":0}]
[null,null,null,"Ônibus Pesado",null,"R$/veículo",{"$f":"IF(G61=0,0,SUMPRODUCT(G50:G52,G316:G318)/G61)","v":0}]
[null,null,null,"Ônibus Articulado",null,"R$/veículo",{"$f":"IF(G62=0,0,SUMPRODUCT(G53:G55,G319:G321)/G62)","v":0}]
[null,null,null,"Ônibus Bi-Articulado",null,"R$/veículo",{"$f":"IF(G62=0,0,SUMPRODUCT(G56:G58,G322:G324)/G63)","v":0}]
[null,null,null,"Preço Ponderado",null,"R$/veículo",{"$f":"IF(G64=0,0,SUMPRODUCT(G59:G63,G325:G329)/G64)","v":0}]
[null,"PREÇO DO VEÍCULO NOVO COMPLETO COM AR CONDICIONADO","Micro-Ônibus","Modelo 1",null,"R$/veículo",0]
[null,null,null,"Modelo 2",null,"R$/veículo",0]
[null,null,null,"Modelo 3",null,"R$/veículo",0]
[null,null,"Ônibus Convencional","Modelo 1",null,"R$/veículo",0]
[null,null,null,"Modelo 2",null,"R$/veículo",0]
[null,null,null,"Modelo 3",null,"R$/veículo",0]
[null,null,"Ônibus Leito","Modelo 1",null,"R$/veículo",0]
[null,null,null,"Modelo 2",null,"R$/veículo",0]
[null,null,null,"Modelo 3",null,"R$/veículo",0]
[null,null,"Ônibus Misto","Modelo 1",null,"R$/veículo",0]
[null,null,null,"Modelo 2",null,"R$/veículo",0]
[null,null,null,"Modelo 3",null,"R$/veículo",0]
[null,null,"Outro","Modelo 1",null,"R$/veículo",0]
[null,null,null,"Modelo 2",null,"R$/veículo",0]
[null,null,null,"Modelo 3",null,"R$/veículo",0]
[null,null,"Preço Ponderado","Micro-Ônibus",null,"R$/veículo",{"$f":"IF(G81=0,0,SUMPRODUCT(G66:G68,G331:G333)/G81)","v":0}]
[null,null,null,"Ônibus Leve",null,"R$/veículo",{"$f":"IF(G82=0,0,SUMPRODUCT(G69:G71,G334:G336)/G82)","v":0}]
[null,null,null,"Ônibus Pesado",null,"R$/veículo",{"$f":"IF(G83=0,0,SUMPRODUCT(G72:G74,G337:G339)/G83)","v":0}]
[null,null,null,"Ônibus Articulado",null,"R$/veículo",{"$f":"IF(G84=0,0,SUMPRODUCT(G75:G77,G340:G342)/G84)","v":0}]
[null,null,null,"Ônibus Bi-Articulado",null,"R$/veículo",{"$f":"IF(G85=0,0,SUMPRODUCT(G78:G80,G343:G345)/G85)","v":0}]
[null,null,null,"Preço Ponderado",null,"R$/veículo",{"$f":"IF(G86=0,0,SUMPRODUCT(G81:G85,G346:G350)/G86)","v":0}]
[]
[null,"PREÇO DO VEÍCULO NOVO COMPLETO","Micro-Ônibus",null,null,"R$/veículo",{"$f":"IF((G81+G59)=0,0,(G81*G346+G59*G325)/(G81+G59))","v":0}]
[null,null,"Ônibus Convencional",null,null,"R$/veículo",{"$f":"IF((G82+G60)=0,0,(G82*G347+G60*G326)/(G82+G60))","v":0}]
[null,null,"Ônibus Leito",null,null,"R$/veículo",{"$f":"IF((G83+G61)=0,0,(G83*G348+G61*G327)/(G83+G61))","v":0}]
[null,null,"Ônibus Misto",null,null,"R$/veículo",{"$f":"IF((G84+G62)=0,0,(G84*G349+G62*G328)/(G84+G62))","v":0}]
[null,null,"Outro",null,null,"R$/veículo",{"$f":"IF((G85+G63)=0,0,(G85*G350+G63*G329)/(G85+G63))","v":0}]
[null,null,"Preço Ponderado",null,null,"R$/veículo",{"$f":"IF((G86+G64)=0,0,(G86*G351+G64*G330)/(G86+G64))","v":0}]
[]
[null,"PREÇO DA RODAGEM","Preço Unitário do Pneu","Micro-Ônibus","Modelo 1","R$/veículo",0]
[null,null,null,null,"Modelo 2","R$/veículo",0]
[null,null,null,null,"Modelo 3","R$/veículo",0]
[null,null,null,"Ônibus Convencional","Modelo 1","R$/veículo",0]
[null,null,null,null,"Modelo 2","R$/veículo",0]
[null,null,null,null,"Modelo 3","R$/veículo",0]
[null,null,null,"Ônibus Leito","Modelo 1","R$/veículo",0]
[null,null,null,null,"Modelo 2","R$/veículo",0]
[null,null,null,null,"Modelo 3","R$/veículo",0]
[null,null,null,"Ônibus Misto","Modelo 1","R$/veículo",0]
[null,null,null,null,"Modelo 2","R$/veículo",0]
[null,null,null,null,"Modelo 3","R$/veículo",0]
[null,null,null,"Outro","Modelo 1","R$/veículo",0]
[null,null,null,null,"Modelo 2","R$/veículo",0]
[null,null,null,null,"Modelo 3","R$/veículo",0]
[null,null,"Preço Médio do Pneu","Micro-Ônibus",null,"R$/unidade",{"$f":"IF(SUM(G99:G101)=0,0,SUMPRODUCT(G99:G101,G360:G362)/SUM(G99:G101))","v":0}]
[null,null,null,"Ônibus Convencional",null,"R$/unidade",{"$f":"IF(SUM(G102:G104)=0,0,SUMPRODUCT(G102:G104,G363:G365)/SUM(G102:G104))","v":0}]
[null,null,null,"Ônibus Leito",null,"R$/unidade",{"$f":"IF(SUM(G105:G107)=0,0,SUMPRODUCT(G105:G107,G366:G368)/SUM(G105:G107))","v":0}]
[null,null,null,"Ônibus Misto",null,"R$/unidade",{"$f":"IF(SUM(G108:G110)=0,0,SUMPRODUCT(G108:G110,G369:G371)/SUM(G108:G110))","v":0}]
[null,null,null,"Outro",null,"R$/unidade",{"$f":"IF(SUM(G111:G113)=0,0,SUMPRODUCT(G109:G111,G370:G372)/SUM(G111:G113))","v":0}]
[null,null,"Preço Médio da Recapagem","Micro-Ônibus",null,"R$/unidade",0]
[null,null,null,"Ônibus Convencional",null,"R$/unidade",0]
[null,null,null,"Ônibus Leito",null,"R$/unidade",0]
[null,null,null,"Ônibus Misto",null,"R$/unidade",0]
[null,null,null,"Outro",null,"R$/unidade",0]
[null,null,"Preço Médio da Câmara","Micro-Ônibus",null,"R$/unidade",0]
[null,null,null,"Ônibus Convencional",null,"R$/unidade",0]
[null,null,null,"Ônibus Leito",null,"R$/unidade",0]
[null,null,null,"Ônibus Misto",null,"R$/unidade",0]
[null,null,null,"Outro",null,"R$/unidade",0]
[null,null,"Preço Médio do Protetor","Micro-Ônibus",null,"R$/unidade",0]
[null,null,null,"Ônibus Convencional",null,"R$/unidade",0]
[null,null,null,"Ônibus Leito",null,"R$/unidade",0]
[null,null,null,"Ônibus Misto",null,"R$/unidade",0]
[null,null,null,"Outro",null,"R$/unidade",0]
[]
[]
[null,"VALOR DE OUTROS ATIVOS NOVOS","Edificações",null,null,"R$",0]
[null,null,"Equipamentos de Garagem",null,null,"R$",0]
[null,null,"Equipamentos de Bilhetagem Eletrônica e ITS",null,null,"R$",0]
[null,null,"Outras Máquinas e Equipamentos",null,null,"R$",0]
[null,null,"Veículos de Apoio","Caminhão-oficina",null,"R$",0]
[null,null,null,"Caminhão-guincho",null,"R$",0]
[null,null,null,"Caminhoneta",null,"R$",0]
[null,null,null,"Automóvel Básico",null,"R$",0]
[null,null,null,"Motocicleta",null,"R$",0]
[]
[null,"OUTROS INVESTIMENTOS","Outorga",null,null,"R$",0]
[null,null,"Investimento em Terminal e Infraestrutura",null,null,"R$",0]
[]
[null,"9. DESPESAS ADMINISTRATIVAS"]
[]
[null,"DESPESAS ADMINISTRATIVAS MENSAIS TOTAIS","Serviços","Serviços de Bilhetagem Eletrônica - SBE",null,"R$/mês",0]
[null,null,null,"Serviços de Atendimento ao Passageiro - SAC",null,"R$/mês",0]
[null,null,null,"Serviços Especiais",null,"R$/mês",0]
[null,null,null,"Serviço de Manutenção de Abrigos e Terminais",null,"R$/mês",0]
[null,null,"Despesas Administrativas Gerais","Veículo de Apoio",null,"R$/mês",0]
[null,null,null,"Treinamento",null,"R$/mês",0]
[null,null,null,"Atualização Tecnológica",null,"R$/mês",0]
[null,null,null,"Assessoria Técnica",null,"R$/mês",0]
[null,null,null,"Manutenção e Segurança",null,"R$/mês",0]
[null,null,null,"Serviço de Utilidade Pública",null,"R$/mês",0]
[null,null,null,"Representação Viagens e Estadias",null,"R$/mês",0]
[null,null,null,"Material de Consumo",null,"R$/mês",0]
[null,null,null,"Outras Despesas Administrativas",null,"R$/mês",{"$f":"0.010914*G334","v":0}]
[null,null,"Encargos Financeiros","Juros Pagos",null,"R$/mês",0]
[null,null,null,"Despesas Bancárias",null,"R$/mês",0]
[null,null,"Outros Custos Operacionais","Higienizacão e Limpeza de Veículos",null,"R$/mês",0]
[null,null,null,"Conserto de Pneus",null,"R$/mês",0]
[null,null,null,"Vistoria do Poder Concedente",null,"R$/mês",0]
[null,null,"GRIS - Gerenciamento de Riscos","Despesa Mensal com o Seguro Responsabilidade Civil",null,"R$/mês",0]
[null,null,null,"Despesa Mensal com o Seguro Obrigatório",null,"R$/mês",0]
[null,null,null,"Despesa Mensal com Emplacamento",null,"R$/mês",0]
[null,null,null,"Despesa Mensal com o IPVA",null,"R$/mês",0]
[null,null,"Receita Complementar",null,null,"R$/mês",0]

{"sheet":"Coeficientes","index":3,"n_rows":266,"n_cols":7,"rows_kept":266,"cut":false,"hidden":false,"merged":[[253,6,254,6],[10,1,10,6],[13,1,13,6],[18,1,18,4],[19,1,19,4],[35,1,35,4],[37,1,37,4],[133,2,133,4],[134,2,134,4],[140,3,140,4],[141,3,141,4],[142,2,142,4],[176,3,191,3],[133,1,142,1],[237,2,237,4],[228,2,228,4],[236,2,236,4],[225,1,225,4],[227,1,237,1],[227,2,227,4],[253,5,254,5],[229,2,229,4],[230,2,230,4],[231,2,235,2],[231,3,231,4],[232,3,232,4],[233,3,233,4],[234,3,234,4],[235,3,235,4],[238,1,238,4],[240,1,247,1],[243,2,243,4],[244,2,244,4],[245,2,245,4],[246,2,246,4],[247,2,247,4],[240,2,242,2],[240,3,240,4],[241,3,241,4],[242,3,242,4],[264,1,264,4],[265,1,265,4],[249,1,249,4],[251,1,251,4],[259,1,259,4],[260,1,260,4],[261,1,261,4],[253,1,254,4],[262,1,262,4],[263,1,263,4],[208,3,223,3],[144,1,223,2],[1,1,1,6],[24,3,28,3],[29,3,33,3],[24,1,33,2],[39,3,43,3],[135,2,135,4],[136,2,136,4],[137,2,141,2],[192,3,207,3],[137,3,137,4],[138,3,138,4],[139,3,139,4],[144,3,159,3],[160,3,175,3],[3,1,3,6],[5,1,5,6],[7,1,8,6],[84,3,99,3],[116,3,131,3],[52,1,131,2],[100,3,115,3],[46,3,46,4],[47,1,47,4],[39,1,46,2],[52,3,67,3],[68,3,83,3],[44,3,44,4],[45,3,45,4]]}
[]
[null,"Documento Preliminar Sujeito a Modificações"]
[]
[null,"GOVERNO DO ESTADO DO PARANÁ"]
[]
[null,"DEPARTAMENTO DE ESTRADAS DE RODAGEM"]
[]
[null,"ESTUDO DOS CUSTOS DO SERVIÇO RODOVIÁRIO DO SISTEMA DE TRANSPORTE PÚBLICO DE PASSAGEIROS DO ESTADO DO PARANÁ"]
[]
[]
[null,{"$f":"Insumos!G15","v":"2024-06-01"}]
[]
[]
[null,"COEFICIENTES"]
[]
[]
[null,"1. DADOS OPERACIONAIS"]
[]
[null,"COEFICIENTE DE PERCURSO IMPRODUTIVO",null,null,null,5,"% do percurso total"]
[null,"COEFICIENTE DE FROTA OPERANTE",null,null,null,10,"% da frota total"]
[]
[]
[null,"2. CUSTOS VARIÁVEIS"]
[]
[null,"COEFICIENTE DE CONSUMO DE COMBUSTÍVEL",null,"Sem Ar Condicionado","Micro-Ônibus",null,"litros/km"]
[null,null,null,null,"Ônibus Convencional",null,"litros/km"]
[null,null,null,null,"Ônibus Leito",null,"litros/km"]
[null,null,null,null,"Ônibus Misto",null,"litros/km"]
[null,null,null,null,"Outro",null,"litros/km"]
[null,null,null,"Com Ar Condicionado","Micro-Ônibus",null,"litros/km"]
[null,null,null,null,"Ônibus Convencional",null,"litros/km"]
[null,null,null,null,"Ônibus Leito",null,"litros/km"]
[null,null,null,null,"Ônibus Misto",null,"litros/km"]
[null,null,null,null,"Outro",null,"litros/km"]
[]
[null,"COEFICIENTE DE CONSUMO DE ÓLEOS E LUBRIFICANTES",null,null,null,null,"litros de óleo diesel/km"]
[]
[null,"COEFICIENTE DE CONSUMO DE ARLA",null,null,null,null,"litros de óleo diesel/km"]
[]
[null,"COEFICIENTE DE CONSUMO DA RODAGEM",null,"Vida Útil","Micro-Ônibus",null,"km/pneu"]
[null,null,null,null,"Ônibus Convencional",null,"km/pneu"]
[null,null,null,null,"Ônibus Leito",null,"km/pneu"]
[null,null,null,null,"Ônibus Misto",null,"km/pneu"]
[null,null,null,null,"Outro",null,"km/pneu"]
[null,null,null,"Quantidade de Recapagens",null,null,"unidades/ pneu"]
[null,null,null,"Quantidade de Câmaras",null,null,"unidades/ pneu"]
[null,null,null,"Quantidade de Protetores",null,null,"unidades/ pneu"]
[null,"COEFICIENTE DE CONSUMO DE PEÇAS E ACESSÓRIOS",null,null,null,null,"% do PVNC"]
[]
[]
[null,"3. CUSTOS FIXOS"]
[]
[null,"COEFICIENTE DE DEPRECIAÇÃO MENSAL DA FROTA",null,"Micro-Ônibus","0 a 1 ano",{"$f":"'Depre e Rem Gen'!G19","v":1.3636363636363636E-2},"%/veículo.mês"]
[null,null,null,null,"1 a 2 anos",{"$f":"'Depre e Rem Gen'!G20","v":1.2272727272727274E-2},"%/veículo.mês"]
[null,null,null,null,"2 a 3 anos",{"$f":"'Depre e Rem Gen'!G21","v":1.090909090909091E-2},"%/veículo.mês"]
[null,null,null,null,"3 a 4 anos",{"$f":"'Depre e Rem Gen'!G22","v":9.5454545454545462E-3},"%/veículo.mês"]
[null,null,null,null,"4 a 5 anos",{"$f":"'Depre e Rem Gen'!G23","v":8.1818181818181825E-3},"%/veículo.mês"]
[null,null,null,null,"5 a 6 anos",{"$f":"'Depre e Rem Gen'!G24","v":6.8181818181818179E-3},"%/veículo.mês"]
[null,null,null,null,"6 a 7 anos",{"$f":"'Depre e Rem Gen'!G25","v":5.454545454545455E-3},"%/veículo.mês"]
[null,null,null,null,"7 a 8 anos",{"$f":"'Depre e Rem Gen'!G26","v":4.0909090909090912E-3},"%/veículo.mês"]
[null,null,null,null,"8 a 9 anos",{"$f":"'Depre e Rem Gen'!G27","v":2.7272727272727275E-3},"%/veículo.mês"]
[null,null,null,null,"9 a 10 anos",{"$f":"'Depre e Rem Gen'!G28","v":1.3636363636363637E-3},"%/veículo.mês"]
[null,null,null,null,"10 a 11 anos",{"$f":"'Depre e Rem Gen'!G29","v":0},"%/veículo.mês"]
[null,null,null,null,"11 a 12 anos",{"$f":"'Depre e Rem Gen'!G30","v":0},"%/veículo.mês"]
[null,null,null,null,"12 a 13 anos",{"$f":"'Depre e Rem Gen'!G31","v":0},"%/veículo.mês"]
[null,null,null,null,"13 a 14 anos",{"$f":"'Depre e Rem Gen'!G32","v":0},"%/veículo.mês"]
[null,null,null,null,"14 a 15 anos",{"$f":"'Depre e Rem Gen'!G33","v":0},"%/veículo.mês"]
[null,null,null,null,"+ de 15 anos",{"$f":"'Depre e Rem Gen'!G34","v":0},"%/veículo.mês"]
[null,null,null,"Ônibus Convencional","0 a 1 ano",{"$f":"'Depre e Rem Gen'!M19","v":1.3636363636363636E-2},"%/veículo.mês"]
[null,null,null,null,"1 a 2 anos",{"$f":"'Depre e Rem Gen'!M20","v":1.2272727272727274E-2},"%/veículo.mês"]
[null,null,null,null,"2 a 3 anos",{"$f":"'Depre e Rem Gen'!M21","v":1.090909090909091E-2},"%/veículo.mês"]
[null,null,null,null,"3 a 4 anos",{"$f":"'Depre e Rem Gen'!M22","v":9.5454545454545462E-3},"%/veículo.mês"]
[null,null,null,null,"4 a 5 anos",{"$f":"'Depre e Rem Gen'!M23","v":8.1818181818181825E-3},"%/veículo.mês"]
[null,null,null,null,"5 a 6 anos",{"$f":"'Depre e Rem Gen'!M24","v":6.8181818181818179E-3},"%/veículo.mês"]
[null,null,null,null,"6 a 7 anos",{"$f":"'Depre e Rem Gen'!M25","v":5.454545454545455E-3},"%/veículo.mês"]
[null,null,null,null,"7 a 8 anos",{"$f":"'Depre e Rem Gen'!M26","v":4.0909090909090912E-3},"%/veículo.mês"]
[null,null,null,null,"8 a 9 anos",{"$f":"'Depre e Rem Gen'!M27","v":2.7272727272727275E-3},"%/veículo.mês"]
[null,null,null,null,"9 a 10 anos",{"$f":"'Depre e Rem Gen'!M28","v":1.3636363636363637E-3},"%/veículo.mês"]
[null,null,null,null,"10 a 11 anos",{"$f":"'Depre e Rem Gen'!M29","v":0},"%/veículo.mês"]
[null,null,null,null,"11 a 12 anos",{"$f":"'Depre e Rem Gen'!M30","v":0},"%/veículo.mês"]
[null,null,null,null,"12 a 13 anos",{"$f":"'Depre e Rem Gen'!M31","v":0},"%/veículo.mês"]
[null,null,null,null,"13 a 14 anos",{"$f":"'Depre e Rem Gen'!M32","v":0},"%/veículo.mês"]
[null,null,null,null,"14 a 15 anos",{"$f":"'Depre e Rem Gen'!M33","v":0},"%/veículo.mês"]
[null,null,null,null,"+ de 15 anos",{"$f":"'Depre e Rem Gen'!M34","v":0},"%/veículo.mês"]
[null,null,null,"Ônibus Leito","0 a 1 ano",{"$f":"'Depre e Rem Gen'!S19","v":1.3636363636363636E-2},"%/veículo.mês"]
[null,null,null,null,"1 a 2 anos",{"$f":"'Depre e Rem Gen'!S20","v":1.2272727272727274E-2},"%/veículo.mês"]
[null,null,null,null,"2 a 3 anos",{"$f":"'Depre e Rem Gen'!S21","v":1.090909090909091E-2},"%/veículo.mês"]
[null,null,null,null,"3 a 4 anos",{"$f":"'Depre e Rem Gen'!S22","v":9.5454545454545462E-3},"%/veículo.mês"]
[null,null,null,null,"4 a 5 anos",{"$f":"'Depre e Rem Gen'!S23","v":8.1818181818181825E-3},"%/veículo.mês"]
[null,null,null,null,"5 a 6 anos",{"$f":"'Depre e Rem Gen'!S24","v":6.8181818181818179E-3},"%/veículo.mês"]
[null,null,null,null,"6 a 7 anos",{"$f":"'Depre e Rem Gen'!S25","v":5.454545454545455E-3},"%/veículo.mês"]
[null,null,null,null,"7 a 8 anos",{"$f":"'Depre e Rem Gen'!S26","v":4.0909090909090912E-3},"%/veículo.mês"]
[null,null,null,null,"8 a 9 anos",{"$f":"'Depre e Rem Gen'!S27","v":2.7272727272727275E-3},"%/veículo.mês"]
[null,null,null,null,"9 a 10 anos",{"$f":"'Depre e Rem Gen'!S28","v":1.3636363636363637E-3},"%/veículo.mês"]
[null,null,null,null,"10 a 11 anos",{"$f":"'Depre e Rem Gen'!S29","v":0},"%/veículo.mês"]
[null,null,null,null,"11 a 12 anos",{"$f":"'Depre e Rem Gen'!S30","v":0},"%/veículo.mês"]
[null,null,null,null,"12 a 13 anos",{"$f":"'Depre e Rem Gen'!S31","v":0},"%/veículo.mês"]
[null,null,null,null,"13 a 14 anos",{"$f":"'Depre e Rem Gen'!S32","v":0},"%/veículo.mês"]
[null,null,null,null,"14 a 15 anos",{"$f":"'Depre e Rem Gen'!S33","v":0},"%/veículo.mês"]
[null,null,null,null,"+ de 15 anos",{"$f":"'Depre e Rem Gen'!S34","v":0},"%/veículo.mês"]
[null,null,null,"Ônibus Misto","0 a 1 ano",{"$f":"'Depre e Rem Gen'!Y19","v":1.3636363636363636E-2},"%/veículo.mês"]
[null,null,null,null,"1 a 2 anos",{"$f":"'Depre e Rem Gen'!Y20","v":1.2272727272727274E-2},"%/veículo.mês"]
[null,null,null,null,"2 a 3 anos",{"$f":"'Depre e Rem Gen'!Y21","v":1.090909090909091E-2},"%/veículo.mês"]
[null,null,null,null,"3 a 4 anos",{"$f":"'Depre e Rem Gen'!Y22","v":9.5454545454545462E-3},"%/veículo.mês"]
[null,null,null,null,"4 a 5 anos",{"$f":"'Depre e Rem Gen'!Y23","v":8.1818181818181825E-3},"%/veículo.mês"]
[null,null,null,null,"5 a 6 anos",{"$f":"'Depre e Rem Gen'!Y24","v":6.8181818181818179E-3},"%/veículo.mês"]
[null,null,null,null,"6 a 7 anos",{"$f":"'Depre e Rem Gen'!Y25","v":5.454545454545455E-3},"%/veículo.mês"]
[null,null,null,null,"7 a 8 anos",{"$f":"'Depre e Rem Gen'!Y26","v":4.0909090909090912E-3},"%/veículo.mês"]
[null,null,null,null,"8 a 9 anos",{"$f":"'Depre e Rem Gen'!Y27","v":2.7272727272727275E-3},"%/veículo.mês"]
[null,null,null,null,"9 a 10 anos",{"$f":"'Depre e Rem Gen'!Y28","v":1.3636363636363637E-3},"%/veículo.mês"]
[null,null,null,null,"10 a 11 anos",{"$f":"'Depre e Rem Gen'!Y29","v":0},"%/veículo.mês"]
[null,null,null,null,"11 a 12 anos",{"$f":"'Depre e Rem Gen'!Y30","v":0},"%/veículo.mês"]
[null,null,null,null,"12 a 13 anos",{"$f":"'Depre e Rem Gen'!Y31","v":0},"%/veículo.mês"]
[null,null,null,null,"13 a 14 anos",{"$f":"'Depre e Rem Gen'!Y32","v":0},"%/veículo.mês"]
[null,null,null,null,"14 a 15 anos",{"$f":"'Depre e Rem Gen'!Y33","v":0},"%/veículo.mês"]
[null,null,null,null,"+ de 15 anos",{"$f":"'Depre e Rem Gen'!Y34","v":0},"%/veículo.mês"]
[null,null,null,"Outro","0 a 1 ano",{"$f":"'Depre e Rem Gen'!AE19","v":1.3636363636363636E-2},"%/veículo.mês"]
[null,null,null,null,"1 a 2 anos",{"$f":"'Depre e Rem Gen'!AE20","v":1.2272727272727274E-2},"%/veículo.mês"]
[null,null,null,null,"2 a 3 anos",{"$f":"'Depre e Rem Gen'!AE21","v":1.090909090909091E-2},"%/veículo.mês"]
[null,null,null,null,"3 a 4 anos",{"$f":"'Depre e Rem Gen'!AE22","v":9.5454545454545462E-3},"%/veículo.mês"]
[null,null,null,null,"4 a 5 anos",{"$f":"'Depre e Rem Gen'!AE23","v":8.1818181818181825E-3},"%/veículo.mês"]
[null,null,null,null,"5 a 6 anos",{"$f":"'Depre e Rem Gen'!AE24","v":6.8181818181818179E-3},"%/veículo.mês"]
[null,null,null,null,"6 a 7 anos",{"$f":"'Depre e Rem Gen'!AE25","v":5.454545454545455E-3},"%/veículo.mês"]
[null,null,null,null,"7 a 8 anos",{"$f":"'Depre e Rem Gen'!AE26","v":4.0909090909090912E-3},"%/veículo.mês"]
[null,null,null,null,"8 a 9 anos",{"$f":"'Depre e Rem Gen'!AE27","v":2.7272727272727275E-3},"%/veículo.mês"]
[null,null,null,null,"9 a 10 anos",{"$f":"'Depre e Rem Gen'!AE28","v":1.3636363636363637E-3},"%/veículo.mês"]
[null,null,null,null,"10 a 11 anos",{"$f":"'Depre e Rem Gen'!AE29","v":0},"%/veículo.mês"]
[null,null,null,null,"11 a 12 anos",{"$f":"'Depre e Rem Gen'!AE30","v":0},"%/veículo.mês"]
[null,null,null,null,"12 a 13 anos",{"$f":"'Depre e Rem Gen'!AE31","v":0},"%/veículo.mês"]
[null,null,null,null,"13 a 14 anos",{"$f":"'Depre e Rem Gen'!AE32","v":0},"%/veículo.mês"]
[null,null,null,null,"14 a 15 anos",{"$f":"'Depre e Rem Gen'!AE33","v":0},"%/veículo.mês"]
[null,null,null,null,"+ de 15 anos",{"$f":"'Depre e Rem Gen'!AE34","v":0},"%/veículo.mês"]
[]
[null,"COEFICIENTE DE DEPRECIAÇÃO MENSAL DE OUTROS ATIVOS","Edificações",null,null,null,"%/mês"]
[null,null,"Equipamentos de Garagem",null,null,null,"%/mês"]
[null,null,"Equipamentos de Bilhetagem Eletrônica e ITS",null,null,null,"%/mês"]
[null,null,"Outras Máquinas e Equipamentos",null,null,null,"%/mês"]
[null,null,"Veículos de Apoio","Caminhão-oficina",null,null,"%/mês"]
[null,null,null,"Caminhão-guincho",null,null,"%/mês"]
[null,null,null,"Caminhoneta",null,null,"%/mês"]
[null,null,null,"Automóvel Básico",null,null,"%/mês"]
[null,null,null,"Motocicleta",null,null,"%/mês"]
[null,null,"Coeficiente Geral de Depreciação Mensal de Outros Ativos ",null,null,null,"(% do PVNC/veículomês)"]
[]
[null,"COEFICIENTE DE REMUNERAÇÃO MENSAL DA FROTA",null,"Micro-Ônibus","0 a 1 ano",{"$f":"'Depre e Rem Gen'!G42","v":0.01},"%/veículo.mês"]
[null,null,null,null,"1 a 2 anos",{"$f":"'Depre e Rem Gen'!G43","v":8.363636363636363E-3},"%/veículo.mês"]
[null,null,null,null,"2 a 3 anos",{"$f":"'Depre e Rem Gen'!G44","v":6.8909090909090908E-3},"%/veículo.mês"]
[null,null,null,null,"3 a 4 anos",{"$f":"'Depre e Rem Gen'!G45","v":5.5818181818181808E-3},"%/veículo.mês"]
[null,null,null,null,"4 a 5 anos",{"$f":"'Depre e Rem Gen'!G46","v":4.4363636363636359E-3},"%/veículo.mês"]
[null,null,null,null,"5 a 6 anos",{"$f":"'Depre e Rem Gen'!G47","v":3.4545454545454545E-3},"%/veículo.mês"]
[null,null,null,null,"6 a 7 anos",{"$f":"'Depre e Rem Gen'!G48","v":2.6363636363636363E-3},"%/veículo.mês"]
[null,null,null,null,"7 a 8 anos",{"$f":"'Depre e Rem Gen'!G49","v":1.9818181818181814E-3},"%/veículo.mês"]
[null,null,null,null,"8 a 9 anos",{"$f":"'Depre e Rem Gen'!G50","v":1.4909090909090905E-3},"%/veículo.mês"]
[null,null,null,null,"9 a 10 anos",{"$f":"'Depre e Rem Gen'!G51","v":1.1636363636363634E-3},"%/veículo.mês"]
[null,null,null,null,"10 a 11 anos",{"$f":"'Depre e Rem Gen'!G52","v":9.999999999999998E-4},"%/veículo.mês"]
[null,null,null,null,"11 a 12 anos",{"$f":"'Depre e Rem Gen'!G53","v":9.999999999999998E-4},"%/veículo.mês"]
[null,null,null,null,"12 a 13 anos",{"$f":"'Depre e Rem Gen'!G54","v":9.999999999999998E-4},"%/veículo.mês"]
[null,null,null,null,"13 a 14 anos",{"$f":"'Depre e Rem Gen'!G55","v":9.999999999999998E-4},"%/veículo.mês"]
[null,null,null,null,"14 a 15 anos",{"$f":"'Depre e Rem Gen'!G56","v":9.999999999999998E-4},"%/veículo.mês"]
[null,null,null,null,"+ de 15 anos",{"$f":"'Depre e Rem Gen'!G57","v":9.999999999999998E-4},"%/veículo.mês"]
[null,null,null,"Ônibus Convencional","0 a 1 ano",{"$f":"'Depre e Rem Gen'!M42","v":0.01},"%/veículo.mês"]
[null,null,null,null,"1 a 2 anos",{"$f":"'Depre e Rem Gen'!M43","v":8.363636363636363E-3},"%/veículo.mês"]
[null,null,null,null,"2 a 3 anos",{"$f":"'Depre e Rem Gen'!M44","v":6.8909090909090908E-3},"%/veículo.mês"]
[null,null,null,null,"3 a 4 anos",{"$f":"'Depre e Rem Gen'!M45","v":5.5818181818181808E-3},"%/veículo.mês"]
[null,null,null,null,"4 a 5 anos",{"$f":"'Depre e Rem Gen'!M46","v":4.4363636363636359E-3},"%/veículo.mês"]
[null,null,null,null,"5 a 6 anos",{"$f":"'Depre e Rem Gen'!M47","v":3.4545454545454545E-3},"%/veículo.mês"]
[null,null,null,null,"6 a 7 anos",{"$f":"'Depre e Rem Gen'!M48","v":2.6363636363636363E-3},"%/veículo.mês"]
[null,null,null,null,"7 a 8 anos",{"$f":"'Depre e Rem Gen'!M49","v":1.9818181818181814E-3},"%/veículo.mês"]
[null,null,null,null,"8 a 9 anos",{"$f":"'Depre e Rem Gen'!M50","v":1.4909090909090905E-3},"%/veículo.mês"]
[null,null,null,null,"9 a 10 anos",{"$f":"'Depre e Rem Gen'!M51","v":1.1636363636363634E-3},"%/veículo.mês"]
[null,null,null,null,"10 a 11 anos",{"$f":"'Depre e Rem Gen'!M52","v":9.999999999999998E-4},"%/veículo.mês"]
[null,null,null,null,"11 a 12 anos",{"$f":"'Depre e Rem Gen'!M53","v":9.999999999999998E-4},"%/veículo.mês"]
[null,null,null,null,"12 a 13 anos",{"$f":"'Depre e Rem Gen'!M54","v":9.999999999999998E-4},"%/veículo.mês"]
[null,null,null,null,"13 a 14 anos",{"$f":"'Depre e Rem Gen'!M55","v":9.999999999999998E-4},"%/veículo.mês"]
[null,null,null,null,"14 a 15 anos",{"$f":"'Depre e Rem Gen'!M56","v":9.999999999999998E-4},"%/veículo.mês"]
[null,null,null,null,"+ de 15 anos",{"$f":"'Depre e Rem Gen'!M57","v":9.999999999999998E-4},"%/veículo.mês"]
[null,null,null,"Ônibus Leito","0 a 1 ano",{"$f":"'Depre e Rem Gen'!S42","v":0.01},"%/veículo.mês"]
[null,null,null,null,"1 a 2 anos",{"$f":"'Depre e Rem Gen'!S43","v":8.363636363636363E-3},"%/veículo.mês"]
[null,null,null,null,"2 a 3 anos",{"$f":"'Depre e Rem Gen'!S44","v":6.8909090909090908E-3},"%/veículo.mês"]
[null,null,null,null,"3 a 4 anos",{"$f":"'Depre e Rem Gen'!S45","v":5.5818181818181808E-3},"%/veículo.mês"]
[null,null,null,null,"4 a 5 anos",{"$f":"'Depre e Rem Gen'!S46","v":4.4363636363636359E-3},"%/veículo.mês"]
[null,null,null,null,"5 a 6 anos",{"$f":"'Depre e Rem Gen'!S47","v":3.4545454545454545E-3},"%/veículo.mês"]
[null,null,null,null,"6 a 7 anos",{"$f":"'Depre e Rem Gen'!S48","v":2.6363636363636363E-3},"%/veículo.mês"]
[null,null,null,null,"7 a 8 anos",{"$f":"'Depre e Rem Gen'!S49","v":1.9818181818181814E-3},"%/veículo.mês"]
[null,null,null,null,"8 a 9 anos",{"$f":"'Depre e Rem Gen'!S50","v":1.4909090909090905E-3},"%/veículo.mês"]
[null,null,null,null,"9 a 10 anos",{"$f":"'Depre e Rem Gen'!S51","v":1.1636363636363634E-3},"%/veículo.mês"]
[null,null,null,null,"10 a 11 anos",{"$f":"'Depre e Rem Gen'!S52","v":9.999999999999998E-4},"%/veículo.mês"]
[null,null,null,null,"11 a 12 anos",{"$f":"'Depre e Rem Gen'!S53","v":9.999999999999998E-4},"%/veículo.mês"]
[null,null,null,null,"12 a 13 anos",{"$f":"'Depre e Rem Gen'!S54","v":9.999999999999998E-4},"%/veículo.mês"]
[null,null,null,null,"13 a 14 anos",{"$f":"'Depre e Rem Gen'!S55","v":9.999999999999998E-4},"%/veículo.mês"]
[null,null,null,null,"14 a 15 anos",{"$f":"'Depre e Rem Gen'!S56","v":9.999999999999998E-4},"%/veículo.mês"]
[null,null,null,null,"+ de 15 anos",{"$f":"'Depre e Rem Gen'!S57","v":9.999999999999998E-4},"%/veículo.mês"]
[null,null,null,"Ônibus Misto","0 a 1 ano",{"$f":"'Depre e Rem Gen'!Y42","v":0.01},"%/veículo.mês"]
[null,null,null,null,"1 a 2 anos",{"$f":"'Depre e Rem Gen'!Y43","v":8.363636363636363E-3},"%/veículo.mês"]
[null,null,null,null,"2 a 3 anos",{"$f":"'Depre e Rem Gen'!Y44","v":6.8909090909090908E-3},"%/veículo.mês"]
[null,null,null,null,"3 a 4 anos",{"$f":"'Depre e Rem Gen'!Y45","v":5.5818181818181808E-3},"%/veículo.mês"]
[null,null,null,null,"4 a 5 anos",{"$f":"'Depre e Rem Gen'!Y46","v":4.4363636363636359E-3},"%/veículo.mês"]
[null,null,null,null,"5 a 6 anos",{"$f":"'Depre e Rem Gen'!Y47","v":3.4545454545454545E-3},"%/veículo.mês"]
[null,null,null,null,"6 a 7 anos",{"$f":"'Depre e Rem Gen'!Y48","v":2.6363636363636363E-3},"%/veículo.mês"]
[null,null,null,null,"7 a 8 anos",{"$f":"'Depre e Rem Gen'!Y49","v":1.9818181818181814E-3},"%/veículo.mês"]
[null,null,null,null,"8 a 9 anos",{"$f":"'Depre e Rem Gen'!Y50","v":1.4909090909090905E-3},"%/veículo.mês"]
[null,null,null,null,"9 a 10 anos",{"$f":"'Depre e Rem Gen'!Y51","v":1.1636363636363634E-3},"%/veículo.mês"]
[null,null,null,null,"10 a 11 anos",{"$f":"'Depre e Rem Gen'!Y52","v":9.999999999999998E-4},"%/veículo.mês"]
[null,null,null,null,"11 a 12 anos",{"$f":"'Depre e Rem Gen'!Y53","v":9.999999999999998E-4},"%/veículo.mês"]
[null,null,null,null,"12 a 13 anos",{"$f":"'Depre e Rem Gen'!Y54","v":9.999999999999998E-4},"%/veículo.mês"]
[null,null,null,null,"13 a 14 anos",{"$f":"'Depre e Rem Gen'!Y55","v":9.999999999999998E-4},"%/veículo.mês"]
[null,null,null,null,"14 a 15 anos",{"$f":"'Depre e Rem Gen'!Y56","v":9.999999999999998E-4},"%/veículo.mês"]
[null,null,null,null,"+ de 15 anos",{"$f":"'Depre e Rem Gen'!Y57","v":9.999999999999998E-4},"%/veículo.mês"]
[null,null,null,"Outro","0 a 1 ano",{"$f":"'Depre e Rem Gen'!AE42","v":0.01},"%/veículo.mês"]
[null,null,null,null,"1 a 2 anos",{"$f":"'Depre e Rem Gen'!AE43","v":8.363636363636363E-3},"%/veículo.mês"]
[null,null,null,null,"2 a 3 anos",{"$f":"'Depre e Rem Gen'!AE44","v":6.8909090909090908E-3},"%/veículo.mês"]
[null,null,null,null,"3 a 4 anos",{"$f":"'Depre e Rem Gen'!AE45","v":5.5818181818181808E-3},"%/veículo.mês"]
[null,null,null,null,"4 a 5 anos",{"$f":"'Depre e Rem Gen'!AE46","v":4.4363636363636359E-3},"%/veículo.mês"]
[null,null,null,null,"5 a 6 anos",{"$f":"'Depre e Rem Gen'!AE47","v":3.4545454545454545E-3},"%/veículo.mês"]
[null,null,null,null,"6 a 7 anos",{"$f":"'Depre e Rem Gen'!AE48","v":2.6363636363636363E-3},"%/veículo.mês"]
[null,null,null,null,"7 a 8 anos",{"$f":"'Depre e Rem Gen'!AE49","v":1.9818181818181814E-3},"%/veículo.mês"]
[null,null,null,null,"8 a 9 anos",{"$f":"'Depre e Rem Gen'!AE50","v":1.4909090909090905E-3},"%/veículo.mês"]
[null,null,null,null,"9 a 10 anos",{"$f":"'Depre e Rem Gen'!AE51","v":1.1636363636363634E-3},"%/veículo.mês"]
[null,null,null,null,"10 a 11 anos",{"$f":"'Depre e Rem Gen'!AE52","v":9.999999999999998E-4},"%/veículo.mês"]
[null,null,null,null,"11 a 12 anos",{"$f":"'Depre e Rem Gen'!AE53","v":9.999999999999998E-4},"%/veículo.mês"]
[null,null,null,null,"12 a 13 anos",{"$f":"'Depre e Rem Gen'!AE54","v":9.999999999999998E-4},"%/veículo.mês"]
[null,null,null,null,"13 a 14 anos",{"$f":"'Depre e Rem Gen'!AE55","v":9.999999999999998E-4},"%/veículo.mês"]
[null,null,null,null,"14 a 15 anos",{"$f":"'Depre e Rem Gen'!AE56","v":9.999999999999998E-4},"%/veículo.mês"]
[null,null,null,null,"+ de 15 anos",{"$f":"'Depre e Rem Gen'!AE57","v":9.999999999999998E-4},"%/veículo.mês"]
[]
[null,"COEFICIENTE DE REMUNERAÇÃO MENSAL DO ALMOXARIFADO",null,null,null,null,"%/veículo.mês"]
[]
[null,"COEFICIENTE DE REMUNERAÇÃO MENSAL DE OUTROS ATIVOS","Edificações",null,null,null,"%/mês"]
[null,null,"Equipamentos de Garagem",null,null,null,"%/mês"]
[null,null,"Equipamentos de Bilhetagem Eletrônica e ITS",null,null,null,"%/mês"]
[null,null,"Outras Máquinas e Equipamentos",null,null,null,"%/mês"]
[null,null,"Veículos de Apoio","Caminhão-oficina",null,null,"%/mês"]
[null,null,null,"Caminhão-guincho",null,null,"%/mês"]
[null,null,null,"Caminhoneta",null,null,"%/mês"]
[null,null,null,"Auitomóvel Básico",null,null,"%/mês"]
[null,null,null,"Motocicleta",null,null,"%/mês"]
[null,null,"Outorga",null,null,null,"%/veículo.mês"]
[null,null,"Investimento Terminal e Infraestrutura",null,null,null,"%/veículo.mês"]
[null,"Coeficiente Geral de Remuneração Mensal de Outros Ativos ",null,null,null,null,"% do PVNC/veículomês"]
[]
[null,"COEFICIENTES DE DESPESAS COM PESSOAL","Fator de Utilização","Motorista",null,null,"funcionários/veículo"]
[null,null,null,"Cobrador",null,null,"funcionários/veículo"]
[null,null,null,"Fiscal/Despachante",null,null,"funcionários/veículo"]
[null,null,"Encargos Sociais",null,null,null,"%/funcionário.mês"]
[null,null,"Pessoal de Manutenção",null,null,null,"%/pessoal de operação"]
[null,null,"Pessoal de Administração",null,null,null,"%/pessoal de operação"]
[null,null,"Benefícios",null,null,null,"% do PVNC/veículo.mês"]
[null,null,"Remuneração de Diretoria",null,null,null,"% do PVNC/veículo.mês"]
[]
[null,"COEFICIENTE DE CUSTO DE ADMINISTRAÇÃO",null,null,null,null,"% do PVNC/veículo.mês"]
[]
[null,"COEFICIENTE DE CUSTOS AMBIENTAIS",null,null,null,null,"% do PVNC/veículo.mês"]
[]
[null,"COEFICIENTE DE CUSTO DE REMUNERAÇÃO PELA PRESTAÇÃO DOS SERVIÇOS",null,null,null,null,"% dos custos (variáveis + fixos)/mês"]
[]
[]
[]
[null,"4. TRIBUTOS"]
[]
[null,"ICMS",null,null,null,null,"%"]
[null,"Lei Federal nº 12.715 - INSS",null,null,null,null,"%"]
[null,"COFINS",null,null,null,null,"%"]
[null,"PIS",null,null,null,null,"%"]
[null,null,null,null,null,null,"%"]
[null,null,null,null,null,null,"%"]
[null,"TOTAL DOS TRIBUTOS",null,null,null,{"$f":"SUM(F260:F265)","v":0},"%"]

{"sheet":"Planilha","index":4,"n_rows":1215,"n_cols":33,"rows_kept":1215,"cut":false,"hidden":false,"merged":[[486,21,486,22],[487,21,487,22],[488,21,488,22],[489,21,489,22],[490,21,490,22],[15,2,15,5],[13,2,13,5],[1170,1,1171,2],[1172,1,1173,2],[1170,3,1170,4],[1171,3,1171,4],[1172,3,1172,4],[1173,3,1173,4],[1140,2,1141,3],[1121,1,1141,1],[1139,2,1139,4],[1121,2,1122,3],[1123,2,1124,3],[1125,2,1126,3],[1127,2,1128,3],[1129,3,1130,3],[1131,3,1132,3],[1133,3,1134,3],[1135,3,1136,3],[1129,2,1138,2],[1137,3,1138,3],[1143,2,1144,2],[1145,2,1146,2],[1143,1,1149,1],[1143,3,1143,4],[1144,3,1144,4],[685,2,685,4],[667,2,684,2],[741,2,741,4],[723,1,741,1],[779,2,796,2],[797,2,797,4],[743,1,758,1],[743,2,758,2],[743,3,758,3],[760,1,777,1],[760,2,777,2],[760,3,776,3],[777,3,777,4],[779,3,795,3],[796,3,796,4],[723,3,739,3],[740,3,740,4],[803,2,805,3],[478,3,478,4],[483,3,483,4],[488,3,488,4],[474,1,478,2],[479,1,483,2],[500,3,500,4],[496,1,500,2],[611,2,628,2],[611,3,627,3],[628,3,628,4],[611,1,629,1],[629,2,629,4],[573,2,573,4],[704,1,721,1],[704,2,721,2],[704,3,720,3],[721,3,721,4],[555,1,573,1],[575,1,590,1],[482,3,482,4],[480,3,480,4],[687,3,702,3],[648,1,665,1],[469,1,469,4],[476,3,476,4],[474,3,474,4],[462,1,462,4],[458,3,458,4],[461,2,461,4],[723,2,740,2],[667,1,685,1],[667,3,683,3],[684,3,684,4],[490,1,490,4],[496,3,496,4],[495,1,495,4],[484,1,489,2],[486,3,486,4],[485,3,485,4],[484,3,484,4],[487,3,487,4],[489,3,489,4],[631,1,646,1],[631,2,646,2],[631,3,646,3],[687,1,702,1],[687,2,702,2],[3,2,3,5],[5,2,5,5],[423,3,423,4],[454,3,454,4],[449,3,449,4],[441,3,441,4],[442,3,442,4],[443,3,443,4],[444,3,444,4],[447,3,447,4],[452,3,452,4],[402,3,402,4],[403,3,403,4],[431,3,431,4],[432,3,432,4],[446,3,446,4],[433,3,433,4],[434,3,434,4],[436,3,436,4],[426,3,426,4],[427,3,427,4],[428,3,428,4],[429,3,429,4],[406,1,406,4],[648,2,665,2],[648,3,664,3],[665,3,665,4],[506,3,506,4],[503,3,503,4],[497,3,497,4],[498,3,498,4],[502,3,502,4],[519,1,534,1],[519,2,534,2],[519,3,534,3],[507,1,507,4],[501,1,506,2],[505,3,505,4],[555,2,572,2],[555,3,571,3],[572,3,572,4],[592,1,609,1],[592,2,609,2],[536,1,553,1],[536,2,553,2],[536,3,552,3],[553,3,553,4],[592,3,608,3],[609,3,609,4],[575,2,590,2],[575,3,590,3],[407,1,407,4],[425,3,425,4],[430,3,430,4],[435,3,435,4],[421,1,430,1],[431,1,440,1],[408,1,408,4],[413,1,413,4],[414,1,414,4],[421,3,421,4],[422,3,422,4],[424,3,424,4],[421,2,425,2],[426,2,430,2],[431,2,435,2],[436,2,440,2],[437,3,437,4],[438,3,438,4],[439,3,439,4],[453,3,453,4],[468,1,468,4],[302,1,318,2],[320,1,336,2],[338,1,354,2],[114,1,130,2],[132,1,148,2],[39,3,39,4],[68,3,68,4],[65,3,65,4],[56,3,56,4],[66,3,66,4],[63,3,63,4],[206,3,206,4],[47,3,47,4],[54,3,54,4],[55,3,55,4],[49,3,49,4],[60,3,60,4],[58,3,58,4],[59,3,59,4],[61,3,61,4],[81,3,81,4],[86,3,86,4],[96,3,96,4],[102,3,102,4],[64,3,64,4],[114,3,130,3],[204,3,204,4],[8,2,9,5],[26,3,26,4],[27,3,27,4],[25,1,27,2],[132,3,148,3],[150,3,166,3],[77,3,77,4],[93,3,93,4],[78,3,78,4],[91,3,91,4],[23,1,23,4],[25,3,25,4],[34,3,34,4],[35,3,35,4],[36,3,36,4],[42,3,42,4],[37,3,37,4],[40,3,40,4],[41,3,41,4],[63,1,68,2],[82,1,86,2],[405,1,405,4],[44,1,49,2],[62,3,62,4],[67,3,67,4],[58,1,62,2],[76,3,76,4],[46,3,46,4],[94,3,94,4],[95,3,95,4],[99,3,99,4],[100,3,100,4],[74,3,74,4],[92,3,92,4],[83,3,83,4],[84,3,84,4],[85,3,85,4],[87,3,87,4],[45,3,45,4],[75,3,75,4],[98,3,98,4],[80,3,80,4],[302,3,318,3],[44,3,44,4],[53,3,53,4],[806,2,808,3],[809,2,811,3],[812,2,814,3],[815,3,817,3],[504,3,504,4],[499,3,499,4],[501,3,501,4],[79,3,79,4],[89,3,89,4],[97,3,97,4],[90,3,90,4],[298,3,298,4],[186,3,202,3],[262,3,278,3],[300,3,300,4],[299,3,299,4],[481,3,481,4],[475,3,475,4],[479,3,479,4],[467,1,467,4],[150,1,166,2],[477,3,477,4],[459,3,459,4],[451,3,451,4],[457,3,457,4],[448,3,448,4],[451,1,461,1],[440,3,440,4],[445,3,445,4],[450,3,450,4],[460,3,460,4],[441,2,445,2],[446,2,450,2],[451,2,455,2],[456,2,460,2],[456,3,456,4],[441,1,450,1],[455,3,455,4],[853,1,870,1],[853,2,870,2],[853,3,869,3],[870,3,870,4],[872,3,888,3],[909,1,926,1],[909,2,926,2],[909,3,925,3],[926,3,926,4],[821,3,823,3],[824,3,826,3],[827,3,829,3],[834,1,834,4],[815,2,829,2],[818,3,820,3],[836,1,851,1],[836,2,851,2],[836,3,851,3],[1021,3,1037,3],[1038,3,1038,4],[890,2,890,4],[872,1,890,1],[872,2,889,2],[889,3,889,4],[928,1,946,1],[928,2,945,2],[928,3,944,3],[945,3,945,4],[946,2,946,4],[984,1,1002,1],[984,2,1001,2],[984,3,1000,3],[1001,3,1001,4],[1002,2,1002,4],[948,1,963,1],[948,2,963,2],[948,3,963,3],[965,1,982,1],[965,2,982,2],[965,3,981,3],[982,3,982,4],[1118,2,1118,4],[1119,2,1119,4],[1060,1,1075,1],[1060,2,1075,2],[1060,3,1075,3],[1077,1,1094,1],[1077,2,1094,2],[1077,3,1093,3],[1094,3,1094,4],[1096,1,1114,1],[1096,2,1113,2],[1096,3,1112,3],[1116,1,1116,4],[1113,3,1113,4],[1114,2,1114,4],[1118,1,1119,1],[1145,3,1145,4],[1146,3,1146,4],[1147,3,1147,4],[1148,3,1148,4],[1147,2,1148,2],[1149,2,1149,4],[1161,2,1162,2],[1163,2,1164,2],[1166,1,1167,2],[1168,1,1169,2],[1169,3,1169,4],[1159,3,1159,4],[1160,3,1160,4],[1161,3,1161,4],[1162,3,1162,4],[1163,3,1163,4],[1164,3,1164,4],[1166,3,1166,4],[1167,3,1167,4],[1168,3,1168,4],[1165,2,1165,4],[1212,1,1212,4],[1213,1,1213,4],[1214,1,1214,4],[1188,1,1188,4],[1189,1,1189,4],[1190,1,1190,4],[1200,3,1200,4],[1201,3,1201,4],[1200,1,1201,2],[1206,1,1206,4],[1207,1,1207,4],[1208,1,1208,4],[1195,1,1195,4],[1209,1,1209,4],[1210,1,1210,4],[1,2,1,5],[38,3,38,4],[43,3,43,4],[48,3,48,4],[34,1,38,2],[39,1,43,2],[57,3,57,4],[53,1,57,2],[1211,1,1211,4],[1179,1,1180,1],[1181,1,1182,1],[1179,2,1179,4],[1180,2,1180,4],[1181,2,1181,4],[1182,2,1182,4],[1183,1,1183,4],[1151,1,1151,4],[1153,1,1153,4],[1158,1,1158,4],[1159,1,1165,1],[1174,1,1174,4],[1159,2,1160,2],[72,1,76,2],[77,1,81,2],[87,1,91,2],[92,1,102,1],[98,2,102,2],[73,3,73,4],[72,3,72,4],[82,3,82,4],[101,3,101,4],[88,3,88,4],[92,2,97,2],[392,1,392,4],[393,1,393,4],[399,3,399,4],[186,1,202,2],[168,1,184,2],[168,3,184,3],[204,1,206,2],[280,3,296,3],[262,1,278,2],[280,1,296,2],[374,3,390,3],[356,1,372,2],[374,1,390,2],[298,1,300,2],[226,1,242,2],[226,3,242,3],[244,1,260,2],[244,3,260,3],[205,3,205,4],[320,3,336,3],[338,3,354,3],[356,3,372,3],[208,1,224,2],[208,3,224,3],[799,1,799,4],[779,1,797,1],[830,1,830,4],[803,1,829,1],[831,1,832,3],[1040,1,1058,1],[395,3,395,4],[396,3,396,4],[397,3,397,4],[398,3,398,4],[400,3,400,4],[395,1,400,2],[1004,1,1019,1],[1004,2,1019,2],[1004,3,1019,3],[1040,2,1057,2],[1040,3,1056,3],[1057,3,1057,4],[1058,2,1058,4],[892,1,907,1],[892,2,907,2],[892,3,907,3],[1021,1,1038,1],[1021,2,1038,2]]}
[]
[null,null,"Documento Preliminar Sujeito a Modificações"]
[]
[null,null,"GOVERNO DO ESTADO DO PARANÁ"]
[]
[null,null,"DEPARTAMENTO DE ESTRADAS DE RODAGEM"]
[]
[]
[null,null,"ESTUDO DOS CUSTOS DO SERVIÇO RODOVIÁRIO DO SISTEMA DE TRANSPORTE PÚBLICO DE PASSAGEIROS DO ESTADO DO PARANÁ"]
[]
[]
[]
[]
[null,null,"CÁLCULO DOS CUSTOS"]
[]
[null,null,{"$f":"Insumos!$G$15","v":"2024-06-01"}]
[]
[]
[]
[null,"RUBRICA",null,null,null,"UNIDADE","VALOR","OPERAÇÃO "]
[]
[null,"1. INSUMOS BÁSICOS",null,null," "]
[null,null,null," "]
[null,"PREÇO DE UM LITRO DE COMBUSTÍVEL",null,null,null,"R$/litro",{"$f":"Insumos!G302","v":0},1]
[]
[null,"SALÁRIO MÉDIO",null,"Motorista",null,"R$/funcionário.mês",{"$f":"Insumos!G304","v":0},{"$f":"H24+1","v":2}]
[null,null,null,"Cobrador",null,"R$/funcionário.mês",{"$f":"Insumos!G305","v":0},{"$f":"H26+1","v":3}]
[null,null,null,"Fiscal/Despachante",null,"R$/funcionário.mês",{"$f":"Insumos!G306","v":0},{"$f":"H27+1","v":4}]
[]
[]
[null,"2. PREÇO DO VEÍCULO-PADRÃO"]
[]
[null,"2.1 PREÇO DO VEÍCULO-PADRÃO COMPLETO",null,""]
[]
[null,"PREÇO DO VEÍCULO-PADRÃO COMPLETO SEM AR CONDICIONADO",null,"Micro-Ônibus",null,"R$/veículo",{"$f":"Insumos!G325","v":0},{"$f":"H28+1","v":5}]
[null,null,null,"Ônibus Convencional",null,"R$/veículo",{"$f":"Insumos!G326","v":0},{"$f":"H35+1","v":6}]
[null,null,null,"Ônibus Leito",null,"R$/veículo",{"$f":"Insumos!G327","v":0},7]
[null,null,null,"Ônibus Misto",null,"R$/veículo",{"$f":"Insumos!G328","v":0},{"$f":"H37+1","v":8}]
[null,null,null,"Outro",null,"R$/veículo",{"$f":"Insumos!G329","v":0},{"$f":"H38+1","v":9}]
[null,"PREÇO DO VEÍCULO-PADRÃO COMPLETO COM AR CONDICIONADO",null,"Micro-Ônibus",null,"R$/veículo",{"$f":"Insumos!G346","v":0},10]
[null,null,null,"Ônibus Convencional",null,"R$/veículo",{"$f":"Insumos!G347","v":0},11]
[null,null,null,"Ônibus Leito",null,"R$/veículo",{"$f":"Insumos!G348","v":0},12]
[null,null,null,"Ônibus Misto",null,"R$/veículo",{"$f":"Insumos!G349","v":0},13]
[null,null,null,"Outro",null,"R$/veículo",{"$f":"Insumos!G350","v":0},14]
[null,"PREÇO MÉDIO DO VEÍCULO-PADRÃO COMPLETO ",null,"Micro-Ônibus",null,"R$/veículo",{"$f":"Insumos!G353","v":0},15]
[null,null,null,"Ônibus Convencional",null,"R$/veículo",{"$f":"Insumos!G354","v":0},16]
[null,null,null,"Ônibus Leito",null,"R$/veículo",{"$f":"Insumos!G355","v":0},17]
[null,null,null,"Ônibus Misto",null,"R$/veículo",{"$f":"Insumos!G356","v":0},18]
[null,null,null,"Outro",null,"R$/veículo",{"$f":"Insumos!G357","v":0},19]
[null,null,null,"Veículo-Padrão",null,"R$/veículo",{"$f":"Insumos!G358","v":0},20]
[]
[null,"2.2 PREÇO DO VEÍCULO-PADRÃO SEM A RODAGEM"]
[]
[null,"PREÇO DO VEÍCULO-PADRÃO SEM A RODAGEM SEM AR CONDICIONADO",null,"Micro-Ônibus",null,"R$/veículo",{"$f":"IF(G35=0,0,G35-G93)","v":0},{"$f":"H50+1","v":21},null,null,{"$f":"H54","v":21},"=",{"$f":"H35","v":5},"-",{"$f":"H93","v":57}]
[null,null,null,"Ônibus Convencional",null,"R$/veículo",{"$f":"IF(G36=0,0,G36-G94)","v":0},{"$f":"H54+1","v":22},null,null,22,"=",6,"-",{"$f":"H94","v":58}]
[null,null,null,"Ônibus Leito",null,"R$/veículo",{"$f":"IF(G37=0,0,G37-G95)","v":0},23,null,null,23,"=",7,"-",{"$f":"H95","v":59}]
[null,null,null,"Ônibus Misto",null,"R$/veículo",{"$f":"IF(G38=0,0,G38-G96)","v":0},24,null,null,24,"=",8,"-",{"$f":"H96","v":60}]
[null,null,null,"Outro",null,"R$/veículo",{"$f":"IF(G39=0,0,G39-G98)","v":0},25,null,null,{"$f":"H58","v":25},"=",9,"-",{"$f":"H98","v":62}]
[null,"PREÇO DO VEÍCULO-PADRÃO SEM A RODAGEM COM AR CONDICIONADO",null,"Micro-Ônibus",null,"R$/veículo",{"$f":"IF(G40=0,0,G40-G93)","v":0},26,null,null,26,"=",10,"-",{"$f":"H93","v":57}]
[null,null,null,"Ônibus Convencional",null,"R$/veículo",{"$f":"IF(G41=0,0,G41-G94)","v":0},27,null,null,27,"=",11,"-",{"$f":"H94","v":58}]
[null,null,null,"Ônibus Leito",null,"R$/veículo",{"$f":"IF(G42=0,0,G42-G95)","v":0},28,null,null,28,"=",12,"-",{"$f":"H95","v":59}]
[null,null,null,"Ônibus Misto",null,"R$/veículo",{"$f":"IF(G43=0,0,G43-G96)","v":0},29,null,null,29,"=",13,"-",{"$f":"H96","v":60}]
[null,null,null,"Outro",null,"R$/veículo",{"$f":"IF(G44=0,0,G44-G98)","v":0},30,null,null,{"$f":"H63","v":30},"=",14,"-",{"$f":"H98","v":62}]
[null,"PREÇO MÉDIO DO VEÍCULO-PADRÃO SEM A RODAGEM  ",null,"Micro-Ônibus",null,"R$/veículo",{"$f":"IF(G45=0,0,G45-G93)","v":0},31,null,null,31,"=",15,"-",{"$f":"H93","v":57}]
[null,null,null,"Ônibus Convencional",null,"R$/veículo",{"$f":"IF(G46=0,0,G46-G94)","v":0},32,null,null,32,"=",16,"-",{"$f":"H94","v":58}]
[null,null,null,"Ônibus Leito",null,"R$/veículo",{"$f":"IF(G47=0,0,G47-G95)","v":0},33,null,null,33,"=",17,"-",{"$f":"H95","v":59}]
[null,null,null,"Ônibus Misto",null,"R$/veículo",{"$f":"IF(G48=0,0,G48-G96)","v":0},34,null,null,34,"=",18,"-",{"$f":"H96","v":60}]
[null,null,null,"Outro",null,"R$/veículo",{"$f":"IF(G49=0,0,G49-G98)","v":0},35,null,null,{"$f":"H68","v":35},"=",19,"-",{"$f":"H98","v":62}]
[null,null,null,"Veículo-Padrão",null,"R$/veículo",{"$f":"G50-G98","v":{"$error":"#DIV/0!"}},36,null,null,36,"=",20,"-",{"$f":"H98","v":62}]
[]
[null,"3. PREÇO DA RODAGEM"]
[]
[null,"PREÇO DO PNEU",null,"Micro-Ônibus",null,"R$/unidade",{"$f":"Insumos!G375","v":0},{"$f":"H69+1","v":37}]
[null,null,null,"Ônibus Convencional",null,"R$/unidade",{"$f":"Insumos!G376","v":0},{"$f":"H73+1","v":38}]
[null,null,null,"Ônibus Leito",null,"R$/unidade",{"$f":"Insumos!G377","v":0},{"$f":"H74+1","v":39}]
[null,null,null,"Ônibus Misto",null,"R$/unidade",{"$f":"Insumos!G378","v":0},40]
[null,null,null,"Outro",null,"R$/unidade",{"$f":"Insumos!G379","v":0},41]
[null,"PREÇO DA RECAPAGEM",null,"Micro-Ônibus",null,"R$/unidade",{"$f":"Insumos!G380","v":0},42]
[null,null,null,"Ônibus Convencional",null,"R$/unidade",{"$f":"Insumos!G381","v":0},43]
[null,null,null,"Ônibus Leito",null,"R$/unidade",{"$f":"Insumos!G382","v":0},44]
[null,null,null,"Ônibus Misto",null,"R$/unidade",{"$f":"Insumos!G383","v":0},45]
[null,null,null,"Outro",null,"R$/unidade",{"$f":"Insumos!G384","v":0},46]
[null,"PREÇO DA CÂMARA",null,"Micro-Ônibus",null,"R$/unidade",{"$f":"Insumos!G385","v":0},47]
[null,null,null,"Ônibus Convencional",null,"R$/unidade",{"$f":"Insumos!G386","v":0},48]
[null,null,null,"Ônibus Leito",null,"R$/unidade",{"$f":"Insumos!G387","v":0},49]
[null,null,null,"Ônibus Misto",null,"R$/unidade",{"$f":"Insumos!G388","v":0},50]
[null,null,null,"Outro",null,"R$/unidade",{"$f":"Insumos!G389","v":0},51]
[null,"PREÇO DO PROTETOR",null,"Micro-Ônibus",null,"R$/unidade",{"$f":"Insumos!G390","v":0},52]
[null,null,null,"Ônibus Convencional",null,"R$/unidade",{"$f":"Insumos!G391","v":0},53]
[null,null,null,"Ônibus Leito",null,"R$/unidade",{"$f":"Insumos!G392","v":0},54]
[null,null,null,"Ônibus Misto",null,"R$/unidade",{"$f":"Insumos!G393","v":0},55]
[null,null,null,"Outro",null,"R$/unidade",{"$f":"Insumos!G394","v":0},56]
[null,"PREÇO DA RODAGEM","(para o cálculo dos custos fixos)","Micro-Ônibus",null,"R$/veículo",{"$f":"6*(G73+G83+G88)","v":0},57,null,null,{"$f":"H93","v":57},"=","6   x  (",{"$f":"H73","v":37},"+",{"$f":"H83","v":47},"+",{"$f":"H88","v":52},")"]
[null,null,null,"Ônibus Convencional",null,"R$/veículo",{"$f":"6*(G74+G84+G89)","v":0},58,null,null,58,"=","6   x  (",{"$f":"H74","v":38},"+",{"$f":"H84","v":48},"+",{"$f":"H89","v":53},")"]
[null,null,null,"Ônibus Leito",null,"R$/veículo",{"$f":"6*(G75+G85+G90)","v":0},59,null,null,59,"=","6   x  (",{"$f":"H75","v":39},"+",{"$f":"H85","v":49},"+",{"$f":"H90","v":54},")"]
[null,null,null,"Ônibus Misto",null,"R$/veículo",{"$f":"10*(G76+G86+G91)","v":0},60,null,null,60,"=","10   x  (",{"$f":"H76","v":40},"+",{"$f":"H86","v":50},"+",{"$f":"H91","v":55},")"]
[null,null,null,"Outro",null,"R$/veículo",{"$f":"14*(G77+G87+G92)","v":0},61,null,null,{"$f":"H97","v":61},"=","14   x  (",{"$f":"H77","v":41},"+",{"$f":"H87","v":51},"+",{"$f":"H92","v":56},")"]
[null,null,null,"Veículo-Padrão",null,"R$/veículo",{"$f":"(G93*G396+G94*G397+G95*G398+G96*G399+G97*G401)/G401","v":{"$error":"#DIV/0!"}},62,null,null,62,"=","(",{"$f":"H93","v":57},"x",{"$f":"H396","v":299},"+",{"$f":"H94","v":58},"x",{"$f":"H397","v":300},"+",{"$f":"H95","v":59},"x",{"$f":"H398","v":301},"+",{"$f":"H96","v":60},"x",{"$f":"H399","v":302},"  )        /",{"$f":"K401","v":304}]
[null,null,"(para o cálculo dos custos variáveis)","Micro-Ônibus",null,"R$/veículo",{"$f":"6*(G73+Coeficientes!$F$45*G78+Coeficientes!$F$46*G83+Coeficientes!$F$47*G88)","v":0},63,null,null,63,"=","6   x  (",{"$f":"H73","v":37},"+ ",{"$f":"Coeficientes!$F$45","v":0}," x",{"$f":"H78","v":42},"+ ",{"$f":"Coeficientes!$F$46","v":0}," x",{"$f":"H83","v":47},"+ ",{"$f":"Coeficientes!$F$47","v":0}," x",{"$f":"H88","v":52},")"]
[null,null,null,"Ônibus Convencional",null,"R$/veículo",{"$f":"6*(G74+Coeficientes!$F$45*G79+Coeficientes!$F$46*G84+Coeficientes!$F$47*G89)","v":0},64,null,null,64,"=","6   x  (",{"$f":"H74","v":38},"+ ",{"$f":"Coeficientes!$F$45","v":0}," x",{"$f":"H79","v":43},"+ ",{"$f":"Coeficientes!$F$46","v":0}," x",{"$f":"H84","v":48},"+ ",{"$f":"Coeficientes!$F$47","v":0}," x",{"$f":"H89","v":53},")"]
[null,null,null,"Ônibus Leito",null,"R$/veículo",{"$f":"6*(G75+Coeficientes!$F$45*G80+Coeficientes!$F$46*G85+Coeficientes!$F$47*G90)","v":0},65,null,null,65,"=","6   x  (",{"$f":"H75","v":39},"+ ",{"$f":"Coeficientes!$F$45","v":0}," x",{"$f":"H80","v":44},"+ ",{"$f":"Coeficientes!$F$46","v":0}," x",{"$f":"H85","v":49},"+ ",{"$f":"Coeficientes!$F$47","v":0}," x",{"$f":"H90","v":54},")"]
[null,null,null,"Ônibus Misto",null,"R$/veículo",{"$f":"10*(G76+Coeficientes!$F$45*G81+Coeficientes!$F$46*G86+Coeficientes!$F$47*G91)","v":0},66,null,null,66,"=","10   x  (",{"$f":"H76","v":40},"+ ",{"$f":"Coeficientes!$F$45","v":0}," x",{"$f":"H81","v":45},"+ ",{"$f":"Coeficientes!$F$46","v":0}," x",{"$f":"H86","v":50},"+ ",{"$f":"Coeficientes!$F$47","v":0}," x",{"$f":"H91","v":55},")"]
[null,null,null,"Outro",null,"R$/veículo",{"$f":"14*(G77+Coeficientes!$F$45*G82+Coeficientes!$F$46*G87+Coeficientes!$F$47*G92)","v":0},67,null,null,{"$f":"H103","v":67},"=","14   x  (",{"$f":"H77","v":41},"+ ",{"$f":"Coeficientes!$F$45","v":0}," x",{"$f":"H82","v":46},"+ ",{"$f":"Coeficientes!$F$46","v":0}," x",{"$f":"H87","v":51},"+ ",{"$f":"Coeficientes!$F$47","v":0}," x",{"$f":"H92","v":56},")"]
[]
[null,"4. INFORMAÇÕES OPERACIONAIS"]
[]
[null,"4.1 DEMANDA EQUIVALENTE"]
[]
[null,"QUANTIDADE DE PASSAGEIROS EQUIVALENTES",null,null,null,"pass./mês",{"$f":"ROUND(Insumos!G29,0)","v":0},{"$f":"H103+1","v":68}]
[]
[null,"OCUPAÇÃO MÉDIA",null,null,null,"passs/viagem",{"$f":"Insumos!G31","v":0},{"$f":"H109+1","v":69}]
[]
[null,"4.2 DISTRIBUIÇÃO ETÁRIA DA FROTA"]
[]
[null,"DISTRIBUIÇÃO ETÁRIA DA FFROTA SEM AR CONDICIONADO",null,"Micro-Ônibus","0 a 1 ano","veículos",{"$f":"Insumos!G121","v":0},{"$f":"H111+1","v":70}]
[null,null,null,null,"1 a 2 anos ","veículos",{"$f":"Insumos!G122","v":0},{"$f":"H115+1","v":71}]
[null,null,null,null,"2 a 3 anos ","veículos",{"$f":"Insumos!G123","v":0},{"$f":"H116+1","v":72}]
[null,null,null,null,"3 a 4 anos ","veículos",{"$f":"Insumos!G124","v":0},73]
[null,null,null,null,"4 a 5 anos ","veículos",{"$f":"Insumos!G125","v":0},74]
[null,null,null,null,"5 a 6 anos ","veículos",{"$f":"Insumos!G126","v":0},75]
[null,null,null,null,"6 a 7 anos ","veículos",{"$f":"Insumos!G127","v":0},76]
[null,null,null,null,"7 a 8 anos ","veículos",{"$f":"Insumos!G128","v":0},77]
[null,null,null,null,"8 a 9 anos ","veículos",{"$f":"Insumos!G129","v":0},78]
[null,null,null,null,"9 a 10 anos ","veículos",{"$f":"Insumos!G130","v":0},79]
[null,null,null,null,"10 a 11 anos ","veículos",{"$f":"Insumos!G131","v":0},80]
[null,null,null,null,"11 a 12 anos ","veículos",{"$f":"Insumos!G132","v":0},81]
[null,null,null,null,"12 a 13 anos ","veículos",{"$f":"Insumos!G133","v":0},82]
[null,null,null,null,"13 a 14 anos ","veículos",{"$f":"Insumos!G134","v":0},83]
[null,null,null,null,"14 a 15 anos ","veículos",{"$f":"Insumos!G135","v":0},84]
[null,null,null,null,"+ de 15 anos ","veículos",{"$f":"Insumos!G136","v":0},85]
[null,null,null,null,"Total","veículos",{"$f":"SUM(G115:G130)","v":0},86,null,null,{"$f":"H131","v":86},"=","soma (",{"$f":"H115","v":70},":",{"$f":"H130","v":85},")"]
[]
[null,"DISTRIBUIÇÃO ETÁRIA DA FROTA SEM AR CONDICIONADO",null,"Ônibus Convencional","0 a 1 ano","veículos",{"$f":"Insumos!G138","v":0},{"$f":"H131+1","v":87}]
[null,null,null,null,"1 a 2 anos ","veículos",{"$f":"Insumos!G139","v":0},88]
[null,null,null,null,"2 a 3 anos ","veículos",{"$f":"Insumos!G140","v":0},89]
[null,null,null,null,"3 a 4 anos ","veículos",{"$f":"Insumos!G141","v":0},90]
[null,null,null,null,"4 a 5 anos ","veículos",{"$f":"Insumos!G142","v":0},91]
[null,null,null,null,"5 a 6 anos ","veículos",{"$f":"Insumos!G143","v":0},92]
[null,null,null,null,"6 a 7 anos ","veículos",{"$f":"Insumos!G144","v":0},93]
[null,null,null,null,"7 a 8 anos ","veículos",{"$f":"Insumos!G145","v":0},94]
[null,null,null,null,"8 a 9 anos ","veículos",{"$f":"Insumos!G146","v":0},95]
[null,null,null,null,"9 a 10 anos ","veículos",{"$f":"Insumos!G147","v":0},96]
[null,null,null,null,"10 a 11 anos ","veículos",{"$f":"Insumos!G148","v":0},97]
[null,null,null,null,"11 a 12 anos ","veículos",{"$f":"Insumos!G149","v":0},98]
[null,null,null,null,"12 a 13 anos ","veículos",{"$f":"Insumos!G150","v":0},99]
[null,null,null,null,"13 a 14 anos ","veículos",{"$f":"Insumos!G151","v":0},100]
[null,null,null,null,"14 a 15 anos ","veículos",{"$f":"Insumos!G152","v":0},101]
[null,null,null,null,"+ de 15 anos ","veículos",{"$f":"Insumos!G153","v":0},{"$f":"H147+1","v":102}]
[null,null,null,null,"Total","veículos",{"$f":"SUM(G133:G148)","v":0},{"$f":"H148+1","v":103},null,null,{"$f":"H149","v":103},"=","soma (",{"$f":"H133","v":87},":",{"$f":"H148","v":102},")"]
[]
[null,"DISTRIBUIÇÃO ETÁRIA DA FROTA SEM AR CONDICIONADO",null,"Ônibus Leito","0 a 1 ano","veículos",{"$f":"Insumos!G155","v":0},{"$f":"H149+1","v":104}]
[null,null,null,null,"1 a 2 anos ","veículos",{"$f":"Insumos!G156","v":0},{"$f":"H151+1","v":105}]
[null,null,null,null,"2 a 3 anos ","veículos",{"$f":"Insumos!G157","v":0},{"$f":"H152+1","v":106}]
[null,null,null,null,"3 a 4 anos ","veículos",{"$f":"Insumos!G158","v":0},107]
[null,null,null,null,"4 a 5 anos ","veículos",{"$f":"Insumos!G159","v":0},108]
[null,null,null,null,"5 a 6 anos ","veículos",{"$f":"Insumos!G160","v":0},109]
[null,null,null,null,"6 a 7 anos ","veículos",{"$f":"Insumos!G161","v":0},110]
[null,null,null,null,"7 a 8 anos ","veículos",{"$f":"Insumos!G162","v":0},111]
[null,null,null,null,"8 a 9 anos ","veículos",{"$f":"Insumos!G163","v":0},112]
[null,null,null,null,"9 a 10 anos ","veículos",{"$f":"Insumos!G164","v":0},113]
[null,null,null,null,"10 a 11 anos ","veículos",{"$f":"Insumos!G165","v":0},114]
[null,null,null,null,"11 a 12 anos ","veículos",{"$f":"Insumos!G166","v":0},115]
[null,null,null,null,"12 a 13 anos ","veículos",{"$f":"Insumos!G167","v":0},116]
[null,null,null,null,"13 a 14 anos ","veículos",{"$f":"Insumos!G168","v":0},117]
[null,null,null,null,"14 a 15 anos ","veículos",{"$f":"Insumos!G169","v":0},118]
[null,null,null,null,"+ de 15 anos ","veículos",{"$f":"Insumos!G170","v":0},119]
[null,null,null,null,"Total","veículos",{"$f":"SUM(G151:G166)","v":0},120,null,null,{"$f":"H167","v":120},"=","soma (",{"$f":"H151","v":104},":",{"$f":"H166","v":119},")"]
[]
[null,"DISTRIBUIÇÃO ETÁRIA DA FROTA SEM AR CONDICIONADO",null,"Ônibus Misto","0 a 1 ano","veículos",{"$f":"Insumos!G172","v":0},{"$f":"H167+1","v":121}]
[null,null,null,null,"1 a 2 anos ","veículos",{"$f":"Insumos!G173","v":0},{"$f":"H169+1","v":122}]
[null,null,null,null,"2 a 3 anos ","veículos",{"$f":"Insumos!G174","v":0},{"$f":"H170+1","v":123}]
[null,null,null,null,"3 a 4 anos ","veículos",{"$f":"Insumos!G175","v":0},124]
[null,null,null,null,"4 a 5 anos ","veículos",{"$f":"Insumos!G176","v":0},125]
[null,null,null,null,"5 a 6 anos ","veículos",{"$f":"Insumos!G177","v":0},126]
[null,null,null,null,"6 a 7 anos ","veículos",{"$f":"Insumos!G178","v":0},127]
[null,null,null,null,"7 a 8 anos ","veículos",{"$f":"Insumos!G179","v":0},128]
[null,null,null,null,"8 a 9 anos ","veículos",{"$f":"Insumos!G180","v":0},129]
[null,null,null,null,"9 a 10 anos ","veículos",{"$f":"Insumos!G181","v":0},130]
[null,null,null,null,"10 a 11 anos ","veículos",{"$f":"Insumos!G182","v":0},131]
[null,null,null,null,"11 a 12 anos ","veículos",{"$f":"Insumos!G183","v":0},132]
[null,null,null,null,"12 a 13 anos ","veículos",{"$f":"Insumos!G184","v":0},133]
[null,null,null,null,"13 a 14 anos ","veículos",{"$f":"Insumos!G185","v":0},134]
[null,null,null,null,"14 a 15 anos ","veículos",{"$f":"Insumos!G186","v":0},135]
[null,null,null,null,"+ de 15 anos ","veículos",{"$f":"Insumos!G187","v":0},136]
[null,null,null,null,"Total","veículos",{"$f":"SUM(G169:G184)","v":0},{"$f":"H184+1","v":137},null,null,{"$f":"H185","v":137},"=","soma (",{"$f":"H169","v":121},":",{"$f":"H184","v":136},")"]
[]
[null,"DISTRIBUIÇÃO ETÁRIA DA FROTA SEM AR CONDICIONADO",null,"Outro","0 a 1 ano","veículos",{"$f":"Insumos!G189","v":0},{"$f":"H185+1","v":138}]
[null,null,null,null,"1 a 2 anos ","veículos",{"$f":"Insumos!G190","v":0},{"$f":"H187+1","v":139}]
[null,null,null,null,"2 a 3 anos ","veículos",{"$f":"Insumos!G191","v":0},{"$f":"H188+1","v":140}]
[null,null,null,null,"3 a 4 anos ","veículos",{"$f":"Insumos!G192","v":0},141]
[null,null,null,null,"4 a 5 anos ","veículos",{"$f":"Insumos!G193","v":0},142]
[null,null,null,null,"5 a 6 anos ","veículos",{"$f":"Insumos!G194","v":0},143]
[null,null,null,null,"6 a 7 anos ","veículos",{"$f":"Insumos!G195","v":0},144]
[null,null,null,null,"7 a 8 anos ","veículos",{"$f":"Insumos!G196","v":0},145]
[null,null,null,null,"8 a 9 anos ","veículos",{"$f":"Insumos!G197","v":0},146]
[null,null,null,null,"9 a 10 anos ","veículos",{"$f":"Insumos!G198","v":0},147]
[null,null,null,null,"10 a 11 anos ","veículos",{"$f":"Insumos!G199","v":0},148]
[null,null,null,null,"11 a 12 anos ","veículos",{"$f":"Insumos!G200","v":0},149]
[null,null,null,null,"12 a 13 anos ","veículos",{"$f":"Insumos!G201","v":0},150]
[null,null,null,null,"13 a 14 anos ","veículos",{"$f":"Insumos!G202","v":0},151]
[null,null,null,null,"14 a 15 anos ","veículos",{"$f":"Insumos!G203","v":0},152]
[null,null,null,null,"+ de 15 anos ","veículos",{"$f":"Insumos!G204","v":0},153]
[null,null,null,null,"Total","veículos",{"$f":"SUM(G187:G202)","v":0},154,null,null,{"$f":"H203","v":154},"=","soma (",{"$f":"H187","v":138},":",{"$f":"H202","v":153},")"]
[]
[null,"FROTA SEM AR CONDICIONADO",null,"Frota Operante",null,"veículos",{"$f":"Insumos!G207","v":0},{"$f":"H203+1","v":155}]
[null,null,null,"Frota Reserva",null,"veículos",{"$f":"G207-G205","v":0},{"$f":"H205+1","v":156},null,null,{"$f":"H206","v":156},"=",{"$f":"H207","v":157},"-",{"$f":"H205","v":155}]
[null,null,null,"Frota Total",null,"veículos",{"$f":"G131+G149+G167+G185+G203","v":0},{"$f":"H206+1","v":157},null,null,{"$f":"H207","v":157},"=",{"$f":"H131","v":86},"+",{"$f":"H149","v":103},"+",{"$f":"H167","v":120},"+",{"$f":"H185","v":137},"+",{"$f":"H203","v":154}]
[]
[null,"DISTRIBUIÇÃO ETÁRIA DA FROTA COM AR CONDICIONADO",null,"Micro-Ônibus","0 a 1 ano","veículos",{"$f":"Insumos!G209","v":0},{"$f":"H207+1","v":158}]
[null,null,null,null,"1 a 2 anos ","veículos",{"$f":"Insumos!G210","v":0},{"$f":"H209+1","v":159}]
[null,null,null,null,"2 a 3 anos ","veículos",{"$f":"Insumos!G211","v":0},{"$f":"H210+1","v":160}]
[null,null,null,null,"3 a 4 anos ","veículos",{"$f":"Insumos!G212","v":0},161]
[null,null,null,null,"4 a 5 anos ","veículos",{"$f":"Insumos!G213","v":0},162]
[null,null,null,null,"5 a 6 anos ","veículos",{"$f":"Insumos!G214","v":0},163]
[null,null,null,null,"6 a 7 anos ","veículos",{"$f":"Insumos!G215","v":0},164]
[null,null,null,null,"7 a 8 anos ","veículos",{"$f":"Insumos!G216","v":0},165]
[null,null,null,null,"8 a 9 anos ","veículos",{"$f":"Insumos!G217","v":0},166]
[null,null,null,null,"9 a 10 anos ","veículos",{"$f":"Insumos!G218","v":0},167]
[null,null,null,null,"10 a 11 anos ","veículos",{"$f":"Insumos!G219","v":0},168]
[null,null,null,null,"11 a 12 anos ","veículos",{"$f":"Insumos!G220","v":0},169]
[null,null,null,null,"12 a 13 anos ","veículos",{"$f":"Insumos!G221","v":0},170]
[null,null,null,null,"13 a 14 anos ","veículos",{"$f":"Insumos!G222","v":0},171]
[null,null,null,null,"14 a 15 anos ","veículos",{"$f":"Insumos!G223","v":0},172]
[null,null,null,null,"+ de 15 anos ","veículos",{"$f":"Insumos!G224","v":0},173]
[null,null,null,null,"Total","veículos",{"$f":"SUM(G209:G224)","v":0},174,null,null,{"$f":"H225","v":174},"=","soma (",{"$f":"H209","v":158},":",{"$f":"H224","v":173},")"]
[]
[null,"DISTRIBUIÇÃO ETÁRIA DA FROTA COM AR CONDICIONADO",null,"Ônibus Convencional","0 a 1 ano","veículos",{"$f":"Insumos!G226","v":0},{"$f":"H225+1","v":175}]
[null,null,null,null,"1 a 2 anos ","veículos",{"$f":"Insumos!G227","v":0},{"$f":"H227+1","v":176}]
[null,null,null,null,"2 a 3 anos ","veículos",{"$f":"Insumos!G228","v":0},{"$f":"H228+1","v":177}]
[null,null,null,null,"3 a 4 anos ","veículos",{"$f":"Insumos!G229","v":0},178]
[null,null,null,null,"4 a 5 anos ","veículos",{"$f":"Insumos!G230","v":0},179]
[null,null,null,null,"5 a 6 anos ","veículos",{"$f":"Insumos!G231","v":0},180]
[null,null,null,null,"6 a 7 anos ","veículos",{"$f":"Insumos!G232","v":0},181]
[null,null,null,null,"7 a 8 anos ","veículos",{"$f":"Insumos!G233","v":0},182]
[null,null,null,null,"8 a 9 anos ","veículos",{"$f":"Insumos!G234","v":0},183]
[null,null,null,null,"9 a 10 anos ","veículos",{"$f":"Insumos!G235","v":0},184]
[null,null,null,null,"10 a 11 anos ","veículos",{"$f":"Insumos!G236","v":0},185]
[null,null,null,null,"11 a 12 anos ","veículos",{"$f":"Insumos!G237","v":0},186]
[null,null,null,null,"12 a 13 anos ","veículos",{"$f":"Insumos!G238","v":0},187]
[null,null,null,null,"13 a 14 anos ","veículos",{"$f":"Insumos!G239","v":0},188]
[null,null,null,null,"14 a 15 anos ","veículos",{"$f":"Insumos!G240","v":0},189]
[null,null,null,null,"+ de 15 anos ","veículos",{"$f":"Insumos!G241","v":0},190]
[null,null,null,null,"Total","veículos",{"$f":"SUM(G227:G242)","v":0},191,null,null,{"$f":"H243","v":191},"=","soma (",{"$f":"H227","v":175},":",{"$f":"H242","v":190},")"]
[]
[null,"DISTRIBUIÇÃO ETÁRIA DA FROTA COM AR CONDICIONADO",null,"Ônibus Leito","0 a 1 ano","veículos",{"$f":"Insumos!G243","v":0},{"$f":"H243+1","v":192}]
[null,null,null,null,"1 a 2 anos ","veículos",{"$f":"Insumos!G244","v":0},{"$f":"H245+1","v":193}]
[null,null,null,null,"2 a 3 anos ","veículos",{"$f":"Insumos!G245","v":0},{"$f":"H246+1","v":194}]
[null,null,null,null,"3 a 4 anos ","veículos",{"$f":"Insumos!G246","v":0},195]
[null,null,null,null,"4 a 5 anos ","veículos",{"$f":"Insumos!G247","v":0},196]
[null,null,null,null,"5 a 6 anos ","veículos",{"$f":"Insumos!G248","v":0},197]
[null,null,null,null,"6 a 7 anos ","veículos",{"$f":"Insumos!G249","v":0},198]
[null,null,null,null,"7 a 8 anos ","veículos",{"$f":"Insumos!G250","v":0},199]
[null,null,null,null,"8 a 9 anos ","veículos",{"$f":"Insumos!G251","v":0},200]
[null,null,null,null,"9 a 10 anos ","veículos",{"$f":"Insumos!G252","v":0},201]
[null,null,null,null,"10 a 11 anos ","veículos",{"$f":"Insumos!G253","v":0},202]
[null,null,null,null,"11 a 12 anos ","veículos",{"$f":"Insumos!G254","v":0},203]
[null,null,null,null,"12 a 13 anos ","veículos",{"$f":"Insumos!G255","v":0},204]
[null,null,null,null,"13 a 14 anos ","veículos",{"$f":"Insumos!G256","v":0},205]
[null,null,null,null,"14 a 15 anos ","veículos",{"$f":"Insumos!G257","v":0},206]
[null,null,null,null,"+ de 15 anos ","veículos",{"$f":"Insumos!G258","v":0},207]
[null,null,null,null,"Total","veículos",{"$f":"SUM(G245:G260)","v":0},208,null,null,{"$f":"H261","v":208},"=","soma (",{"$f":"H245","v":192},":",{"$f":"H260","v":207},")"]
[]
[null,"DISTRIBUIÇÃO ETÁRIA DA FROTA COM AR CONDICIONADO",null,"Ônibus Misto","0 a 1 ano","veículos",{"$f":"Insumos!G260","v":0},{"$f":"H261+1","v":209}]
[null,null,null,null,"1 a 2 anos ","veículos",{"$f":"Insumos!G261","v":0},{"$f":"H263+1","v":210}]
[null,null,null,null,"2 a 3 anos ","veículos",{"$f":"Insumos!G262","v":0},{"$f":"H264+1","v":211}]
[null,null,null,null,"3 a 4 anos ","veículos",{"$f":"Insumos!G263","v":0},212]
[null,null,null,null,"4 a 5 anos ","veículos",{"$f":"Insumos!G264","v":0},213]
[null,null,null,null,"5 a 6 anos ","veículos",{"$f":"Insumos!G265","v":0},214]
[null,null,null,null,"6 a 7 anos ","veículos",{"$f":"Insumos!G266","v":0},215]
[null,null,null,null,"7 a 8 anos ","veículos",{"$f":"Insumos!G267","v":0},216]
[null,null,null,null,"8 a 9 anos ","veículos",{"$f":"Insumos!G268","v":0},217]
[null,null,null,null,"9 a 10 anos ","veículos",{"$f":"Insumos!G269","v":0},218]
[null,null,null,null,"10 a 11 anos ","veículos",{"$f":"Insumos!G270","v":0},219]
[null,null,null,null,"11 a 12 anos ","veículos",{"$f":"Insumos!G271","v":0},220]
[null,null,null,null,"12 a 13 anos ","veículos",{"$f":"Insumos!G272","v":0},221]
[null,null,null,null,"13 a 14 anos ","veículos",{"$f":"Insumos!G273","v":0},222]
[null,null,null,null,"14 a 15 anos ","veículos",{"$f":"Insumos!G274","v":0},223]
[null,null,null,null,"+ de 15 anos ","veículos",{"$f":"Insumos!G275","v":0},224]
[null,null,null,null,"Total","veículos",{"$f":"SUM(G263:G278)","v":0},225,null,null,{"$f":"H279","v":225},"=","soma (",{"$f":"H263","v":209},":",{"$f":"H278","v":224},")"]
[]
[null,"DISTRIBUIÇÃO ETÁRIA DA FROTA COM AR CONDICIONADO",null,"Outro","0 a 1 ano","veículos",{"$f":"Insumos!G277","v":0},{"$f":"H279+1","v":226}]
[null,null,null,null,"1 a 2 anos ","veículos",{"$f":"Insumos!G278","v":0},{"$f":"H281+1","v":227}]
[null,null,null,null,"2 a 3 anos ","veículos",{"$f":"Insumos!G279","v":0},{"$f":"H282+1","v":228}]
[null,null,null,null,"3 a 4 anos ","veículos",{"$f":"Insumos!G280","v":0},229]
[null,null,null,null,"4 a 5 anos ","veículos",{"$f":"Insumos!G281","v":0},230]
[null,null,null,null,"5 a 6 anos ","veículos",{"$f":"Insumos!G282","v":0},231]
[null,null,null,null,"6 a 7 anos ","veículos",{"$f":"Insumos!G283","v":0},232]
[null,null,null,null,"7 a 8 anos ","veículos",{"$f":"Insumos!G284","v":0},233]
[null,null,null,null,"8 a 9 anos ","veículos",{"$f":"Insumos!G285","v":0},234]
[null,null,null,null,"9 a 10 anos ","veículos",{"$f":"Insumos!G286","v":0},235]
[null,null,null,null,"10 a 11 anos ","veículos",{"$f":"Insumos!G287","v":0},236]
[null,null,null,null,"11 a 12 anos ","veículos",{"$f":"Insumos!G288","v":0},237]
[null,null,null,null,"12 a 13 anos ","veículos",{"$f":"Insumos!G289","v":0},238]
[null,null,null,null,"13 a 14 anos ","veículos",{"$f":"Insumos!G290","v":0},239]
[null,null,null,null,"14 a 15 anos ","veículos",{"$f":"Insumos!G291","v":0},240]
[null,null,null,null,"+ de 15 anos ","veículos",{"$f":"Insumos!G292","v":0},241]
[null,null,null,null,"Total","veículos",{"$f":"SUM(G281:G296)","v":0},242,null,null,{"$f":"H297","v":242},"=","soma (",{"$f":"H281","v":226},":",{"$f":"H296","v":241},")"]
[]
[null,"FROTA COM AR CONDICIONADO",null,"Frota Operante",null,"veículos",{"$f":"Insumos!G295","v":0},{"$f":"H279+1","v":226}]
[null,null,null,"Frota Reserva",null,"veículos",{"$f":"G301-G299","v":0},{"$f":"H299+1","v":227},null,null,{"$f":"H300","v":227},"=",{"$f":"H301","v":228},"-",{"$f":"H299","v":226}]
[null,null,null,"Frota Total",null,"veículos",{"$f":"G225++G243+G261+G279+G297","v":0},{"$f":"H300+1","v":228},null,null,{"$f":"H301","v":228},"=",{"$f":"H225","v":174},"+",{"$f":"H243","v":191},"+",{"$f":"H261","v":208},"+",{"$f":"H279","v":225},"+",{"$f":"H297","v":242}]
[]
[null,"DISTRIBUIÇÃO ETÁRIA DA FROTA",null,"Micro-Ônibus","0 a 1 ano","veículos",{"$f":"G115+G209","v":0},{"$f":"H301+1","v":229},null,null,{"$f":"H303","v":229},"=",{"$f":"H115","v":70},"+",{"$f":"H209","v":158}]
[null,"ETÁRIA",null,null,"1 a 2 anos ","veículos",{"$f":"G116+G210","v":0},{"$f":"H303+1","v":230},null,null,{"$f":"H304","v":230},"=",71,"+",159]
[null,"DA FROTA",null,null,"2 a 3 anos ","veículos",0,{"$f":"H304+1","v":231},null,null,231,"=",72,"+",160]
[null,null,null,null,"3 a 4 anos ","veículos",0,232,null,null,232,"=",73,"+",161]
[null,null,null,null,"4 a 5 anos ","veículos",0,233,null,null,233,"=",74,"+",162]
[null,null,null,null,"5 a 6 anos ","veículos",0,234,null,null,234,"=",75,"+",163]
[null,null,null,null,"6 a 7 anos ","veículos",0,235,null,null,235,"=",76,"+",164]
[null,null,null,null,"7 a 8 anos ","veículos",0,236,null,null,236,"=",77,"+",165]
[null,null,null,null,"8 a 9 anos ","veículos",0,237,null,null,237,"=",78,"+",166]
[null,null,null,null,"9 a 10 anos ","veículos",0,238,null,null,238,"=",79,"+",167]
[null,null,null,null,"10 a 11 anos ","veículos",0,239,null,null,239,"=",80,"+",168]
[null,null,null,null,"11 a 12 anos ","veículos",0,240,null,null,240,"=",81,"+",169]
[null,null,null,null,"12 a 13 anos ","veículos",0,241,null,null,241,"=",82,"+",170]
[null,null,null,null,"13 a 14 anos ","veículos",0,242,null,null,242,"=",83,"+",171]
[null,null,null,null,"14 a 15 anos ","veículos",0,243,null,null,243,"=",84,"+",172]
[null,null,null,null,"+ de 15 anos ","veículos",0,244,null,null,244,"=",85,"+",173]
[null,null,null,null,"Total","veículos",{"$f":"SUM(G303:G318)","v":0},245,null,null,245,"=",86,"+",174]
[]
[null,"DISTRIBUIÇÃO ETÁRIA DA FROTA",null,"Ônibus Convencional","0 a 1 ano","veículos",{"$f":"G133+G227","v":0},{"$f":"H319+1","v":246},null,null,{"$f":"H321","v":246},"=",{"$f":"H133","v":87},"+",{"$f":"H227","v":175}]
[null,"ETÁRIA",null,"Leve","1 a 2 anos ","veículos",0,247,null,null,{"$f":"H322","v":247},"=",88,"+",176]
[null,"DA FROTA",null,null,"2 a 3 anos ","veículos",0,{"$f":"H322+1","v":248},null,null,248,"=",89,"+",177]
[null,null,null,null,"3 a 4 anos ","veículos",0,249,null,null,249,"=",90,"+",178]
[null,null,null,null,"4 a 5 anos ","veículos",0,250,null,null,250,"=",91,"+",179]
[null,null,null,null,"5 a 6 anos ","veículos",0,251,null,null,251,"=",92,"+",180]
[null,null,null,null,"6 a 7 anos ","veículos",0,252,null,null,252,"=",93,"+",181]
[null,null,null,null,"7 a 8 anos ","veículos",0,253,null,null,253,"=",94,"+",182]
[null,null,null,null,"8 a 9 anos ","veículos",0,254,null,null,254,"=",95,"+",183]
[null,null,null,null,"9 a 10 anos ","veículos",0,255,null,null,255,"=",96,"+",184]
[null,null,null,null,"10 a 11 anos ","veículos",0,256,null,null,256,"=",97,"+",185]
[null,null,null,null,"11 a 12 anos ","veículos",0,257,null,null,257,"=",98,"+",186]
[null,null,null,null,"12 a 13 anos ","veículos",0,258,null,null,258,"=",99,"+",187]
[null,null,null,null,"13 a 14 anos ","veículos",0,259,null,null,259,"=",100,"+",188]
[null,null,null,null,"14 a 15 anos ","veículos",0,260,null,null,260,"=",101,"+",189]
[null,null,null,null,"+ de 15 anos ","veículos",0,261,null,null,261,"=",102,"+",190]
[null,null,null,null,"Total","veículos",{"$f":"SUM(G321:G336)","v":0},262,null,null,262,"=",103,"+",191]
[]
[null,"DISTRIBUIÇÃO ETÁRIA DA FROTA",null,"Ônibus Leito","0 a 1 ano","veículos",{"$f":"G151+G245","v":0},{"$f":"H337+1","v":263},null,null,{"$f":"H339","v":263},"=",{"$f":"H151","v":104},"+",{"$f":"H245","v":192}]
[null,"ETÁRIA",null,"Pesado","1 a 2 anos ","veículos",0,{"$f":"H339+1","v":264},null,null,{"$f":"H340","v":264},"=",105,"+",193]
[null,"DA FROTA",null,null,"2 a 3 anos ","veículos",0,{"$f":"H340+1","v":265},null,null,265,"=",106,"+",194]
[null,null,null,null,"3 a 4 anos ","veículos",0,266,null,null,266,"=",107,"+",195]
[null,null,null,null,"4 a 5 anos ","veículos",0,267,null,null,267,"=",108,"+",196]
[null,null,null,null,"5 a 6 anos ","veículos",0,268,null,null,268,"=",109,"+",197]
[null,null,null,null,"6 a 7 anos ","veículos",0,269,null,null,269,"=",110,"+",198]
[null,null,null,null,"7 a 8 anos ","veículos",0,270,null,null,270,"=",111,"+",199]
[null,null,null,null,"8 a 9 anos ","veículos",0,271,null,null,271,"=",112,"+",200]
[null,null,null,null,"9 a 10 anos ","veículos",0,272,null,null,272,"=",113,"+",201]
[null,null,null,null,"10 a 11 anos ","veículos",0,273,null,null,273,"=",114,"+",202]
[null,null,null,null,"11 a 12 anos ","veículos",0,274,null,null,274,"=",115,"+",203]
[null,null,null,null,"12 a 13 anos ","veículos",0,275,null,null,275,"=",116,"+",204]
[null,null,null,null,"13 a 14 anos ","veículos",0,276,null,null,276,"=",117,"+",205]
[null,null,null,null,"14 a 15 anos ","veículos",0,277,null,null,277,"=",118,"+",206]
[null,null,null,null,"+ de 15 anos ","veículos",0,278,null,null,278,"=",119,"+",207]
[null,null,null,null,"Total","veículos",{"$f":"SUM(G339:G354)","v":0},279,null,null,279,"=",120,"+",208]
[]
[null,"DISTRIBUIÇÃO ETÁRIA DA FROTA",null,"Ônibus Misto","0 a 1 ano","veículos",{"$f":"G169+G263","v":0},{"$f":"H355+1","v":280},null,null,{"$f":"H357","v":280},"=",{"$f":"H187","v":138},"+",{"$f":"H263","v":209}]
[null,"ETÁRIA",null,null,"1 a 2 anos ","veículos",{"$f":"G170+G264","v":0},{"$f":"H357+1","v":281},null,null,{"$f":"H358","v":281},"=",139,"+",210]
[null,"DA FROTA",null,null,"2 a 3 anos ","veículos",0,{"$f":"H358+1","v":282},null,null,282,"=",140,"+",211]
[null,null,null,null,"3 a 4 anos ","veículos",0,283,null,null,283,"=",141,"+",212]
[null,null,null,null,"4 a 5 anos ","veículos",0,284,null,null,284,"=",142,"+",213]
[null,null,null,null,"5 a 6 anos ","veículos",0,285,null,null,285,"=",143,"+",214]
[null,null,null,null,"6 a 7 anos ","veículos",0,286,null,null,286,"=",144,"+",215]
[null,null,null,null,"7 a 8 anos ","veículos",0,287,null,null,287,"=",145,"+",216]
[null,null,null,null,"8 a 9 anos ","veículos",0,288,null,null,288,"=",146,"+",217]
[null,null,null,null,"9 a 10 anos ","veículos",0,289,null,null,289,"=",147,"+",218]
[null,null,null,null,"10 a 11 anos ","veículos",0,290,null,null,290,"=",148,"+",219]
[null,null,null,null,"11 a 12 anos ","veículos",0,291,null,null,291,"=",149,"+",220]
[null,null,null,null,"12 a 13 anos ","veículos",0,292,null,null,292,"=",150,"+",221]
[null,null,null,null,"13 a 14 anos ","veículos",0,293,null,null,293,"=",151,"+",222]
[null,null,null,null,"14 a 15 anos ","veículos",0,294,null,null,294,"=",152,"+",223]
[null,null,null,null,"+ de 15 anos ","veículos",0,295,null,null,295,"=",153,"+",224]
[null,null,null,null,"Total","veículos",{"$f":"SUM(G357:G372)","v":0},296,null,null,296,"=",154,"+",225]
[]
[null,"DISTRIBUIÇÃO ETÁRIA DA FROTA",null,"Outro","0 a 1 ano","veículos",{"$f":"G187+G281","v":0},{"$f":"H373+1","v":297},null,null,{"$f":"H375","v":297},"=",{"$f":"H205","v":155},"+",{"$f":"H281","v":226}]
[null,"ETÁRIA",null,null,"1 a 2 anos ","veículos",{"$f":"G188+G282","v":0},{"$f":"H375+1","v":298},null,null,{"$f":"H376","v":298},"=",156,"+",227]
[null,"DA FROTA",null,null,"2 a 3 anos ","veículos",0,{"$f":"H376+1","v":299},null,null,299,"=",157,"+",228]
[null,null,null,null,"3 a 4 anos ","veículos",0,300,null,null,300,"=",0,"+",229]
[null,null,null,null,"4 a 5 anos ","veículos",0,301,null,null,301,"=",158,"+",230]
[null,null,null,null,"5 a 6 anos ","veículos",0,302,null,null,302,"=",159,"+",231]
[null,null,null,null,"6 a 7 anos ","veículos",0,303,null,null,303,"=",160,"+",232]
[null,null,null,null,"7 a 8 anos ","veículos",0,304,null,null,304,"=",161,"+",233]
[null,null,null,null,"8 a 9 anos ","veículos",0,305,null,null,305,"=",162,"+",234]
[null,null,null,null,"9 a 10 anos ","veículos",0,306,null,null,306,"=",163,"+",235]
[null,null,null,null,"10 a 11 anos ","veículos",0,307,null,null,307,"=",164,"+",236]
[null,null,null,null,"11 a 12 anos ","veículos",0,308,null,null,308,"=",165,"+",237]
[null,null,null,null,"12 a 13 anos ","veículos",0,309,null,null,309,"=",166,"+",238]
[null,null,null,null,"13 a 14 anos ","veículos",0,310,null,null,310,"=",167,"+",239]
[null,null,null,null,"14 a 15 anos ","veículos",0,311,null,null,311,"=",168,"+",240]
[null,null,null,null,"+ de 15 anos ","veículos",0,312,null,null,312,"=",169,"+",241]
[null,null,null,null,"Total","veículos",{"$f":"SUM(G375:G390)","v":0},313,null,null,313,"=",170,"+",242]
[]
[null,"Frota Operante Total",null,null,null,"veículos",{"$f":"G299+G205","v":0},{"$f":"H373+1","v":297},null,null,{"$f":"H393","v":297},"=",{"$f":"H205","v":155},"+",{"$f":"H299","v":226}]
[null,"Frota Reserva Total",null,null,null,"veículos",{"$f":"G300+G206","v":0},{"$f":"H393+1","v":298},null,null,298,"=",{"$f":"H206","v":156},"+",{"$f":"H300","v":227}]
[]
[null,"Frota Total",null,"Micro-Ônibus",null,"veículos",{"$f":"G319","v":0},{"$f":"H394+1","v":299},null,null,299,"=",{"$f":"H319","v":245}]
[null,null,null,"Ônibus Convencional",null,"veículos",{"$f":"G337","v":0},300,null,null,300,"=",{"$f":"H337","v":262}]
[null,null,null,"Ônibus Leito",null,"veículos",{"$f":"G355","v":0},301,null,null,301,"=",{"$f":"H355","v":279}]
[null,null,null,"Ônibus Misto",null,"veículos",{"$f":"G373","v":0},302,null,null,302,"=",{"$f":"H373","v":296}]
[null,null,null,"Outro",null,"veículos",{"$f":"G391","v":0},303,null,null,{"$f":"H400","v":303},"=",{"$f":"H391","v":313}]
[null,null,null,"Total",null,"veículos",{"$f":"SUM(G396:G400)","v":0},304,null,null,304,"=","soma (",{"$f":"H396","v":299},":",{"$f":"H400","v":303},")"]
[]
[]
[null,"4.3 PERCURSO MENSAL"]
[]
[null,"PERCURSO MENSAL PRODUTIVO",null,null,null,"km/mês",{"$f":"Insumos!G37","v":0},{"$f":"H401+1","v":305}]
[null,"COEFICIENTE DE PERCURSO IMPRODUTIVO",null,null,null,"%",{"$f":"Coeficientes!$F$19","v":5},306]
[null,"PERCURSO MENSAL IMPRODUTIVO",null,null,null,"km/mês",{"$f":"ROUND(G407*G406/100,2)","v":0},307,null,null,{"$f":"H408","v":307},"=",{"$f":"H407","v":306},"x",{"$f":"H406","v":305}]
[null,"PERCURSO MENSAL TOTAL",null,null,null,"km/mês",{"$f":"G406+G408","v":0},308,null,null,{"$f":"H409","v":308},"=",{"$f":"H406","v":305},"+",{"$f":"H408","v":307}]
[]
[]
[null,"4.4 INDICADORES OPERACIONAIS"]
[]
[null,"PERCURSO MÉDIO MENSAL (PMM)",null,null,null,"km/veículo.mês",{"$f":"G409/G393","v":{"$error":"#DIV/0!"}},{"$f":"H409+1","v":309},null,null,{"$f":"H414","v":309},"=",{"$f":"H409","v":308},"/",{"$f":"H393","v":297}]
[null,"ÍNDICE DE PASSAGGEIROS EQUIVALENTES POR QUILÔMETRO (IPKeq)",null,null,null,"passageiros/km",{"$f":"G109/G409","v":{"$error":"#DIV/0!"}},310,null,null,{"$f":"H415","v":310},"=",{"$f":"H109","v":68},"/",{"$f":"M414","v":308}]
[]
[]
[null,"5. CUSTOS VARIÁVEIS"]
[]
[null,"5.1 CUSTO DO COMBUSTÍVEL"]
[]
[null,"ÍNDICE DE CONSUMO DE COMBUSTÍVEL","SEM AR CONDICIONADO","Micro-Ônibus",null,"litros/km",{"$f":"Coeficientes!$F25","v":0},{"$f":"H415+1","v":311}]
[null,null,null,"Ônibus Convencional",null,"litros/km",{"$f":"Coeficientes!$F26","v":0},{"$f":"H422+1","v":312}]
[null,null,null,"Ônibus Leito",null,"litros/km",{"$f":"Coeficientes!$F27","v":0},313]
[null,null,null,"Ônibus Misto",null,"litros/km",{"$f":"Coeficientes!$F28","v":0},314]
[null,null,null,"Outro",null,"litros/km",{"$f":"Coeficientes!$F29","v":0},315]
[null,null,"COM AR CONDICIONADO","Micro-Ônibus",null,"litros/km",{"$f":"Coeficientes!$F30","v":0},316]
[null,null,null,"Ônibus Convencional",null,"litros/km",{"$f":"Coeficientes!$F31","v":0},317]
[null,null,null,"Ônibus Leito",null,"litros/km",{"$f":"Coeficientes!$F32","v":0},318]
[null,null,null,"Ônibus Misto",null,"litros/km",{"$f":"Coeficientes!$F33","v":0},319]
[null,null,null,"Outro",null,"litros/km",{"$f":"Coeficientes!$F34","v":0},320]
[null,"CUSTO DE CONSUMO DE COMBUSTÍVEL","SEM AR CONDICIONADO","Micro-Ônibus",null,"R$/km",{"$f":"IF(G422=0,0,G422*G$24)","v":0},321,null,null,{"$f":"H432","v":321},"=",{"$f":"$H$24","v":1},"x",{"$f":"H422","v":311}]
[null,null,null,"Ônibus Convencional",null,"R$/km",{"$f":"IF(G423=0,0,G423*G$24)","v":0},322,null,null,322,"=",1,"x",312]
[null,null,null,"Ônibus Leito",null,"R$/km",{"$f":"IF(G424=0,0,G424*G$24)","v":0},323,null,null,323,"=",1,"x",313]
[null,null,null,"Ônibus Misto",null,"R$/km",{"$f":"IF(G425=0,0,G425*G$24)","v":0},324,null,null,324,"=",1,"x",314]
[null,null,null,"Outro",null,"R$/km",0,325,null,null,{"$f":"H436","v":325},"=",1,"x",315]
[null,null,"COM AR CONDICIONADO","Micro-Ônibus",null,"R$/km",{"$f":"IF(G427=0,0,G427*G$24)","v":0},326,null,null,326,"=",1,"x",316]
[null,null,null,"Ônibus Convencional",null,"R$/km",{"$f":"IF(G428=0,0,G428*G$24)","v":0},327,null,null,327,"=",1,"x",317]
[null,null,null,"Ônibus Leito",null,"R$/km",0,328,null,null,328,"=",1,"x",318]
[null,null,null,"Ônibus Misto",null,"R$/km",0,329,null,null,329,"=",1,"x",319]
[null,null,null,"Outro",null,"R$/km",0,330,null,null,{"$f":"H441","v":330},"=",1,"x",320]
[null,"FROTA TOTAL","SEM AR CONDICIONADO","Micro-Ônibus",null,"veículos",{"$f":"Insumos!G59","v":0},331]
[null,null,null,"Ônibus Convencional",null,"veículos",{"$f":"Insumos!G60","v":0},332]
[null,null,null,"Ônibus Leito",null,"veículos",{"$f":"Insumos!G61","v":0},333]
[null,null,null,"Ônibus Misto",null,"veículos",{"$f":"Insumos!G62","v":0},334]
[null,null,null,"Outro",null,"veículos",{"$f":"Insumos!G63","v":0},335]
[null,null,"COM AR CONDICIONADO","Micro-Ônibus",null,"veículos",{"$f":"Insumos!G81","v":0},336]
[null,null,null,"Ônibus Convencional",null,"veículos",{"$f":"Insumos!G82","v":0},337]
[null,null,null,"Ônibus Leito",null,"veículos",{"$f":"Insumos!G83","v":0},338]
[null,null,null,"Ônibus Misto",null,"veículos",{"$f":"Insumos!G84","v":0},339]
[null,null,null,"Outro",null,"veículos",{"$f":"Insumos!G85","v":0},340]
[null,"PONDERAÇÃO DO CUSTO DO COMBUSTÍVEL","SEM AR CONDICIONADO","Micro-Ônibus",null,"R$.veículo/km",{"$f":"G432*G442","v":0},341,null,null,{"$f":"H452","v":341},"=",{"$f":"H422","v":311},"x",{"$f":"H432","v":321}]
[null,null,null,"Ônibus Convencional",null,"R$.veículo/km",{"$f":"G433*G443","v":0},342,null,null,342,"=",312,"x",322]
[null,null,null,"Ônibus Leito",null,"R$.veículo/km",0,343,null,null,343,"=",313,"x",323]
[null,null,null,"Ônibus Misto",null,"R$.veículo/km",0,344,null,null,344,"=",314,"x",324]
[null,null,null,"Outro",null,"R$.veículo/km",0,345,null,null,{"$f":"H456","v":345},"=",315,"x",325]
[null,null,"COM AR CONDICIONADO","Micro-Ônibus",null,"R$.veículo/km",0,346,null,null,346,"=",316,"x",326]
[null,null,null,"Ônibus Convencional",null,"R$.veículo/km",0,347,null,null,347,"=",317,"x",327]
[null,null,null,"Ônibus Leito",null,"R$.veículo/km",0,348,null,null,348,"=",318,"x",328]
[null,null,null,"Ônibus Misto",null,"R$.veículo/km",0,349,null,null,349,"=",319,"x",329]
[null,null,null,"Outro",null,"R$.veículo/km",0,350,null,null,{"$f":"H461","v":350},"=",320,"x",330]
[null,null,"VEÍCULO-PADRÃO",null,null,"R$.veículo/km",{"$f":"SUM(G452:G461)","v":0},351,null,null,351,"=","soma (",{"$f":"H452","v":341},":",{"$f":"H460","v":349},")"]
[null,"CUSTO DO COMBUSTÍVEL",null,null,null,"R$/km",{"$f":"G462/G401","v":{"$error":"#DIV/0!"}},352,null,null,{"$f":"H463","v":352},"=",{"$f":"H462","v":351},"/",{"$f":"H401","v":304}]
[]
[]
[null,"5.2 CUSTO DE ÓLEOS, LUBRIFICANTES E ARLA"]
[]
[null,"ÍNDICE DE CONSUMO DE ÓLEOS E LUBRIFICANTES",null,null,null,"litros de comb./km",{"$f":"Coeficientes!$F$36","v":0},{"$f":"H463+1","v":353}]
[null,"ÍNDICE DE CONSUMO DE ARLA",null,null,null,"litros de comb./km",{"$f":"Coeficientes!$F$38","v":0},{"$f":"H468+1","v":354}]
[null,"CUSTO DE ÓLEOS, LUBRIFICANTES E ARLA",null,null,null,"R$/km",{"$f":"G24*(G468+G469)","v":0},{"$f":"H469+1","v":355},null,null,{"$f":"H470","v":355},"=",{"$f":"H24","v":1},"x     (",{"$f":"H468","v":353},"+",{"$f":"H469","v":354},")"]
[]
[]
[null,"5.3 CUSTO DA RODAGEM"]
[]
[null,"VIDA ÚTIL DO PNEU",null,"Micro-Ônibus",null,"km/unidade",{"$f":"Coeficientes!F40","v":0},{"$f":"H470+1","v":356}]
[null,null,null,"Ônibus Convencional",null,"km/unidade",{"$f":"Coeficientes!F41","v":0},{"$f":"H475+1","v":357}]
[null,null,null,"Ônibus Leito",null,"km/unidade",{"$f":"Coeficientes!F42","v":0},358]
[null,null,null,"Ônibus Misto",null,"km/unidade",{"$f":"Coeficientes!F43","v":0},359]
[null,null,null,"Outro",null,"km/unidade",{"$f":"Coeficientes!F44","v":0},360]
[null,"CUSTO DA RODAGEM",null,"Micro-Ônibus",null,"R$/km",{"$f":"IF(G475=0,0,G99/G475)","v":0},361,null,null,{"$f":"H480","v":361},"=",{"$f":"H99","v":63},"/",{"$f":"H475","v":356}]
[null,null,null,"Ônibus Convencional",null,"R$/km",{"$f":"IF(G476=0,0,G100/G476)","v":0},362,null,null,362,"=",{"$f":"H100","v":64},"/",{"$f":"H476","v":357}]
[null,null,null,"Ônibus Leito",null,"R$/km",{"$f":"IF(G477=0,0,G101/G477)","v":0},363,null,null,363,"=",{"$f":"H101","v":65},"/",{"$f":"H477","v":358}]
[null,null,null,"Ônibus Misto",null,"R$/km",{"$f":"IF(G478=0,0,G102/G478)","v":0},364,null,null,364,"=",{"$f":"H102","v":66},"/",{"$f":"H478","v":359}]
[null,null,null,"Outro",null,"R$/km",{"$f":"IF(G479=0,0,G103/G479)","v":0},365,null,null,{"$f":"H484","v":365},"=",{"$f":"H103","v":67},"/",{"$f":"H479","v":360}]
[null,"PONDERAÇÃO DO CUSTO DA RODAGEM",null,"Micro-Ônibus",null,"R$.veículo/km",{"$f":"G480*G319","v":0},366,null,null,366,"=",{"$f":"H480","v":361},"x    (",{"$f":"H131","v":86},"+",{"$f":"H225","v":174},")"]
[null,null,null,"Ônibus Convencional",null,"R$.veículo/km",{"$f":"G481*G337","v":0},367,null,null,367,"=",{"$f":"H481","v":362},"x    (",{"$f":"H149","v":103},"+",{"$f":"H243","v":191},")"]
[null,null,null,"Ônibus Leito",null,"R$.veículo/km",{"$f":"G482*G355","v":0},368,null,null,368,"=",{"$f":"H482","v":363},"x    (",{"$f":"H167","v":120},"+",{"$f":"H261","v":208},")",null,null,null,"Micro-Ônibus"]
[null,null,null,"Ônibus Misto",null,"R$.veículo/km",{"$f":"G483*G373","v":0},369,null,null,369,"=",{"$f":"H483","v":364},"x    (",{"$f":"H185","v":137},"+",{"$f":"H279","v":225},")",null,null,null,"Ônibus Convencional"]
[null,null,null,"Outro",null,"R$.veículo/km",{"$f":"G484*G391","v":0},370,null,null,{"$f":"H489","v":370},"=",{"$f":"H484","v":365},"x    (",{"$f":"H203","v":154},"+",{"$f":"H319","v":245},")",null,null,null,"Ônibus Leito"]
[null,null,null,"Veículo-Padrão",null,"R$.veículo/km",{"$f":"SUM(G485:G489)","v":0},371,null,null,371,"=","soma (",{"$f":"H485","v":366},":",{"$f":"H488","v":369},")",null,null,null,null,"Ônibus Misto"]
[null,"CUSTO DA RODAGEM",null,null,null,"R$/km",{"$f":"G490/(IF(G401=0,0,G401))","v":{"$error":"#DIV/0!"}},{"$f":"H490+1","v":372},null,null,372,"=",{"$f":"H490","v":371},"/",{"$f":"H401","v":304},null,null,null,null,null,null,"Outro"]
[]
[]
[null,"5.4 CUSTO DE PEÇAS E ACESSÓRIOS"]
[]
[null,"ÍNDICE DE CONSUMO",null,null,null,"%",{"$f":"Coeficientes!$F$48","v":0},{"$f":"H491+1","v":373}]
[null,"CUSTO DE PEÇAS E ACESSÓRIOS",null,"Micro-Ônibus",null,"R$/km",{"$f":"G45*G$496/(G$414*100)","v":{"$error":"#DIV/0!"}},{"$f":"H496+1","v":374},null,null,{"$f":"H497","v":374},"=",{"$f":"H45","v":15},"x",{"$f":"$H$496","v":373},"/",{"$f":"$H$414","v":309}]
[null,null,null,"Ônibus Convencional",null,"R$/km",{"$f":"G46*G$496/(G$414*100)","v":{"$error":"#DIV/0!"}},375,null,null,375,"=",{"$f":"H46","v":16},"x",{"$f":"$H$496","v":373},"/",{"$f":"$H$414","v":309}]
[null,null,null,"Ônibus Leito",null,"R$/km",{"$f":"G47*G$496/(G$414*100)","v":{"$error":"#DIV/0!"}},376,null,null,376,"=",{"$f":"H47","v":17},"x",{"$f":"$H$496","v":373},"/",{"$f":"$H$414","v":309}]
[null,null,null,"Ônibus Misto",null,"R$/km",{"$f":"G48*G$496/(G$414*100)","v":{"$error":"#DIV/0!"}},377,null,null,377,"=",{"$f":"H48","v":18},"x",{"$f":"$H$496","v":373},"/",{"$f":"$H$414","v":309}]
[null,null,null,"Outro",null,"R$/km",{"$f":"G49*G$496/(G$414*100)","v":{"$error":"#DIV/0!"}},378,null,null,{"$f":"H501","v":378},"=",{"$f":"H49","v":19},"x",{"$f":"$H$496","v":373},"/",{"$f":"$H$414","v":309}]
[null,"PONDERAÇÃO DO CUSTO",null,"Micro-Ônibus",null,"R$.veículo/km",{"$f":"G497*G319","v":{"$error":"#DIV/0!"}},379,null,null,379,"=",{"$f":"H497","v":374},"x    (",{"$f":"O485","v":86},"+",{"$f":"Q485","v":174},")"]
[null,null,null,"Ônibus Convencional",null,"R$.veículo/km",{"$f":"G498*G337","v":{"$error":"#DIV/0!"}},380,null,null,380,"=",{"$f":"H498","v":375},"x    (",{"$f":"O486","v":103},"+",{"$f":"Q486","v":191},")"]
[null,null,null,"Ônibus Leito",null,"R$.veículo/km",{"$f":"G499*G355","v":{"$error":"#DIV/0!"}},381,null,null,381,"=",{"$f":"H499","v":376},"x    (",{"$f":"O487","v":120},"+",{"$f":"Q487","v":208},")"]
[null,null,null,"Ônibus Misto",null,"R$.veículo/km",{"$f":"G500*G373","v":{"$error":"#DIV/0!"}},382,null,null,382,"=",{"$f":"H500","v":377},"x    (",{"$f":"O488","v":137},"+",{"$f":"Q488","v":225},")"]
[null,null,null,"Outro",null,"R$.veículo/km",{"$f":"G501*G391","v":{"$error":"#DIV/0!"}},383,null,null,{"$f":"H506","v":383},"=",{"$f":"H501","v":378},"x    (",{"$f":"O489","v":154},"+",{"$f":"Q489","v":245},")"]
[null,null,null,"Veículo-Padrão",null,"R$.veículo/km",{"$f":"SUM(G502:G506)","v":{"$error":"#DIV/0!"}},384,null,null,384,"=","soma (",{"$f":"H502","v":379},":",{"$f":"H505","v":382},")"]
[null,"CUSTO DE PEÇAS E ACESSÓRIOS",null,null,null,"R$/km",{"$f":"G507/(IF(G401=0,0,G401))","v":{"$error":"#DIV/0!"}},385,null,null,385,"=",{"$f":"H507","v":384},"/",{"$f":"H401","v":304}]
[]
[]
[null,"5.5 CUSTO VARIÁVEL TOTAL"]
[]
[null,"CUSTO VARIÁVEL TOTAL",null,null,null,"R$/km",{"$f":"G463+G470+G491+G508","v":{"$error":"#DIV/0!"}},{"$f":"H508+1","v":386},null,null,{"$f":"H513","v":386},"=",{"$f":"H463","v":352},"+",{"$f":"H470","v":355},"+",{"$f":"H491","v":372},"+",{"$f":"H508","v":385}]
[]
[]
[null,"6. CUSTOS FIXOS"]
[]
[null,"6.1 CUSTOS DE CAPITAL"]
[]
[null,"DEPRECIAÇÃO DO VEÍCULO","Micro-Ônibus","Coeficiente de Depreciação Anual","0 a 1 ano","%/veículo.ano",{"$f":"12*Coeficientes!F53","v":0.16363636363636364},{"$f":"H513+1","v":387}]
[null,null,null,null,"1 a 2 anos ","%/veículo.ano",{"$f":"12*Coeficientes!F54","v":0.14727272727272728},{"$f":"H520+1","v":388}]
[null,null,null,null,"2 a 3 anos ","%/veículo.ano",{"$f":"12*Coeficientes!F55","v":0.13090909090909092},{"$f":"H521+1","v":389}]
[null,null,null,null,"3 a 4 anos ","%/veículo.ano",{"$f":"12*Coeficientes!F56","v":0.11454545454545456},390]
[null,null,null,null,"4 a 5 anos ","%/veículo.ano",{"$f":"12*Coeficientes!F57","v":9.818181818181819E-2},391]
[null,null,null,null,"5 a 6 anos ","%/veículo.ano",{"$f":"12*Coeficientes!F58","v":8.1818181818181818E-2},392]
[null,null,null,null,"6 a 7 anos ","%/veículo.ano",{"$f":"12*Coeficientes!F59","v":6.545454545454546E-2},393]
[null,null,null,null,"7 a 8 anos ","%/veículo.ano",{"$f":"12*Coeficientes!F60","v":4.9090909090909095E-2},394]
[null,null,null,null,"8 a 9 anos ","%/veículo.ano",{"$f":"12*Coeficientes!F61","v":3.272727272727273E-2},395]
[null,null,null,null,"9 a 10 anos ","%/veículo.ano",{"$f":"12*Coeficientes!F62","v":1.6363636363636365E-2},396]
[null,null,null,null,"10 a 11 anos ","%/veículo.ano",{"$f":"12*Coeficientes!F63","v":0},397]
[null,null,null,null,"11 a 12 anos ","%/veículo.ano",{"$f":"12*Coeficientes!F64","v":0},398]
[null,null,null,null,"12 a 13 anos ","%/veículo.ano",{"$f":"12*Coeficientes!F65","v":0},399]
[null,null,null,null,"13 a 14 anos ","%/veículo.ano",{"$f":"12*Coeficientes!F66","v":0},400]
[null,null,null,null,"14 a 15 anos ","%/veículo.ano",{"$f":"12*Coeficientes!F67","v":0},401]
[null,null,null,null,"+ de 15 anos ","%/veículo.ano",{"$f":"12*Coeficientes!F68","v":0},402]
[]
[null,"DEPRECIAÇÃO DO VEÍCULO","Micro-Ônibus","Depreciação Anual da Frota sem Ar Condicionado","0 a 1 ano","R$/ano",{"$f":"G115*G520","v":0},{"$f":"H535+1","v":403},null,null,{"$f":"H537","v":403},"=",{"$f":"H115","v":70},"x",{"$f":"H520","v":387}]
[null,null,null,null,"1 a 2 anos ","R$/ano",{"$f":"G116*G521","v":0},{"$f":"H537+1","v":404},null,null,{"$f":"H538","v":404},"=",71,"x",388]
[null,null,null,null,"2 a 3 anos ","R$/ano",0,{"$f":"H538+1","v":405},null,null,405,"=",72,"x",389]
[null,null,null,null,"3 a 4 anos ","R$/ano",0,406,null,null,406,"=",73,"x",390]
[null,null,null,null,"4 a 5 anos ","R$/ano",0,407,null,null,407,"=",74,"x",391]
[null,null,null,null,"5 a 6 anos ","R$/ano",0,408,null,null,408,"=",75,"x",392]
[null,null,null,null,"6 a 7 anos ","R$/ano",0,409,null,null,409,"=",76,"x",393]
[null,null,null,null,"7 a 8 anos ","R$/ano",0,410,null,null,410,"=",77,"x",394]
[null,null,null,null,"8 a 9 anos ","R$/ano",0,411,null,null,411,"=",78,"x",395]
[null,null,null,null,"9 a 10 anos ","R$/ano",0,412,null,null,412,"=",79,"x",396]
[null,null,null,null,"10 a 11 anos ","R$/ano",0,413,null,null,413,"=",80,"x",397]
[null,null,null,null,"11 a 12 anos ","R$/ano",0,414,null,null,414,"=",81,"x",398]
[null,null,null,null,"12 a 13 anos ","R$/ano",0,415,null,null,415,"=",82,"x",399]
[null,null,null,null,"13 a 14 anos ","R$/ano",0,416,null,null,416,"=",83,"x",400]
[null,null,null,null,"14 a 15 anos ","R$/ano",0,417,null,null,417,"=",84,"x",401]
[null,null,null,null,"+ de 15 anos ","R$/ano",0,418,null,null,418,"=",85,"x",402]
[null,null,null,null,"Total","R$/ano",{"$f":"SUM(G537:G552)","v":0},{"$f":"H552+1","v":419},null,null,419,"=","soma (",{"$f":"H537","v":403},":",{"$f":"H552","v":418},")"]
[null,null,null,"Depreciação Mensal ",null,"R$/veículo.mês",{"$f":"IF(G131=0,0,G54*G553/(G131*12))","v":0},{"$f":"H553+1","v":420},null,null,{"$f":"H554","v":420},"=",{"$f":"H54","v":21},"x",{"$f":"H553","v":419},"/    (",{"$f":"H131","v":86},"x",12,")"]
[]
[null,"DEPRECIAÇÃO DO VEÍCULO","Micro-Ônibus","Depreciação Anual da Frota Com Ar Condicionado","0 a 1 ano","R$/ano",{"$f":"G205*G520","v":0},{"$f":"H554+1","v":421},null,null,{"$f":"H556","v":421},"=",{"$f":"H209","v":158},"x",{"$f":"H520","v":387}]
[null,null,null,null,"1 a 2 anos ","R$/ano",{"$f":"G206*G521","v":0},{"$f":"H556+1","v":422},null,null,422,"=",159,"x",388]
[null,null,null,null,"2 a 3 anos ","R$/ano",0,{"$f":"H557+1","v":423},null,null,423,"=",160,"x",389]
[null,null,null,null,"3 a 4 anos ","R$/ano",0,424,null,null,424,"=",161,"x",390]
[null,null,null,null,"4 a 5 anos ","R$/ano",0,425,null,null,425,"=",162,"x",391]
[null,null,null,null,"5 a 6 anos ","R$/ano",0,426,null,null,426,"=",163,"x",392]
[null,null,null,null,"6 a 7 anos ","R$/ano",0,427,null,null,427,"=",164,"x",393]
[null,null,null,null,"7 a 8 anos ","R$/ano",0,428,null,null,428,"=",165,"x",394]
[null,null,null,null,"8 a 9 anos ","R$/ano",0,429,null,null,429,"=",166,"x",395]
[null,null,null,null,"9 a 10 anos ","R$/ano",0,430,null,null,430,"=",167,"x",396]
[null,null,null,null,"10 a 11 anos ","R$/ano",0,431,null,null,431,"=",168,"x",397]
[null,null,null,null,"11 a 12 anos ","R$/ano",0,432,null,null,432,"=",169,"x",398]
[null,null,null,null,"12 a 13 anos ","R$/ano",0,433,null,null,433,"=",170,"x",399]
[null,null,null,null,"13 a 14 anos ","R$/ano",0,434,null,null,434,"=",171,"x",400]
[null,null,null,null,"14 a 15 anos ","R$/ano",0,435,null,null,435,"=",172,"x",401]
[null,null,null,null,"+ de 15 anos ","R$/ano",0,436,null,null,436,"=",173,"x",402]
[null,null,null,null,"TOTAL","R$/ano",{"$f":"SUM(G556:G571)","v":0},{"$f":"H571+1","v":437},null,null,437,"=","soma (",{"$f":"H556","v":421},":",{"$f":"H571","v":436},")"]
[null,null,null,"Depreciação Mensal ",null,"R$/veículo.mês",{"$f":"IF(G225=0,0,G59*G572/(G225*12))","v":0},{"$f":"H572+1","v":438},null,null,{"$f":"H573","v":438},"=",{"$f":"H59","v":26},"x",{"$f":"H572","v":437},"/    (",{"$f":"H225","v":174},"x",12,")"]
[null,null,"Ponderação da Depreciação",null,null,"R$/veículo.mês",{"$f":"IF(G396=0,0,(G554*G131+G573*G225)/G396)","v":0},{"$f":"H573+1","v":439}]
[]
[null,"DEPRECIAÇÃO DO VEÍCULO","Ônibus Convencional","Coeficiente de Depreciação Anual","0 a 1 ano","%/veículo.ano",{"$f":"12*Coeficientes!F69","v":0.16363636363636364},{"$f":"H573+1","v":439}]
[null,null,null,null,"1 a 2 anos ","%/veículo.ano",{"$f":"12*Coeficientes!F70","v":0.14727272727272728},{"$f":"H576+1","v":440}]
[null,null,null,null,"2 a 3 anos ","%/veículo.ano",{"$f":"12*Coeficientes!F71","v":0.13090909090909092},{"$f":"H577+1","v":441}]
[null,null,null,null,"3 a 4 anos ","%/veículo.ano",{"$f":"12*Coeficientes!F72","v":0.11454545454545456},442]
[null,null,null,null,"4 a 5 anos ","%/veículo.ano",{"$f":"12*Coeficientes!F73","v":9.818181818181819E-2},443]
[null,null,null,null,"5 a 6 anos ","%/veículo.ano",{"$f":"12*Coeficientes!F74","v":8.1818181818181818E-2},444]
[null,null,null,null,"6 a 7 anos ","%/veículo.ano",{"$f":"12*Coeficientes!F75","v":6.545454545454546E-2},445]
[null,null,null,null,"7 a 8 anos ","%/veículo.ano",{"$f":"12*Coeficientes!F76","v":4.9090909090909095E-2},446]
[null,null,null,null,"8 a 9 anos ","%/veículo.ano",{"$f":"12*Coeficientes!F77","v":3.272727272727273E-2},447]
[null,null,null,null,"9 a 10 anos ","%/veículo.ano",{"$f":"12*Coeficientes!F78","v":1.6363636363636365E-2},448]
[null,null,null,null,"10 a 11 anos ","%/veículo.ano",{"$f":"12*Coeficientes!F79","v":0},449]
[null,null,null,null,"11 a 12 anos ","%/veículo.ano",{"$f":"12*Coeficientes!F80","v":0},450]
[null,null,null,null,"12 a 13 anos ","%/veículo.ano",{"$f":"12*Coeficientes!F81","v":0},451]
[null,null,null,null,"13 a 14 anos ","%/veículo.ano",{"$f":"12*Coeficientes!F82","v":0},452]
[null,null,null,null,"14 a 15 anos ","%/veículo.ano",{"$f":"12*Coeficientes!F83","v":0},453]
[null,null,null,null,"+ de 15 anos ","%/veículo.ano",{"$f":"12*Coeficientes!F84","v":0},454]
[]
[null,"DEPRECIAÇÃO DO VEÍCULO","Ônibus Convencional","Depreciação Anual da Frota sem Ar Condicionado","0 a 1 ano","R$/ano",{"$f":"G133*G576","v":0},{"$f":"H591+1","v":455},null,null,{"$f":"H593","v":455},"=",{"$f":"H133","v":87},"x",{"$f":"H576","v":439}]
[null,null,null,null,"1 a 2 anos ","R$/ano",{"$f":"G134*G577","v":0},{"$f":"H593+1","v":456},null,null,456,"=",88,"x",440]
[null,null,null," ","2 a 3 anos ","R$/ano",0,{"$f":"H594+1","v":457},null,null,457,"=",89,"x",441]
[null,null,null,null,"3 a 4 anos ","R$/ano",0,458,null,null,458,"=",90,"x",442]
[null,null,null,null,"4 a 5 anos ","R$/ano",0,459,null,null,459,"=",91,"x",443]
[null,null,null,null,"5 a 6 anos ","R$/ano",0,460,null,null,460,"=",92,"x",444]
[null,null,null,null,"6 a 7 anos ","R$/ano",0,461,null,null,461,"=",93,"x",445]
[null,null,null,null,"7 a 8 anos ","R$/ano",0,462,null,null,462,"=",94,"x",446]
[null,null,null,null,"8 a 9 anos ","R$/ano",0,463,null,null,463,"=",95,"x",447]
[null,null,null,null,"9 a 10 anos ","R$/ano",0,464,null,null,464,"=",96,"x",448]
[null,null,null,null,"10 a 11 anos ","R$/ano",0,465,null,null,465,"=",97,"x",449]
[null,null,null,null,"11 a 12 anos ","R$/ano",0,466,null,null,466,"=",98,"x",450]
[null,null,null,null,"12 a 13 anos ","R$/ano",0,467,null,null,467,"=",99,"x",451]
[null,null,null,null,"13 a 14 anos ","R$/ano",0,468,null,null,468,"=",100,"x",452]
[null,null,null,null,"14 a 15 anos ","R$/ano",0,469,null,null,469,"=",101,"x",453]
[null,null,null,null,"+ de 15 anos ","R$/ano",0,470,null,null,470,"=",102,"x",454]
[null,null,null,null,"Total","R$/ano",{"$f":"SUM(G593:G608)","v":0},{"$f":"H608+1","v":471},null,null,471,"=","soma (",{"$f":"H593","v":455},":",{"$f":"H608","v":470},")"]
[null,null,null,"Depreciação Mensal ",null,"R$/veículo.mês",{"$f":"IF(G149=0,0,G55*G609/(G149*12))","v":0},{"$f":"H609+1","v":472},null,null,{"$f":"H610","v":472},"=",{"$f":"H55","v":22},"x",{"$f":"H609","v":471},"/    (",{"$f":"H149","v":103},"x",12,")"]
[]
[null,"DEPRECIAÇÃO DO VEÍCULO","Ônibus Convencional","Depreciação Anual da Frota com Ar Condicionado","0 a 1 ano","R$/ano",{"$f":"G576*G227","v":0},{"$f":"H610+1","v":473},null,null,{"$f":"H612","v":473},"=",{"$f":"H227","v":175},"x",{"$f":"H576","v":439}]
[null,null,null,null,"1 a 2 anos ","R$/ano",{"$f":"G577*G228","v":0},{"$f":"H612+1","v":474},null,null,474,"=",176,"x",440]
[null,null,null," ","2 a 3 anos ","R$/ano",0,{"$f":"H613+1","v":475},null,null,475,"=",177,"x",441]
[null,null,null,null,"3 a 4 anos ","R$/ano",0,476,null,null,476,"=",178,"x",442]
[null,null,null,null,"4 a 5 anos ","R$/ano",0,477,null,null,477,"=",179,"x",443]
[null,null,null,null,"5 a 6 anos ","R$/ano",0,478,null,null,478,"=",180,"x",444]
[null,null,null,null,"6 a 7 anos ","R$/ano",0,479,null,null,479,"=",181,"x",445]
[null,null,null,null,"7 a 8 anos ","R$/ano",0,480,null,null,480,"=",182,"x",446]
[null,null,null,null,"8 a 9 anos ","R$/ano",0,481,null,null,481,"=",183,"x",447]
[null,null,null,null,"9 a 10 anos ","R$/ano",0,482,null,null,482,"=",184,"x",448]
[null,null,null,null,"10 a 11 anos ","R$/ano",0,483,null,null,483,"=",185,"x",449]
[null,null,null,null,"11 a 12 anos ","R$/ano",0,484,null,null,484,"=",186,"x",450]
[null,null,null,null,"12 a 13 anos ","R$/ano",0,485,null,null,485,"=",187,"x",451]
[null,null,null,null,"13 a 14 anos ","R$/ano",0,486,null,null,486,"=",188,"x",452]
[null,null,null,null,"14 a 15 anos ","R$/ano",0,487,null,null,487,"=",189,"x",453]
[null,null,null,null,"+ de 15 anos ","R$/ano",0,488,null,null,488,"=",190,"x",454]
[null,null,null,null,"TOTAL","R$/ano",{"$f":"SUM(G612:G627)","v":0},{"$f":"H627+1","v":489},null,null,489,"=","soma (",{"$f":"H612","v":473},":",{"$f":"H627","v":488},")"]
[null,null,null,"Depreciação Mensal ",null,"R$/veículo.mês",{"$f":"IF(G243=0,0,G60*G628/(G243*12))","v":0},{"$f":"H628+1","v":490},null,null,{"$f":"H629","v":490},"=",{"$f":"H60","v":27},"x",{"$f":"H628","v":489},"/    (",{"$f":"H243","v":191},"x",12,")"]
[null,null,"Ponderação da Depreciação",null,null,"R$/veículo.mês",{"$f":"IF(G397=0,0,(G610*G149+G629*G243)/G397)","v":0},{"$f":"H629+1","v":491},null,null,{"$f":"H630","v":491},"=   (",{"$f":"H149","v":103},"x",{"$f":"H610","v":472},"+",{"$f":"H243","v":191},"x",{"$f":"H629","v":490},")  /",{"$f":"H337","v":262}]
[]
[null,"DEPRECIAÇÃO DO VEÍCULO","Ônibus Leito","Coeficiente de Depreciação Anual","0 a 1 ano","%/veículo.ano",{"$f":"12*Coeficientes!F85","v":0.16363636363636364},{"$f":"H630+1","v":492}]
[null,null,null,null,"1 a 2 anos ","%/veículo.ano",{"$f":"12*Coeficientes!F86","v":0.14727272727272728},{"$f":"H632+1","v":493}]
[null,null,null,null,"2 a 3 anos ","%/veículo.ano",{"$f":"12*Coeficientes!F87","v":0.13090909090909092},{"$f":"H633+1","v":494}]
[null,null,null,null,"3 a 4 anos ","%/veículo.ano",{"$f":"12*Coeficientes!F88","v":0.11454545454545456},495]
[null,null,null,null,"4 a 5 anos ","%/veículo.ano",{"$f":"12*Coeficientes!F89","v":9.818181818181819E-2},496]
[null,null,null,null,"5 a 6 anos ","%/veículo.ano",{"$f":"12*Coeficientes!F90","v":8.1818181818181818E-2},497]
[null,null,null,null,"6 a 7 anos ","%/veículo.ano",{"$f":"12*Coeficientes!F91","v":6.545454545454546E-2},498]
[null,null,null,null,"7 a 8 anos ","%/veículo.ano",{"$f":"12*Coeficientes!F92","v":4.9090909090909095E-2},499]
[null,null,null,null,"8 a 9 anos ","%/veículo.ano",{"$f":"12*Coeficientes!F93","v":3.272727272727273E-2},500]
[null,null,null,null,"9 a 10 anos ","%/veículo.ano",{"$f":"12*Coeficientes!F94","v":1.6363636363636365E-2},501]
[null,null,null,null,"10 a 11 anos ","%/veículo.ano",{"$f":"12*Coeficientes!F95","v":0},502]
[null,null,null,null,"11 a 12 anos ","%/veículo.ano",{"$f":"12*Coeficientes!F96","v":0},503]
[null,null,null,null,"12 a 13 anos ","%/veículo.ano",{"$f":"12*Coeficientes!F97","v":0},504]
[null,null,null,null,"13 a 14 anos ","%/veículo.ano",{"$f":"12*Coeficientes!F98","v":0},505]
[null,null,null,null,"14 a 15 anos ","%/veículo.ano",{"$f":"12*Coeficientes!F99","v":0},506]
[null,null,null,null,"+ de 15 anos ","%/veículo.ano",{"$f":"12*Coeficientes!F100","v":0},507]
[]
[null,"DEPRECIAÇÃO DO VEÍCULO","Ônibus Leito","Depreciação Anual da Frota sem Ar Condicionado","0 a 1 ano","R$/ano",{"$f":"G151*G632","v":0},{"$f":"H647+1","v":508},null,null,{"$f":"H649","v":508},"=",{"$f":"H151","v":104},"x",{"$f":"H632","v":492}]
[null,null,null,null,"1 a 2 anos ","R$/ano",{"$f":"G152*G633","v":0},{"$f":"H649+1","v":509},null,null,509,"=",105,"x",493]
[null,null,null," ","2 a 3 anos ","R$/ano",0,{"$f":"H650+1","v":510},null,null,510,"=",106,"x",494]
[null,null,null,null,"3 a 4 anos ","R$/ano",0,511,null,null,511,"=",107,"x",495]
[null,null,null,null,"4 a 5 anos ","R$/ano",0,512,null,null,512,"=",108,"x",496]
[null,null,null,null,"5 a 6 anos ","R$/ano",0,513,null,null,513,"=",109,"x",497]
[null,null,null,null,"6 a 7 anos ","R$/ano",0,514,null,null,514,"=",110,"x",498]
[null,null,null,null,"7 a 8 anos ","R$/ano",0,515,null,null,515,"=",111,"x",499]
[null,null,null,null,"8 a 9 anos ","R$/ano",0,516,null,null,516,"=",112,"x",500]
[null,null,null,null,"9 a 10 anos ","R$/ano",0,517,null,null,517,"=",113,"x",501]
[null,null,null,null,"10 a 11 anos ","R$/ano",0,518,null,null,518,"=",114,"x",502]
[null,null,null,null,"11 a 12 anos ","R$/ano",0,519,null,null,519,"=",115,"x",503]
[null,null,null,null,"12 a 13 anos ","R$/ano",0,520,null,null,520,"=",116,"x",504]
[null,null,null,null,"13 a 14 anos ","R$/ano",0,521,null,null,521,"=",117,"x",505]
[null,null,null,null,"14 a 15 anos ","R$/ano",0,522,null,null,522,"=",118,"x",506]
[null,null,null,null,"+ de 15 anos ","R$/ano",0,523,null,null,523,"=",119,"x",507]
[null,null,null,null,"Total","R$/ano",{"$f":"SUM(G649:G664)","v":0},{"$f":"H664+1","v":524},null,null,524,"=","soma (",{"$f":"H649","v":508},":",{"$f":"H664","v":523},")"]
[null,null,null,"Depreciação Mensal ",null,"R$/veículo.mês",{"$f":"IF(G167=0,0,G56*G665/(G167*12))","v":0},{"$f":"H665+1","v":525},null,null,{"$f":"H666","v":525},"=",{"$f":"H56","v":23},"x",{"$f":"H665","v":524},"/    (",{"$f":"H167","v":120},"x",12,")"]
[]
[null,"DEPRECIAÇÃO DO VEÍCULO","Ônibus Leito","Depreciação Anual da Frota com Ar Condicionado","0 a 1 ano","R$/ano",{"$f":"G632*G245","v":0},{"$f":"H666+1","v":526},null,null,{"$f":"H668","v":526},"=",{"$f":"H245","v":192},"x",{"$f":"H632","v":492}]
[null,null,null,null,"1 a 2 anos ","R$/ano",{"$f":"G633*G246","v":0},{"$f":"H668+1","v":527},null,null,527,"=",193,"x",493]
[null,null,null," ","2 a 3 anos ","R$/ano",0,{"$f":"H669+1","v":528},null,null,528,"=",194,"x",494]
[null,null,null,null,"3 a 4 anos ","R$/ano",0,529,null,null,529,"=",195,"x",495]
[null,null,null,null,"4 a 5 anos ","R$/ano",0,530,null,null,530,"=",196,"x",496]
[null,null,null,null,"5 a 6 anos ","R$/ano",0,531,null,null,531,"=",197,"x",497]
[null,null,null,null,"6 a 7 anos ","R$/ano",0,532,null,null,532,"=",198,"x",498]
[null,null,null,null,"7 a 8 anos ","R$/ano",0,533,null,null,533,"=",199,"x",499]
[null,null,null,null,"8 a 9 anos ","R$/ano",0,534,null,null,534,"=",200,"x",500]
[null,null,null,null,"9 a 10 anos ","R$/ano",0,535,null,null,535,"=",201,"x",501]
[null,null,null,null,"10 a 11 anos ","R$/ano",0,536,null,null,536,"=",202,"x",502]
[null,null,null,null,"11 a 12 anos ","R$/ano",0,537,null,null,537,"=",203,"x",503]
[null,null,null,null,"12 a 13 anos ","R$/ano",0,538,null,null,538,"=",204,"x",504]
[null,null,null,null,"13 a 14 anos ","R$/ano",0,539,null,null,539,"=",205,"x",505]
[null,null,null,null,"14 a 15 anos ","R$/ano",0,540,null,null,540,"=",206,"x",506]
[null,null,null,null,"+ de 15 anos ","R$/ano",0,541,null,null,541,"=",207,"x",507]
[null,null,null,null,"TOTAL","R$/ano",{"$f":"SUM(G668:G683)","v":0},{"$f":"H683+1","v":542},null,null,542,"=","soma (",{"$f":"H668","v":526},":",{"$f":"H683","v":541},")"]
[null,null,null,"Depreciação Mensal ",null,"R$/veículo.mês",{"$f":"IF(G261=0,0,G61*G684/(G261*12))","v":0},{"$f":"H684+1","v":543},null,null,{"$f":"H685","v":543},"=",{"$f":"H61","v":28},"x",{"$f":"H684","v":542},"/    (",{"$f":"H261","v":208},"x",12,")"]
[null,null,"Ponderação da Depreciação",null,null,"R$/veículo.mês",{"$f":"IF(G355=0,0,(G666*G167+G685*G261)/G355)","v":0},{"$f":"H685+1","v":544},null,null,{"$f":"H686","v":544},"=   (",{"$f":"H167","v":120},"x",{"$f":"H666","v":525},"+",{"$f":"H261","v":208},"x",{"$f":"H685","v":543},")  /",{"$f":"H355","v":279}]
[]
[null,"DEPRECIAÇÃO DO VEÍCULO","Ônibus Misto","Coeficiente de Depreciação Anual","0 a 1 ano","%/veículo.ano",{"$f":"12*Coeficientes!F101","v":0.16363636363636364},{"$f":"H686+1","v":545}]
[null,null,null,null,"1 a 2 anos ","%/veículo.ano",{"$f":"12*Coeficientes!F102","v":0.14727272727272728},{"$f":"H688+1","v":546}]
[null,null,null,null,"2 a 3 anos ","%/veículo.ano",{"$f":"12*Coeficientes!F103","v":0.13090909090909092},{"$f":"H689+1","v":547}]
[null,null,null,null,"3 a 4 anos ","%/veículo.ano",{"$f":"12*Coeficientes!F104","v":0.11454545454545456},548]
[null,null,null,null,"4 a 5 anos ","%/veículo.ano",{"$f":"12*Coeficientes!F105","v":9.818181818181819E-2},549]
[null,null,null,null,"5 a 6 anos ","%/veículo.ano",{"$f":"12*Coeficientes!F106","v":8.1818181818181818E-2},550]
[null,null,null,null,"6 a 7 anos ","%/veículo.ano",{"$f":"12*Coeficientes!F107","v":6.545454545454546E-2},551]
[null,null,null,null,"7 a 8 anos ","%/veículo.ano",{"$f":"12*Coeficientes!F108","v":4.9090909090909095E-2},552]
[null,null,null,null,"8 a 9 anos ","%/veículo.ano",{"$f":"12*Coeficientes!F109","v":3.272727272727273E-2},553]
[null,null,null,null,"9 a 10 anos ","%/veículo.ano",{"$f":"12*Coeficientes!F110","v":1.6363636363636365E-2},554]
[null,null,null,null,"10 a 11 anos ","%/veículo.ano",{"$f":"12*Coeficientes!F111","v":0},555]
[null,null,null,null,"11 a 12 anos ","%/veículo.ano",{"$f":"12*Coeficientes!F112","v":0},556]
[null,null,null,null,"12 a 13 anos ","%/veículo.ano",{"$f":"12*Coeficientes!F113","v":0},557]
[null,null,null,null,"13 a 14 anos ","%/veículo.ano",{"$f":"12*Coeficientes!F114","v":0},558]
[null,null,null,null,"14 a 15 anos ","%/veículo.ano",{"$f":"12*Coeficientes!F115","v":0},559]
[null,null,null,null,"+ de 15 anos ","%/veículo.ano",{"$f":"12*Coeficientes!F116","v":0},560]
[]
[null,"DEPRECIAÇÃO DO VEÍCULO","Ônibus Misto","Depreciação Anual da Frota sem Ar Condicionado","0 a 1 ano","R$/ano",{"$f":"G169*G688","v":0},{"$f":"H703+1","v":561},null,null,{"$f":"H705","v":561},"=",{"$f":"H187","v":138},"x",{"$f":"H688","v":545}]
[null,null,null,null,"1 a 2 anos ","R$/ano",{"$f":"G170*G689","v":0},{"$f":"H705+1","v":562},null,null,562,"=",139,"x",546]
[null,null,null," ","2 a 3 anos ","R$/ano",0,{"$f":"H706+1","v":563},null,null,563,"=",140,"x",547]
[null,null,null,null,"3 a 4 anos ","R$/ano",0,564,null,null,564,"=",141,"x",548]
[null,null,null,null,"4 a 5 anos ","R$/ano",0,565,null,null,565,"=",142,"x",549]
[null,null,null,null,"5 a 6 anos ","R$/ano",0,566,null,null,566,"=",143,"x",550]
[null,null,null,null,"6 a 7 anos ","R$/ano",0,567,null,null,567,"=",144,"x",551]
[null,null,null,null,"7 a 8 anos ","R$/ano",0,568,null,null,568,"=",145,"x",552]
[null,null,null,null,"8 a 9 anos ","R$/ano",0,569,null,null,569,"=",146,"x",553]
[null,null,null,null,"9 a 10 anos ","R$/ano",0,570,null,null,570,"=",147,"x",554]
[null,null,null,null,"10 a 11 anos ","R$/ano",0,571,null,null,571,"=",148,"x",555]
[null,null,null,null,"11 a 12 anos ","R$/ano",0,572,null,null,572,"=",149,"x",556]
[null,null,null,null,"12 a 13 anos ","R$/ano",0,573,null,null,573,"=",150,"x",557]
[null,null,null,null,"13 a 14 anos ","R$/ano",0,574,null,null,574,"=",151,"x",558]
[null,null,null,null,"14 a 15 anos ","R$/ano",0,575,null,null,575,"=",152,"x",559]
[null,null,null,null,"+ de 15 anos ","R$/ano",0,576,null,null,576,"=",153,"x",560]
[null,null,null,null,"Total","R$/ano",{"$f":"SUM(G705:G720)","v":0},{"$f":"H720+1","v":577},null,null,577,"=","soma (",{"$f":"H705","v":561},":",{"$f":"H720","v":576},")"]
[null,null,null,"Depreciação Mensal ",null,"R$/veículo.mês",{"$f":"IF(G185=0,0,G57*G721/(G185*12))","v":0},{"$f":"H721+1","v":578},null,null,{"$f":"H722","v":578},"=",{"$f":"H57","v":24},"x",{"$f":"H721","v":577},"/    (",{"$f":"H203","v":154},"x",12,")"]
[]
[null,"DEPRECIAÇÃO DO VEÍCULO","Ônibus Misto","Depreciação Anual da Frota com Ar Condicionado","0 a 1 ano","R$/ano",{"$f":"G263*G688","v":0},{"$f":"H722+1","v":579},null,null,{"$f":"H724","v":579},"=",{"$f":"H263","v":209},"x",{"$f":"H688","v":545}]
[null,null,null,null,"1 a 2 anos ","R$/ano",{"$f":"G264*G689","v":0},{"$f":"H724+1","v":580},null,null,580,"=",210,"x",546]
[null,null,null," ","2 a 3 anos ","R$/ano",0,{"$f":"H725+1","v":581},null,null,581,"=",211,"x",547]
[null,null,null,null,"3 a 4 anos ","R$/ano",0,582,null,null,582,"=",212,"x",548]
[null,null,null,null,"4 a 5 anos ","R$/ano",0,583,null,null,583,"=",213,"x",549]
[null,null,null,null,"5 a 6 anos ","R$/ano",0,584,null,null,584,"=",214,"x",550]
[null,null,null,null,"6 a 7 anos ","R$/ano",0,585,null,null,585,"=",215,"x",551]
[null,null,null,null,"7 a 8 anos ","R$/ano",0,586,null,null,586,"=",216,"x",552]
[null,null,null,null,"8 a 9 anos ","R$/ano",0,587,null,null,587,"=",217,"x",553]
[null,null,null,null,"9 a 10 anos ","R$/ano",0,588,null,null,588,"=",218,"x",554]
[null,null,null,null,"10 a 11 anos ","R$/ano",0,589,null,null,589,"=",219,"x",555]
[null,null,null,null,"11 a 12 anos ","R$/ano",0,590,null,null,590,"=",220,"x",556]
[null,null,null,null,"12 a 13 anos ","R$/ano",0,591,null,null,591,"=",221,"x",557]
[null,null,null,null,"13 a 14 anos ","R$/ano",0,592,null,null,592,"=",222,"x",558]
[null,null,null,null,"14 a 15 anos ","R$/ano",0,593,null,null,593,"=",223,"x",559]
[null,null,null,null,"+ de 15 anos ","R$/ano",0,594,null,null,594,"=",224,"x",560]
[null,null,null,null,"TOTAL","R$/ano",{"$f":"SUM(G724:G739)","v":0},{"$f":"H739+1","v":595},null,null,595,"=","soma (",{"$f":"H724","v":579},":",{"$f":"H739","v":594},")"]
[null,null,null,"Depreciação Mensal ",null,"R$/veículo.mês",{"$f":"IF(G279=0,0,G63*G740/(G279*12))","v":0},{"$f":"H740+1","v":596},null,null,{"$f":"H741","v":596},"=",{"$f":"H63","v":30},"x",{"$f":"H740","v":595},"/    (",{"$f":"H279","v":225},"x",12,")"]
[null,null,"Ponderação da Depreciação",null,null,"R$/veículo.mês",{"$f":"IF(G399=0,0,(G722*G185+G741*G279)/G399)","v":0},{"$f":"H741+1","v":597},null,null,{"$f":"H742","v":597},"=   (",{"$f":"H185","v":137},"x",{"$f":"H722","v":578},"+",{"$f":"H279","v":225},"x",{"$f":"H741","v":596},")  /",{"$f":"H411","v":0}]
[]
[null,"DEPRECIAÇÃO DO VEÍCULO","Outro","Coeficiente de Depreciação Anual","0 a 1 ano","%/veículo.ano",{"$f":"12*Coeficientes!F117","v":0.16363636363636364},{"$f":"H742+1","v":598}]
[null,null,null,null,"1 a 2 anos ","%/veículo.ano",{"$f":"12*Coeficientes!F118","v":0.14727272727272728},{"$f":"H744+1","v":599}]
[null,null,null,null,"2 a 3 anos ","%/veículo.ano",{"$f":"12*Coeficientes!F119","v":0.13090909090909092},{"$f":"H745+1","v":600}]
[null,null,null,null,"3 a 4 anos ","%/veículo.ano",{"$f":"12*Coeficientes!F120","v":0.11454545454545456},601]
[null,null,null,null,"4 a 5 anos ","%/veículo.ano",{"$f":"12*Coeficientes!F121","v":9.818181818181819E-2},602]
[null,null,null,null,"5 a 6 anos ","%/veículo.ano",{"$f":"12*Coeficientes!F122","v":8.1818181818181818E-2},603]
[null,null,null,null,"6 a 7 anos ","%/veículo.ano",{"$f":"12*Coeficientes!F123","v":6.545454545454546E-2},604]
[null,null,null,null,"7 a 8 anos ","%/veículo.ano",{"$f":"12*Coeficientes!F124","v":4.9090909090909095E-2},605]
[null,null,null,null,"8 a 9 anos ","%/veículo.ano",{"$f":"12*Coeficientes!F125","v":3.272727272727273E-2},606]
[null,null,null,null,"9 a 10 anos ","%/veículo.ano",{"$f":"12*Coeficientes!F126","v":1.6363636363636365E-2},607]
[null,null,null,null,"10 a 11 anos ","%/veículo.ano",{"$f":"12*Coeficientes!F127","v":0},608]
[null,null,null,null,"11 a 12 anos ","%/veículo.ano",{"$f":"12*Coeficientes!F128","v":0},609]
[null,null,null,null,"12 a 13 anos ","%/veículo.ano",{"$f":"12*Coeficientes!F129","v":0},610]
[null,null,null,null,"13 a 14 anos ","%/veículo.ano",{"$f":"12*Coeficientes!F130","v":0},611]
[null,null,null,null,"14 a 15 anos ","%/veículo.ano",{"$f":"12*Coeficientes!F131","v":0},612]
[null,null,null,null,"+ de 15 anos ","%/veículo.ano",{"$f":"12*Coeficientes!F132","v":0},613]
[]
[null,"DEPRECIAÇÃO DO VEÍCULO","Outro","Depreciação Anual da Frota sem Ar Condicionado","0 a 1 ano","R$/ano",{"$f":"G187*G744","v":0},{"$f":"H759+1","v":614},null,null,{"$f":"H761","v":614},"=",{"$f":"H187","v":138},"x",{"$f":"H744","v":598}]
[null,null,null,null,"1 a 2 anos ","R$/ano",{"$f":"G188*G745","v":0},{"$f":"H761+1","v":615},null,null,615,"=",{"$f":"H188","v":139},"x",{"$f":"H745","v":599}]
[null,null,null," ","2 a 3 anos ","R$/ano",0,{"$f":"H762+1","v":616},null,null,616,"=",140,"x",600]
[null,null,null,null,"3 a 4 anos ","R$/ano",0,617,null,null,617,"=",141,"x",601]
[null,null,null,null,"4 a 5 anos ","R$/ano",0,618,null,null,618,"=",142,"x",602]
[null,null,null,null,"5 a 6 anos ","R$/ano",0,619,null,null,619,"=",143,"x",603]
[null,null,null,null,"6 a 7 anos ","R$/ano",0,620,null,null,620,"=",144,"x",604]
[null,null,null,null,"7 a 8 anos ","R$/ano",0,621,null,null,621,"=",145,"x",605]
[null,null,null,null,"8 a 9 anos ","R$/ano",0,622,null,null,622,"=",146,"x",606]
[null,null,null,null,"9 a 10 anos ","R$/ano",0,623,null,null,623,"=",147,"x",607]
[null,null,null,null,"10 a 11 anos ","R$/ano",0,624,null,null,624,"=",148,"x",608]
[null,null,null,null,"11 a 12 anos ","R$/ano",0,625,null,null,625,"=",149,"x",609]
[null,null,null,null,"12 a 13 anos ","R$/ano",0,626,null,null,626,"=",150,"x",610]
[null,null,null,null,"13 a 14 anos ","R$/ano",0,627,null,null,627,"=",151,"x",611]
[null,null,null,null,"14 a 15 anos ","R$/ano",0,628,null,null,628,"=",152,"x",612]
[null,null,null,null,"+ de 15 anos ","R$/ano",0,629,null,null,629,"=",{"$f":"H202","v":153},"x",613]
[null,null,null,null,"Total","R$/ano",{"$f":"SUM(G761:G776)","v":0},{"$f":"H776+1","v":630},null,null,630,"=","soma (",{"$f":"H761","v":614},":",{"$f":"H776","v":629},")"]
[null,null,null,"Depreciação Mensal ",null,"R$/veículo.mês",{"$f":"IF(G203=0,0,G58*G777/(G203*12))","v":0},{"$f":"H777+1","v":631},null,null,{"$f":"H778","v":631},"=",{"$f":"H58","v":25},"x",{"$f":"H777","v":630},"/    (",{"$f":"H203","v":154},"x",12,")"]
[]
[null,"DEPRECIAÇÃO DO VEÍCULO","Outro","Depreciação Anual da Frota com Ar Condicionado","0 a 1 ano","R$/ano",{"$f":"G281*G744","v":0},{"$f":"H778+1","v":632},null,null,{"$f":"H780","v":632},"=",{"$f":"H281","v":226},"x",{"$f":"H744","v":598}]
[null,null,null,null,"1 a 2 anos ","R$/ano",{"$f":"G282*G745","v":0},{"$f":"H780+1","v":633},null,null,633,"=",{"$f":"H282","v":227},"x",599]
[null,null,null," ","2 a 3 anos ","R$/ano",0,{"$f":"H781+1","v":634},null,null,634,"=",228,"x",600]
[null,null,null,null,"3 a 4 anos ","R$/ano",0,635,null,null,635,"=",229,"x",601]
[null,null,null,null,"4 a 5 anos ","R$/ano",0,636,null,null,636,"=",230,"x",602]
[null,null,null,null,"5 a 6 anos ","R$/ano",0,637,null,null,637,"=",231,"x",603]
[null,null,null,null,"6 a 7 anos ","R$/ano",0,638,null,null,638,"=",232,"x",604]
[null,null,null,null,"7 a 8 anos ","R$/ano",0,639,null,null,639,"=",233,"x",605]
[null,null,null,null,"8 a 9 anos ","R$/ano",0,640,null,null,640,"=",234,"x",606]
[null,null,null,null,"9 a 10 anos ","R$/ano",0,641,null,null,641,"=",235,"x",607]
[null,null,null,null,"10 a 11 anos ","R$/ano",0,642,null,null,642,"=",236,"x",608]
[null,null,null,null,"11 a 12 anos ","R$/ano",0,643,null,null,643,"=",237,"x",609]
[null,null,null,null,"12 a 13 anos ","R$/ano",0,644,null,null,644,"=",238,"x",610]
[null,null,null,null,"13 a 14 anos ","R$/ano",0,645,null,null,645,"=",239,"x",611]
[null,null,null,null,"14 a 15 anos ","R$/ano",0,646,null,null,646,"=",240,"x",612]
[null,null,null,null,"+ de 15 anos ","R$/ano",0,647,null,null,647,"=",241,"x",613]
[null,null,null,null,"TOTAL","R$/ano",{"$f":"SUM(G780:G795)","v":0},{"$f":"H795+1","v":648},null,null,648,"=","soma (",{"$f":"H780","v":632},":",{"$f":"H795","v":647},")"]
[null,null,null,"Depreciação Mensal ",null,"R$/veículo.mês",{"$f":"IF(G297=0,0,G63*G796/(G297*12))","v":0},{"$f":"H796+1","v":649},null,null,{"$f":"H797","v":649},"=",{"$f":"H63","v":30},"x",{"$f":"H796","v":648}]
[null,null,"Ponderação da Depreciação",null,null,"R$/veículo.mês",{"$f":"IF(G400=0,0,(G778*G203+G797*G297)/G400)","v":0},{"$f":"H797+1","v":650},null,null,{"$f":"H798","v":650},"=   (",{"$f":"H203","v":154},"x",{"$f":"H778","v":631},"+",{"$f":"H297","v":242},"x",{"$f":"H797","v":649},")  /",{"$f":"H400","v":303}]
[]
[null,"Depreciação Ponderada dos Veículos",null,null,null,"R$/veículo.mês",{"$f":"IF(G401=0,0,(G574*G396+G630*G397+G686*G398+G742*G399+G798*G400)/G401)","v":0},{"$f":"H798+1","v":651},null,null,{"$f":"H800","v":651},"=   (",{"$f":"H396","v":299},"x",{"$f":"H574","v":439},"+",{"$f":"H397","v":300},"x",{"$f":"H630","v":491},"+",{"$f":"H398","v":301},"x",{"$f":"H686","v":544},"+",{"$f":"H399","v":302},"x",{"$f":"H742","v":597},"+",{"$f":"H400","v":303},"x",{"$f":"H798","v":650},")  /",{"$f":"H401","v":304}]
[]
[]
[]
[null,"DEPRECIAÇÃO DE OUTROS ATIVOS","Edificações",null,"Coeficiente de Depreciação","%/mês",{"$f":"Coeficientes!F134","v":0},{"$f":"H800+1","v":652}]
[null,null,null,null,"Preço do Ativo Novo","R$",{"$f":"Insumos!G397","v":0},{"$f":"H804+1","v":653}]
[null,null,null,null,"Depreciação","R$/veículo.mês",{"$f":"G805*G804/($G$401*100)","v":{"$error":"#DIV/0!"}},{"$f":"H805+1","v":654},null,null,{"$f":"H806","v":654},"=",{"$f":"H804","v":652},"x",{"$f":"H805","v":653},"/       (","100   x",{"$f":"$H$401","v":304},")"]
[null,null,"Equipamentos de Garagem",null,"Coeficiente de Depreciação","%/mês",{"$f":"Coeficientes!F135","v":0},655]
[null,null,null,null,"Preço do Ativo Novo","R$",{"$f":"Insumos!G398","v":0},656]
[null,null,null,null,"Depreciação","R$/veículo.mês",{"$f":"G808*G807/($G$401*100)","v":{"$error":"#DIV/0!"}},657,null,null,{"$f":"H809","v":657},"=",{"$f":"H807","v":655},"x",{"$f":"H808","v":656},"/       (","100   x",{"$f":"$H$401","v":304},")"]
[null,null,"Equiipamentos de Bilhetagem Eletrônica e ITS",null,"Coeficiente de Depreciação","%/mês",{"$f":"Coeficientes!F136","v":0},658]
[null,null,null,null,"Preço do Ativo Novo","R$",{"$f":"Insumos!G399","v":0},659]
[null,null,null,null,"Depreciação","R$/veículo.mês",{"$f":"G811*G810/($G$401*100)","v":{"$error":"#DIV/0!"}},660,null,null,{"$f":"H812","v":660},"=",{"$f":"H810","v":658},"x",{"$f":"H811","v":659},"/       (","100   x",{"$f":"$H$401","v":304},")"]
[null,null,"Outras Máquinas e Equipamentos",null,"Coeficiente de Depreciação","%/mês",{"$f":"Coeficientes!F137","v":0},661]
[null,null,null,null,"Preço do Ativo Novo","R$",{"$f":"Insumos!G400","v":0},662]
[null,null,null,null,"Depreciação","R$/veículo.mês",{"$f":"G814*G813/($G$401*100)","v":{"$error":"#DIV/0!"}},663,null,null,{"$f":"H815","v":663},"=",{"$f":"H813","v":661},"x",{"$f":"H814","v":662},"/       (","100   x",{"$f":"$H$401","v":304},")"]
[null,null,"Veículos de Apoio","Caminhão-oficina","Coeficiente de Depreciação","%/mês",{"$f":"Coeficientes!F138","v":0},664]
[null,null,null,null,"Preço do Ativo Novo","R$",{"$f":"Insumos!G401","v":0},665]
[null,null,null,null,"Depreciação","R$/veículo.mês",{"$f":"G817*G816/($G$401*100)","v":{"$error":"#DIV/0!"}},666,null,null,{"$f":"H818","v":666},"=",{"$f":"H816","v":664},"x",{"$f":"H817","v":665},"/       (","100   x",{"$f":"$H$401","v":304},")"]
[null,null,null,"Caminhão-guincho","Coeficiente de Depreciação","%/mês",{"$f":"Coeficientes!F139","v":0},667]
[null,null,null,null,"Preço do Ativo Novo","R$",{"$f":"Insumos!G402","v":0},668]
[null,null,null,null,"Depreciação","R$/veículo.mês",{"$f":"G820*G819/($G$401*100)","v":{"$error":"#DIV/0!"}},669,null,null,{"$f":"H821","v":669},"=",{"$f":"H819","v":667},"x",{"$f":"H820","v":668},"/       (","100   x",{"$f":"$H$401","v":304},")"]
[null,null,null,"Caminhoneta","Coeficiente de Depreciação","%/mês",{"$f":"Coeficientes!F140","v":0},670]
[null,null,null,null,"Preço do Ativo Novo","R$",{"$f":"Insumos!G403","v":0},671]
[null,null,null,null,"Depreciação","R$/veículo.mês",{"$f":"G823*G822/($G$401*100)","v":{"$error":"#DIV/0!"}},672,null,null,{"$f":"H824","v":672},"=",{"$f":"H822","v":670},"x",{"$f":"H823","v":671},"/       (","100   x",{"$f":"$H$401","v":304},")"]
[null,null,null,"Auitomóvel Básico","Coeficiente de Depreciação","%/mês",{"$f":"Coeficientes!F141","v":0},673]
[null,null,null,null,"Preço do Ativo Novo","R$",{"$f":"Insumos!G404","v":0},674]
[null,null,null,null,"Depreciação","R$/veículo.mês",{"$f":"G826*G825/($G$401*100)","v":{"$error":"#DIV/0!"}},675,null,null,{"$f":"H827","v":675},"=",{"$f":"H825","v":673},"x",{"$f":"H826","v":674},"/       (","100   x",{"$f":"$H$401","v":304},")"]
[null,null,null,"Motocicleta","Coeficiente de Depreciação","%/mês",{"$f":"Coeficientes!F142","v":0},676]
[null,null,null,null,"Preço do Ativo Novo","R$",{"$f":"Insumos!G405","v":0},677]
[null,null,null,null,"Depreciação","R$/veículo.mês",{"$f":"G829*G828/($G$401*100)","v":{"$error":"#DIV/0!"}},678,null,null,{"$f":"H830","v":678},"=",{"$f":"H828","v":676},"x",{"$f":"H829","v":677},"/       (","100   x",{"$f":"$H$401","v":304},")"]
[null,"Depreciação Total de Outros Ativos - Modelo Detalhado",null,null,null,"R$/veículo.mês",{"$f":"G806+G809+G812+G815+G821+G824+G827+G830","v":{"$error":"#DIV/0!"}},{"$f":"H830+1","v":679},null,null,{"$f":"H831","v":679},"=",{"$f":"H806","v":654},"+",{"$f":"H809","v":657},"+",{"$f":"H812","v":660},"+",{"$f":"H815","v":663},"+",{"$f":"H818","v":666},"+",{"$f":"H821","v":669},"+",{"$f":"H824","v":672},"+",{"$f":"H827","v":675},"+",{"$f":"H830","v":678}]
[null,"Depreciação Total de Outros Ativos - Modelo Resumido",null,null,"Coeficiente de Depreciação","% do PVNC/veíc.mês",{"$f":"Coeficientes!F143","v":0},{"$f":"H831+1","v":680}]
[null,null,null,null,"Depreciação","R$/veículo.mês",{"$f":"G65*G832/100","v":0},{"$f":"H832+1","v":681},null,null,{"$f":"H833","v":681},"=",{"$f":"H69","v":36},"x",{"$f":"H832","v":680},"   /  100"]
[]
[null,"DEPRECIAÇÃO MENSAL TOTAL",null,null,null,"R$/veículo.mês",{"$f":"G800+G831+G833","v":{"$error":"#DIV/0!"}},{"$f":"H833+1","v":682},null,null,{"$f":"H835","v":682},"=",{"$f":"H800","v":651},"+",{"$f":"H831","v":679},"+",{"$f":"H833","v":681}]
[]
[null,"REMUNERAÇÃO DO VEÍCULO","Micro-Ônibus","Coeficiente de Remuneração Anual","0 a 1 ano","%/veículo.ano",{"$f":"12*Coeficientes!F145","v":0.12},{"$f":"H835+1","v":683}]
[null,null,null,null,"1 a 2 anos ","%/veículo.ano",{"$f":"12*Coeficientes!F146","v":0.10036363636363635},{"$f":"H837+1","v":684}]
[null,null,null,null,"2 a 3 anos ","%/veículo.ano",{"$f":"12*Coeficientes!F147","v":8.2690909090909093E-2},{"$f":"H838+1","v":685}]
[null,null,null,null,"3 a 4 anos ","%/veículo.ano",{"$f":"12*Coeficientes!F148","v":6.698181818181817E-2},686]
[null,null,null,null,"4 a 5 anos ","%/veículo.ano",{"$f":"12*Coeficientes!F149","v":5.323636363636363E-2},687]
[null,null,null,null,"5 a 6 anos ","%/veículo.ano",{"$f":"12*Coeficientes!F150","v":4.1454545454545452E-2},688]
[null,null,null,null,"6 a 7 anos ","%/veículo.ano",{"$f":"12*Coeficientes!F151","v":3.1636363636363636E-2},689]
[null,null,null,null,"7 a 8 anos ","%/veículo.ano",{"$f":"12*Coeficientes!F152","v":2.3781818181818175E-2},690]
[null,null,null,null,"8 a 9 anos ","%/veículo.ano",{"$f":"12*Coeficientes!F153","v":1.7890909090909086E-2},691]
[null,null,null,null,"9 a 10 anos ","%/veículo.ano",{"$f":"12*Coeficientes!F154","v":1.3963636363636362E-2},692]
[null,null,null,null,"10 a 11 anos ","%/veículo.ano",{"$f":"12*Coeficientes!F155","v":1.1999999999999997E-2},693]
[null,null,null,null,"11 a 12 anos ","%/veículo.ano",{"$f":"12*Coeficientes!F156","v":1.1999999999999997E-2},694]
[null,null,null,null,"12 a 13 anos ","%/veículo.ano",{"$f":"12*Coeficientes!F157","v":1.1999999999999997E-2},695]
[null,null,null,null,"13 a 14 anos ","%/veículo.ano",{"$f":"12*Coeficientes!F158","v":1.1999999999999997E-2},696]
[null,null,null,null,"14 a 15 anos ","%/veículo.ano",{"$f":"12*Coeficientes!F159","v":1.1999999999999997E-2},697]
[null,null,null,null,"+ de 15 anos ","%/veículo.ano",{"$f":"12*Coeficientes!F160","v":1.1999999999999997E-2},698]
[]
[null,"REMUNERAÇÃO DO VEÍCULO","Micro-Ônibus","Remuneração Anual da Frota sem Ar Condicionado","0 a 1 ano","R$/veículo.ano",{"$f":"G115*G837","v":0},{"$f":"H852+1","v":699},null,null,{"$f":"H854","v":699},"=",{"$f":"H115","v":70},"x",{"$f":"H837","v":683}]
[null,null,null,null,"1 a 2 anos ","R$/veículo.ano",0,{"$f":"H854+1","v":700},null,null,{"$f":"H855","v":700},"=",71,"x",684]
[null,null,null,null,"2 a 3 anos ","R$/veículo.ano",0,{"$f":"H855+1","v":701},null,null,701,"=",72,"x",685]
[null,null,null,null,"3 a 4 anos ","R$/veículo.ano",0,702,null,null,702,"=",73,"x",686]
[null,null,null,null,"4 a 5 anos ","R$/veículo.ano",0,703,null,null,703,"=",74,"x",687]
[null,null,null,null,"5 a 6 anos ","R$/veículo.ano",0,704,null,null,704,"=",75,"x",688]
[null,null,null,null,"6 a 7 anos ","R$/veículo.ano",0,705,null,null,705,"=",76,"x",689]
[null,null,null,null,"7 a 8 anos ","R$/veículo.ano",0,706,null,null,706,"=",77,"x",690]
[null,null,null,null,"8 a 9 anos ","R$/veículo.ano",0,707,null,null,707,"=",78,"x",691]
[null,null,null,null,"9 a 10 anos ","R$/veículo.ano",0,708,null,null,708,"=",79,"x",692]
[null,null,null,null,"10 a 11 anos ","R$/veículo.ano",0,709,null,null,709,"=",80,"x",693]
[null,null,null,null,"11 a 12 anos ","R$/veículo.ano",0,710,null,null,710,"=",81,"x",694]
[null,null,null,null,"12 a 13 anos ","R$/veículo.ano",0,711,null,null,711,"=",82,"x",695]
[null,null,null,null,"13 a 14 anos ","R$/veículo.ano",0,712,null,null,712,"=",83,"x",696]
[null,null,null,null,"14 a 15 anos ","R$/veículo.ano",0,713,null,null,713,"=",84,"x",697]
[null,null,null,null,"+ de 15 anos ","R$/veículo.ano",0,714,null,null,714,"=",85,"x",698]
[null,null,null,null,"TOTAL","R$/veículo.ano",{"$f":"SUM(G854:G869)","v":0},{"$f":"H869+1","v":715},null,null,715,"=","soma (",{"$f":"H854","v":699},":",{"$f":"H869","v":714},")"]
[null,null,null,"Remuneração Mensal ",null,"R$/veículo.mês",{"$f":"IF(G131=0,0,G54*G870/(G131*12))","v":0},{"$f":"H870+1","v":716},null,null,{"$f":"H871","v":716},"=",{"$f":"H54","v":21},"x",{"$f":"H870","v":715},"/    (",{"$f":"H131","v":86},"x",12,")"]
[]
[null,"REMUNERAÇÃO DO VEÍCULO","Micro-Ônibus","Remuneração Anual da Frota com Ar Condicionado","0 a 1 ano","R$/veículo.ano",{"$f":"G837*G209","v":0},{"$f":"H871+1","v":717},null,null,{"$f":"H873","v":717},"=",{"$f":"H209","v":158},"x",{"$f":"H837","v":683}]
[null,null,null,null,"1 a 2 anos ","R$/veículo.ano",0,{"$f":"H873+1","v":718},null,null,718,"=",159,"x",684]
[null,null,null,null,"2 a 3 anos ","R$/veículo.ano",0,{"$f":"H874+1","v":719},null,null,719,"=",160,"x",685]
[null,null,null,null,"3 a 4 anos ","R$/veículo.ano",0,720,null,null,720,"=",161,"x",686]
[null,null,null,null,"4 a 5 anos ","R$/veículo.ano",0,721,null,null,721,"=",162,"x",687]
[null,null,null,null,"5 a 6 anos ","R$/veículo.ano",0,722,null,null,722,"=",163,"x",688]
[null,null,null,null,"6 a 7 anos ","R$/veículo.ano",0,723,null,null,723,"=",164,"x",689]
[null,null,null,null,"7 a 8 anos ","R$/veículo.ano",0,724,null,null,724,"=",165,"x",690]
[null,null,null,null,"8 a 9 anos ","R$/veículo.ano",0,725,null,null,725,"=",166,"x",691]
[null,null,null,null,"9 a 10 anos ","R$/veículo.ano",0,726,null,null,726,"=",167,"x",692]
[null,null,null,null,"10 a 11 anos ","R$/veículo.ano",0,727,null,null,727,"=",168,"x",693]
[null,null,null,null,"11 a 12 anos ","R$/veículo.ano",0,728,null,null,728,"=",169,"x",694]
[null,null,null,null,"12 a 13 anos ","R$/veículo.ano",0,729,null,null,729,"=",170,"x",695]
[null,null,null,null,"13 a 14 anos ","R$/veículo.ano",0,730,null,null,730,"=",171,"x",696]
[null,null,null,null,"14 a 15 anos ","R$/veículo.ano",0,731,null,null,731,"=",172,"x",697]
[null,null,null,null,"+ de 15 anos ","R$/veículo.ano",0,732,null,null,732,"=",173,"x",698]
[null,null,null,null,"TOTAL","R$/veículo.ano",{"$f":"SUM(G873:G888)","v":0},{"$f":"H888+1","v":733},null,null,733,"=","soma (",{"$f":"H873","v":717},":",{"$f":"H888","v":732},")"]
[null,null,null,"Remuneração Mensal ",null,"R$/veículo.mês",{"$f":"IF(G225=0,0,G59*G889/(G225*12))","v":0},{"$f":"H889+1","v":734},null,null,{"$f":"H890","v":734},"=",{"$f":"H59","v":26},"x",{"$f":"H889","v":733},"/    (",{"$f":"H225","v":174},"x",12,")"]
[null,null,"Ponderação da Remuneração",null,null,"R$/veículo.mês",{"$f":"IF(G396=0,0,(G871*G131+G890*G225)/G396)","v":0},{"$f":"H890+1","v":735},null,null,{"$f":"H891","v":735},"=   (",{"$f":"H131","v":86},"x",{"$f":"H871","v":716},"+",{"$f":"H225","v":174},"x",{"$f":"H890","v":734},")  /",{"$f":"H396","v":299}]
[]
[null,"REMUNERAÇÃO DO VEÍCULO","Ônibus Convencional","Coeficiente de Remuneração Anual","0 a 1 ano","%/veículo.ano",{"$f":"12*Coeficientes!F161","v":0.12},{"$f":"H891+1","v":736}]
[null,null,null,null,"1 a 2 anos ","%/veículo.ano",{"$f":"12*Coeficientes!F162","v":0.10036363636363635},{"$f":"H893+1","v":737}]
[null,null,null,null,"2 a 3 anos ","%/veículo.ano",{"$f":"12*Coeficientes!F163","v":8.2690909090909093E-2},{"$f":"H894+1","v":738}]
[null,null,null,null,"3 a 4 anos ","%/veículo.ano",{"$f":"12*Coeficientes!F164","v":6.698181818181817E-2},739]
[null,null,null,null,"4 a 5 anos ","%/veículo.ano",{"$f":"12*Coeficientes!F165","v":5.323636363636363E-2},740]
[null,null,null,null,"5 a 6 anos ","%/veículo.ano",{"$f":"12*Coeficientes!F166","v":4.1454545454545452E-2},741]
[null,null,null,null,"6 a 7 anos ","%/veículo.ano",{"$f":"12*Coeficientes!F167","v":3.1636363636363636E-2},742]
[null,null,null,null,"7 a 8 anos ","%/veículo.ano",{"$f":"12*Coeficientes!F168","v":2.3781818181818175E-2},743]
[null,null,null,null,"8 a 9 anos ","%/veículo.ano",{"$f":"12*Coeficientes!F169","v":1.7890909090909086E-2},744]
[null,null,null,null,"9 a 10 anos ","%/veículo.ano",{"$f":"12*Coeficientes!F170","v":1.3963636363636362E-2},745]
[null,null,null,null,"10 a 11 anos ","%/veículo.ano",{"$f":"12*Coeficientes!F171","v":1.1999999999999997E-2},746]
[null,null,null,null,"11 a 12 anos ","%/veículo.ano",{"$f":"12*Coeficientes!F172","v":1.1999999999999997E-2},747]
[null,null,null,null,"12 a 13 anos ","%/veículo.ano",{"$f":"12*Coeficientes!F173","v":1.1999999999999997E-2},748]
[null,null,null,null,"13 a 14 anos ","%/veículo.ano",{"$f":"12*Coeficientes!F174","v":1.1999999999999997E-2},749]
[null,null,null,null,"14 a 15 anos ","%/veículo.ano",{"$f":"12*Coeficientes!F175","v":1.1999999999999997E-2},750]
[null,null,null,null,"+ de 15 anos ","%/veículo.ano",{"$f":"12*Coeficientes!F176","v":1.1999999999999997E-2},751]
[]
[null,"REMUNERAÇÃO DO VEÍCULO","Ônibus Convencional","Remuneração Anual da Frota sem Ar Condicionado","0 a 1 ano","R$/veículo.ano",{"$f":"G133*G893","v":0},{"$f":"H908+1","v":752},null,null,{"$f":"H910","v":752},"=",{"$f":"H133","v":87},"x",{"$f":"H893","v":736}]
[null,null,null,null,"1 a 2 anos ","R$/veículo.ano",0,{"$f":"H910+1","v":753},null,null,{"$f":"H911","v":753},"=",88,"x",737]
[null,null,null,null,"2 a 3 anos ","R$/veículo.ano",0,{"$f":"H911+1","v":754},null,null,754,"=",89,"x",738]
[null,null,null,null,"3 a 4 anos ","R$/veículo.ano",0,755,null,null,755,"=",90,"x",739]
[null,null,null,null,"4 a 5 anos ","R$/veículo.ano",0,756,null,null,756,"=",91,"x",740]
[null,null,null,null,"5 a 6 anos ","R$/veículo.ano",0,757,null,null,757,"=",92,"x",741]
[null,null,null,null,"6 a 7 anos ","R$/veículo.ano",0,758,null,null,758,"=",93,"x",742]
[null,null,null,null,"7 a 8 anos ","R$/veículo.ano",0,759,null,null,759,"=",94,"x",743]
[null,null,null,null,"8 a 9 anos ","R$/veículo.ano",0,760,null,null,760,"=",95,"x",744]
[null,null,null,null,"9 a 10 anos ","R$/veículo.ano",0,761,null,null,761,"=",96,"x",745]
[null,null,null,null,"10 a 11 anos ","R$/veículo.ano",0,762,null,null,762,"=",97,"x",746]
[null,null,null,null,"11 a 12 anos ","R$/veículo.ano",0,763,null,null,763,"=",98,"x",747]
[null,null,null,null,"12 a 13 anos ","R$/veículo.ano",0,764,null,null,764,"=",99,"x",748]
[null,null,null,null,"13 a 14 anos ","R$/veículo.ano",0,765,null,null,765,"=",100,"x",749]
[null,null,null,null,"14 a 15 anos ","R$/veículo.ano",0,766,null,null,766,"=",101,"x",750]
[null,null,null,null,"+ de 15 anos ","R$/veículo.ano",0,767,null,null,767,"=",102,"x",751]
[null,null,null,null,"TOTAL","R$/veículo.ano",{"$f":"SUM(G910:G925)","v":0},{"$f":"H925+1","v":768},null,null,768,"=","soma (",{"$f":"H910","v":752},":",{"$f":"H925","v":767},")"]
[null,null,null,"Remuneração Mensal ",null,"R$/veículo.mês",{"$f":"IF(G149=0,0,G55*G926/(G149*12))","v":0},{"$f":"H926+1","v":769},null,null,{"$f":"H927","v":769},"=",{"$f":"H55","v":22},"x",{"$f":"H926","v":768},"/    (",{"$f":"H149","v":103},"x",12,")"]
[]
[null,"REMUNERAÇÃO DO VEÍCULO","Ônibus Convencional","Remuneração Anual da Frota com Ar Condicionado","0 a 1 ano","R$/veículo.ano",{"$f":"G893*G227","v":0},{"$f":"H927+1","v":770},null,null,{"$f":"H929","v":770},"=",{"$f":"H227","v":175},"x",{"$f":"H893","v":736}]
[null,null,null,null,"1 a 2 anos ","R$/veículo.ano",0,{"$f":"H929+1","v":771},null,null,771,"=",176,"x",737]
[null,null,null,null,"2 a 3 anos ","R$/veículo.ano",0,{"$f":"H930+1","v":772},null,null,772,"=",177,"x",738]
[null,null,null,null,"3 a 4 anos ","R$/veículo.ano",0,773,null,null,773,"=",178,"x",739]
[null,null,null,null,"4 a 5 anos ","R$/veículo.ano",0,774,null,null,774,"=",179,"x",740]
[null,null,null,null,"5 a 6 anos ","R$/veículo.ano",0,775,null,null,775,"=",180,"x",741]
[null,null,null,null,"6 a 7 anos ","R$/veículo.ano",0,776,null,null,776,"=",181,"x",742]
[null,null,null,null,"7 a 8 anos ","R$/veículo.ano",0,777,null,null,777,"=",182,"x",743]
[null,null,null,null,"8 a 9 anos ","R$/veículo.ano",0,778,null,null,778,"=",183,"x",744]
[null,null,null,null,"9 a 10 anos ","R$/veículo.ano",0,779,null,null,779,"=",184,"x",745]
[null,null,null,null,"10 a 11 anos ","R$/veículo.ano",0,780,null,null,780,"=",185,"x",746]
[null,null,null,null,"11 a 12 anos ","R$/veículo.ano",0,781,null,null,781,"=",186,"x",747]
[null,null,null,null,"12 a 13 anos ","R$/veículo.ano",0,782,null,null,782,"=",187,"x",748]
[null,null,null,null,"13 a 14 anos ","R$/veículo.ano",0,783,null,null,783,"=",188,"x",749]
[null,null,null,null,"14 a 15 anos ","R$/veículo.ano",0,784,null,null,784,"=",189,"x",750]
[null,null,null,null,"+ de 15 anos ","R$/veículo.ano",0,785,null,null,785,"=",190,"x",751]
[null,null,null,null,"TOTAL","R$/veículo.ano",{"$f":"SUM(G929:G944)","v":0},{"$f":"H944+1","v":786},null,null,786,"=","soma (",{"$f":"H929","v":770},":",{"$f":"H944","v":785},")"]
[null,null,null,"Remuneração Mensal ",null,"R$/veículo.mês",{"$f":"IF(G243=0,0,G60*G945/(G243*12))","v":0},{"$f":"H945+1","v":787},null,null,{"$f":"H946","v":787},"=",{"$f":"H60","v":27},"x",{"$f":"H945","v":786},"/    (",{"$f":"H243","v":191},"x",12,")"]
[null,null,"Ponderação da Remuneração",null,null,"R$/veículo.mês",{"$f":"IF(G397=0,0,(G927*G149+G946*G243)/G397)","v":0},{"$f":"H946+1","v":788},null,null,{"$f":"H947","v":788},"=   (",{"$f":"H149","v":103},"x",{"$f":"H927","v":769},"+",{"$f":"H243","v":191},"x",{"$f":"H946","v":787},")  /",{"$f":"H397","v":300}]
[]
[null,"REMUNERAÇÃO DO VEÍCULO","Ônibus Leito","Coeficiente de Remuneração Anual","0 a 1 ano","%/veículo.ano",{"$f":"12*Coeficientes!F177","v":0.12},{"$f":"H947+1","v":789}]
[null,null,null,null,"1 a 2 anos ","%/veículo.ano",{"$f":"12*Coeficientes!F178","v":0.10036363636363635},{"$f":"H949+1","v":790}]
[null,null,null,null,"2 a 3 anos ","%/veículo.ano",{"$f":"12*Coeficientes!F179","v":8.2690909090909093E-2},{"$f":"H950+1","v":791}]
[null,null,null,null,"3 a 4 anos ","%/veículo.ano",{"$f":"12*Coeficientes!F180","v":6.698181818181817E-2},792]
[null,null,null,null,"4 a 5 anos ","%/veículo.ano",{"$f":"12*Coeficientes!F181","v":5.323636363636363E-2},793]
[null,null,null,null,"5 a 6 anos ","%/veículo.ano",{"$f":"12*Coeficientes!F182","v":4.1454545454545452E-2},794]
[null,null,null,null,"6 a 7 anos ","%/veículo.ano",{"$f":"12*Coeficientes!F183","v":3.1636363636363636E-2},795]
[null,null,null,null,"7 a 8 anos ","%/veículo.ano",{"$f":"12*Coeficientes!F184","v":2.3781818181818175E-2},796]
[null,null,null,null,"8 a 9 anos ","%/veículo.ano",{"$f":"12*Coeficientes!F185","v":1.7890909090909086E-2},797]
[null,null,null,null,"9 a 10 anos ","%/veículo.ano",{"$f":"12*Coeficientes!F186","v":1.3963636363636362E-2},798]
[null,null,null,null,"10 a 11 anos ","%/veículo.ano",{"$f":"12*Coeficientes!F187","v":1.1999999999999997E-2},799]
[null,null,null,null,"11 a 12 anos ","%/veículo.ano",{"$f":"12*Coeficientes!F188","v":1.1999999999999997E-2},800]
[null,null,null,null,"12 a 13 anos ","%/veículo.ano",{"$f":"12*Coeficientes!F189","v":1.1999999999999997E-2},801]
[null,null,null,null,"13 a 14 anos ","%/veículo.ano",{"$f":"12*Coeficientes!F190","v":1.1999999999999997E-2},802]
[null,null,null,null,"14 a 15 anos ","%/veículo.ano",{"$f":"12*Coeficientes!F191","v":1.1999999999999997E-2},803]
[null,null,null,null,"+ de 15 anos ","%/veículo.ano",{"$f":"12*Coeficientes!F192","v":1.1999999999999997E-2},804]
[]
[null,"REMUNERAÇÃO DO VEÍCULO","Ônibus Leito","Remuneração Anual da Frota sem Ar Condicionado","0 a 1 ano","R$/veículo.ano",{"$f":"G151*G949","v":0},{"$f":"H964+1","v":805},null,null,{"$f":"H966","v":805},"=",{"$f":"H151","v":104},"x",{"$f":"H949","v":789}]
[null,null,null,null,"1 a 2 anos ","R$/veículo.ano",0,{"$f":"H966+1","v":806},null,null,{"$f":"H967","v":806},"=",105,"x",790]
[null,null,null,null,"2 a 3 anos ","R$/veículo.ano",0,{"$f":"H967+1","v":807},null,null,807,"=",106,"x",791]
[null,null,null,null,"3 a 4 anos ","R$/veículo.ano",0,808,null,null,808,"=",107,"x",792]
[null,null,null,null,"4 a 5 anos ","R$/veículo.ano",0,809,null,null,809,"=",108,"x",793]
[null,null,null,null,"5 a 6 anos ","R$/veículo.ano",0,810,null,null,810,"=",109,"x",794]
[null,null,null,null,"6 a 7 anos ","R$/veículo.ano",0,811,null,null,811,"=",110,"x",795]
[null,null,null,null,"7 a 8 anos ","R$/veículo.ano",0,812,null,null,812,"=",111,"x",796]
[null,null,null,null,"8 a 9 anos ","R$/veículo.ano",0,813,null,null,813,"=",112,"x",797]
[null,null,null,null,"9 a 10 anos ","R$/veículo.ano",0,814,null,null,814,"=",113,"x",798]
[null,null,null,null,"10 a 11 anos ","R$/veículo.ano",0,815,null,null,815,"=",114,"x",799]
[null,null,null,null,"11 a 12 anos ","R$/veículo.ano",0,816,null,null,816,"=",115,"x",800]
[null,null,null,null,"12 a 13 anos ","R$/veículo.ano",0,817,null,null,817,"=",116,"x",801]
[null,null,null,null,"13 a 14 anos ","R$/veículo.ano",0,818,null,null,818,"=",117,"x",802]
[null,null,null,null,"14 a 15 anos ","R$/veículo.ano",0,819,null,null,819,"=",118,"x",803]
[null,null,null,null,"+ de 15 anos ","R$/veículo.ano",0,820,null,null,820,"=",119,"x",804]
[null,null,null,null,"TOTAL","R$/veículo.ano",{"$f":"SUM(G966:G981)","v":0},{"$f":"H981+1","v":821},null,null,821,"=","soma (",{"$f":"H966","v":805},":",{"$f":"H981","v":820},")"]
[null,null,null,"Remuneração Mensal ",null,"R$/veículo.mês",{"$f":"IF(G167=0,0,G56*G982/(G167*12))","v":0},{"$f":"H982+1","v":822},null,null,{"$f":"H983","v":822},"=",{"$f":"H56","v":23},"x",{"$f":"H982","v":821},"/    (",{"$f":"H167","v":120},"x",12,")"]
[]
[null,"REMUNERAÇÃO DO VEÍCULO","Ônibus Leito","Remuneração Anual da Frota com Ar Condicionado","0 a 1 ano","R$/veículo.ano",{"$f":"G949*G245","v":0},{"$f":"H983+1","v":823},null,null,{"$f":"H985","v":823},"=",{"$f":"H245","v":192},"x",{"$f":"H949","v":789}]
[null,null,null,null,"1 a 2 anos ","R$/veículo.ano",0,{"$f":"H985+1","v":824},null,null,824,"=",193,"x",790]
[null,null,null,null,"2 a 3 anos ","R$/veículo.ano",0,{"$f":"H986+1","v":825},null,null,825,"=",194,"x",791]
[null,null,null,null,"3 a 4 anos ","R$/veículo.ano",0,826,null,null,826,"=",195,"x",792]
[null,null,null,null,"4 a 5 anos ","R$/veículo.ano",0,827,null,null,827,"=",196,"x",793]
[null,null,null,null,"5 a 6 anos ","R$/veículo.ano",0,828,null,null,828,"=",197,"x",794]
[null,null,null,null,"6 a 7 anos ","R$/veículo.ano",0,829,null,null,829,"=",198,"x",795]
[null,null,null,null,"7 a 8 anos ","R$/veículo.ano",0,830,null,null,830,"=",199,"x",796]
[null,null,null,null,"8 a 9 anos ","R$/veículo.ano",0,831,null,null,831,"=",200,"x",797]
[null,null,null,null,"9 a 10 anos ","R$/veículo.ano",0,832,null,null,832,"=",201,"x",798]
[null,null,null,null,"10 a 11 anos ","R$/veículo.ano",0,833,null,null,833,"=",202,"x",799]
[null,null,null,null,"11 a 12 anos ","R$/veículo.ano",0,834,null,null,834,"=",203,"x",800]
[null,null,null,null,"12 a 13 anos ","R$/veículo.ano",0,835,null,null,835,"=",204,"x",801]
[null,null,null,null,"13 a 14 anos ","R$/veículo.ano",0,836,null,null,836,"=",205,"x",802]
[null,null,null,null,"14 a 15 anos ","R$/veículo.ano",0,837,null,null,837,"=",206,"x",803]
[null,null,null,null,"+ de 15 anos ","R$/veículo.ano",0,838,null,null,838,"=",207,"x",804]
[null,null,null,null,"TOTAL","R$/veículo.ano",{"$f":"SUM(G985:G1000)","v":0},{"$f":"H1000+1","v":839},null,null,839,"=","soma (",{"$f":"H985","v":823},":",{"$f":"H1000","v":838},")"]
[null,null,null,"Remuneração Mensal ",null,"R$/veículo.mês",{"$f":"IF(G261=0,0,G61*G1001/(G261*12))","v":0},{"$f":"H1001+1","v":840},null,null,{"$f":"H1002","v":840},"=",{"$f":"H61","v":28},"x",{"$f":"H1001","v":839},"/    (",{"$f":"H261","v":208},"x",12,")"]
[null,null,"Ponderação da Remuneração",null,null,"R$/veículo.mês",{"$f":"IF(G398=0,0,(G983*G167+G1002*G261)/G398)","v":0},{"$f":"H1002+1","v":841},null,null,{"$f":"H1003","v":841},"=   (",{"$f":"H167","v":120},"x",{"$f":"H983","v":822},"+",{"$f":"H261","v":208},"x",{"$f":"H1002","v":840},")  /",{"$f":"H398","v":301}]
[]
[null,"REMUNERAÇÃO DO VEÍCULO","Ônibus Misto","Coeficiente de Remuneração Anual","0 a 1 ano","%/veículo.ano",{"$f":"12*Coeficientes!F193","v":0.12},{"$f":"H1003+1","v":842}]
[null,null,null,null,"1 a 2 anos ","%/veículo.ano",{"$f":"12*Coeficientes!F194","v":0.10036363636363635},{"$f":"H1005+1","v":843}]
[null,null,null,null,"2 a 3 anos ","%/veículo.ano",{"$f":"12*Coeficientes!F195","v":8.2690909090909093E-2},{"$f":"H1006+1","v":844}]
[null,null,null,null,"3 a 4 anos ","%/veículo.ano",{"$f":"12*Coeficientes!F196","v":6.698181818181817E-2},845]
[null,null,null,null,"4 a 5 anos ","%/veículo.ano",{"$f":"12*Coeficientes!F197","v":5.323636363636363E-2},846]
[null,null,null,null,"5 a 6 anos ","%/veículo.ano",{"$f":"12*Coeficientes!F198","v":4.1454545454545452E-2},847]
[null,null,null,null,"6 a 7 anos ","%/veículo.ano",{"$f":"12*Coeficientes!F199","v":3.1636363636363636E-2},848]
[null,null,null,null,"7 a 8 anos ","%/veículo.ano",{"$f":"12*Coeficientes!F200","v":2.3781818181818175E-2},849]
[null,null,null,null,"8 a 9 anos ","%/veículo.ano",{"$f":"12*Coeficientes!F201","v":1.7890909090909086E-2},850]
[null,null,null,null,"9 a 10 anos ","%/veículo.ano",{"$f":"12*Coeficientes!F202","v":1.3963636363636362E-2},851]
[null,null,null,null,"10 a 11 anos ","%/veículo.ano",{"$f":"12*Coeficientes!F203","v":1.1999999999999997E-2},852]
[null,null,null,null,"11 a 12 anos ","%/veículo.ano",{"$f":"12*Coeficientes!F204","v":1.1999999999999997E-2},853]
[null,null,null,null,"12 a 13 anos ","%/veículo.ano",{"$f":"12*Coeficientes!F205","v":1.1999999999999997E-2},854]
[null,null,null,null,"13 a 14 anos ","%/veículo.ano",{"$f":"12*Coeficientes!F206","v":1.1999999999999997E-2},855]
[null,null,null,null,"14 a 15 anos ","%/veículo.ano",{"$f":"12*Coeficientes!F207","v":1.1999999999999997E-2},856]
[null,null,null,null,"+ de 15 anos ","%/veículo.ano",{"$f":"12*Coeficientes!F208","v":1.1999999999999997E-2},857]
[]
[null,"REMUNERAÇÃO DO VEÍCULO","Ônibus Misto","Remuneração Anual da Frota sem Ar Condicionado","0 a 1 ano","R$/veículo.ano",{"$f":"G169*G1005","v":0},{"$f":"H1020+1","v":858},null,null,{"$f":"H1022","v":858},"=",{"$f":"H169","v":121},"x",{"$f":"H1005","v":842}]
[null,null,null,null,"1 a 2 anos ","R$/veículo.ano",0,{"$f":"H1022+1","v":859},null,null,{"$f":"H1023","v":859},"=",122,"x",843]
[null,null,null,null,"2 a 3 anos ","R$/veículo.ano",0,{"$f":"H1023+1","v":860},null,null,860,"=",123,"x",844]
[null,null,null,null,"3 a 4 anos ","R$/veículo.ano",0,861,null,null,861,"=",124,"x",845]
[null,null,null,null,"4 a 5 anos ","R$/veículo.ano",0,862,null,null,862,"=",125,"x",846]
[null,null,null,null,"5 a 6 anos ","R$/veículo.ano",0,863,null,null,863,"=",126,"x",847]
[null,null,null,null,"6 a 7 anos ","R$/veículo.ano",0,864,null,null,864,"=",127,"x",848]
[null,null,null,null,"7 a 8 anos ","R$/veículo.ano",0,865,null,null,865,"=",128,"x",849]
[null,null,null,null,"8 a 9 anos ","R$/veículo.ano",0,866,null,null,866,"=",129,"x",850]
[null,null,null,null,"9 a 10 anos ","R$/veículo.ano",0,867,null,null,867,"=",130,"x",851]
[null,null,null,null,"10 a 11 anos ","R$/veículo.ano",0,868,null,null,868,"=",131,"x",852]
[null,null,null,null,"11 a 12 anos ","R$/veículo.ano",0,869,null,null,869,"=",132,"x",853]
[null,null,null,null,"12 a 13 anos ","R$/veículo.ano",0,870,null,null,870,"=",133,"x",854]
[null,null,null,null,"13 a 14 anos ","R$/veículo.ano",0,871,null,null,871,"=",134,"x",855]
[null,null,null,null,"14 a 15 anos ","R$/veículo.ano",0,872,null,null,872,"=",135,"x",856]
[null,null,null,null,"+ de 15 anos ","R$/veículo.ano",0,873,null,null,873,"=",136,"x",857]
[null,null,null,null,"TOTAL","R$/veículo.ano",{"$f":"SUM(G1022:G1037)","v":0},{"$f":"H1037+1","v":874},null,null,874,"=","soma (",{"$f":"H1022","v":858},":",{"$f":"H1037","v":873},")"]
[null,null,null,"Remuneração Mensal ",null,"R$/veículo.mês",{"$f":"IF(G185=0,0,G57*G1038/(G185*12))","v":0},{"$f":"H1038+1","v":875},null,null,{"$f":"H1039","v":875},"=",{"$f":"H57","v":24},"x",{"$f":"H1038","v":874},"/    (",{"$f":"H185","v":137},"x",12,")"]
[]
[null,"REMUNERAÇÃO DO VEÍCULO","Ônibus Misto","Remuneração Anual da Frota com Ar Condicionado","0 a 1 ano","R$/veículo.ano",{"$f":"G1005*G263","v":0},{"$f":"H1039+1","v":876},null,null,{"$f":"H1041","v":876},"=",{"$f":"H263","v":209},"x",{"$f":"H1005","v":842}]
[null,null,null,null,"1 a 2 anos ","R$/veículo.ano",0,{"$f":"H1041+1","v":877},null,null,877,"=",210,"x",843]
[null,null,null,null,"2 a 3 anos ","R$/veículo.ano",0,{"$f":"H1042+1","v":878},null,null,878,"=",211,"x",844]
[null,null,null,null,"3 a 4 anos ","R$/veículo.ano",0,879,null,null,879,"=",212,"x",845]
[null,null,null,null,"4 a 5 anos ","R$/veículo.ano",0,880,null,null,880,"=",213,"x",846]
[null,null,null,null,"5 a 6 anos ","R$/veículo.ano",0,881,null,null,881,"=",214,"x",847]
[null,null,null,null,"6 a 7 anos ","R$/veículo.ano",0,882,null,null,882,"=",215,"x",848]
[null,null,null,null,"7 a 8 anos ","R$/veículo.ano",0,883,null,null,883,"=",216,"x",849]
[null,null,null,null,"8 a 9 anos ","R$/veículo.ano",0,884,null,null,884,"=",217,"x",850]
[null,null,null,null,"9 a 10 anos ","R$/veículo.ano",0,885,null,null,885,"=",218,"x",851]
[null,null,null,null,"10 a 11 anos ","R$/veículo.ano",0,886,null,null,886,"=",219,"x",852]
[null,null,null,null,"11 a 12 anos ","R$/veículo.ano",0,887,null,null,887,"=",220,"x",853]
[null,null,null,null,"12 a 13 anos ","R$/veículo.ano",0,888,null,null,888,"=",221,"x",854]
[null,null,null,null,"13 a 14 anos ","R$/veículo.ano",0,889,null,null,889,"=",222,"x",855]
[null,null,null,null,"14 a 15 anos ","R$/veículo.ano",0,890,null,null,890,"=",223,"x",856]
[null,null,null,null,"+ de 15 anos ","R$/veículo.ano",0,891,null,null,891,"=",224,"x",857]
[null,null,null,null,"TOTAL","R$/veículo.ano",{"$f":"SUM(G1041:G1056)","v":0},{"$f":"H1056+1","v":892},null,null,892,"=","soma (",{"$f":"H1041","v":876},":",{"$f":"H1056","v":891},")"]
[null,null,null,"Remuneração Mensal ",null,"R$/veículo.mês",{"$f":"IF(G279=0,0,G62*G1057/(G279*12))","v":0},{"$f":"H1057+1","v":893},null,null,{"$f":"H1058","v":893},"=",{"$f":"H62","v":29},"x",{"$f":"H1057","v":892},"/    (",{"$f":"H279","v":225},"x",12,")"]
[null,null,"Ponderação da Remuneração",null,null,"R$/veículo.mês",{"$f":"IF(G399=0,0,(G1039*G185+G1058*G279)/G399)","v":0},{"$f":"H1058+1","v":894},null,null,{"$f":"H1059","v":894},"=   (",{"$f":"H185","v":137},"x",{"$f":"H1039","v":875},"+",{"$f":"H279","v":225},"x",{"$f":"H1058","v":893},")  /",{"$f":"H399","v":302}]
[]
[null,"REMUNERAÇÃO DO VEÍCULO","Outro","Coeficiente de Remuneração Anual","0 a 1 ano","%/veículo.ano",{"$f":"12*Coeficientes!F209","v":0.12},{"$f":"H1059+1","v":895}]
[null,null,null,null,"1 a 2 anos ","%/veículo.ano",{"$f":"12*Coeficientes!F210","v":0.10036363636363635},{"$f":"H1061+1","v":896}]
[null,null,null,null,"2 a 3 anos ","%/veículo.ano",{"$f":"12*Coeficientes!F211","v":8.2690909090909093E-2},{"$f":"H1062+1","v":897}]
[null,null,null,null,"3 a 4 anos ","%/veículo.ano",{"$f":"12*Coeficientes!F212","v":6.698181818181817E-2},898]
[null,null,null,null,"4 a 5 anos ","%/veículo.ano",{"$f":"12*Coeficientes!F213","v":5.323636363636363E-2},899]
[null,null,null,null,"5 a 6 anos ","%/veículo.ano",{"$f":"12*Coeficientes!F214","v":4.1454545454545452E-2},900]
[null,null,null,null,"6 a 7 anos ","%/veículo.ano",{"$f":"12*Coeficientes!F215","v":3.1636363636363636E-2},901]
[null,null,null,null,"7 a 8 anos ","%/veículo.ano",{"$f":"12*Coeficientes!F216","v":2.3781818181818175E-2},902]
[null,null,null,null,"8 a 9 anos ","%/veículo.ano",{"$f":"12*Coeficientes!F217","v":1.7890909090909086E-2},903]
[null,null,null,null,"9 a 10 anos ","%/veículo.ano",{"$f":"12*Coeficientes!F218","v":1.3963636363636362E-2},904]
[null,null,null,null,"10 a 11 anos ","%/veículo.ano",{"$f":"12*Coeficientes!F219","v":1.1999999999999997E-2},905]
[null,null,null,null,"11 a 12 anos ","%/veículo.ano",{"$f":"12*Coeficientes!F220","v":1.1999999999999997E-2},906]
[null,null,null,null,"12 a 13 anos ","%/veículo.ano",{"$f":"12*Coeficientes!F221","v":1.1999999999999997E-2},907]
[null,null,null,null,"13 a 14 anos ","%/veículo.ano",{"$f":"12*Coeficientes!F222","v":1.1999999999999997E-2},908]
[null,null,null,null,"14 a 15 anos ","%/veículo.ano",{"$f":"12*Coeficientes!F223","v":1.1999999999999997E-2},909]
[null,null,null,null,"+ de 15 anos ","%/veículo.ano",{"$f":"12*Coeficientes!F224","v":1.1999999999999997E-2},910]
[]
[null,"REMUNERAÇÃO DO VEÍCULO","Outro","Remuneração Anual da Frota sem Ar Condicionado","0 a 1 ano","R$/veículo.ano",{"$f":"G187*G1061","v":0},{"$f":"H1076+1","v":911},null,null,{"$f":"H1078","v":911},"=",{"$f":"H187","v":138},"x",{"$f":"H1061","v":895}]
[null,null,null,null,"1 a 2 anos ","R$/veículo.ano",0,{"$f":"H1078+1","v":912},null,null,{"$f":"H1079","v":912},"=",139,"x",896]
[null,null,null,null,"2 a 3 anos ","R$/veículo.ano",0,{"$f":"H1079+1","v":913},null,null,913,"=",140,"x",897]
[null,null,null,null,"3 a 4 anos ","R$/veículo.ano",0,914,null,null,914,"=",141,"x",898]
[null,null,null,null,"4 a 5 anos ","R$/veículo.ano",0,915,null,null,915,"=",142,"x",899]
[null,null,null,null,"5 a 6 anos ","R$/veículo.ano",0,916,null,null,916,"=",143,"x",900]
[null,null,null,null,"6 a 7 anos ","R$/veículo.ano",0,917,null,null,917,"=",144,"x",901]
[null,null,null,null,"7 a 8 anos ","R$/veículo.ano",0,918,null,null,918,"=",145,"x",902]
[null,null,null,null,"8 a 9 anos ","R$/veículo.ano",0,919,null,null,919,"=",146,"x",903]
[null,null,null,null,"9 a 10 anos ","R$/veículo.ano",0,920,null,null,920,"=",147,"x",904]
[null,null,null,null,"10 a 11 anos ","R$/veículo.ano",0,921,null,null,921,"=",148,"x",905]
[null,null,null,null,"11 a 12 anos ","R$/veículo.ano",0,922,null,null,922,"=",149,"x",906]
[null,null,null,null,"12 a 13 anos ","R$/veículo.ano",0,923,null,null,923,"=",150,"x",907]
[null,null,null,null,"13 a 14 anos ","R$/veículo.ano",0,924,null,null,924,"=",151,"x",908]
[null,null,null,null,"14 a 15 anos ","R$/veículo.ano",0,925,null,null,925,"=",152,"x",909]
[null,null,null,null,"+ de 15 anos ","R$/veículo.ano",0,926,null,null,926,"=",153,"x",910]
[null,null,null,null,"TOTAL","R$/veículo.ano",{"$f":"SUM(G1078:G1093)","v":0},{"$f":"H1093+1","v":927},null,null,927,"=","soma (",{"$f":"H1078","v":911},":",{"$f":"H1093","v":926},")"]
[null,null,null,"Remuneração Mensal ",null,"R$/veículo.mês",{"$f":"IF(G203=0,0,G58*G1094/(G203*12))","v":0},{"$f":"H1094+1","v":928},null,null,{"$f":"H1095","v":928},"=",{"$f":"H58","v":25},"x",{"$f":"H1094","v":927},"/    (",{"$f":"H203","v":154},"x",12,")"]
[]
[null,"REMUNERAÇÃO DO VEÍCULO","Outro","Remuneração Anual da Frota com Ar Condicionado","0 a 1 ano","R$/veículo.ano",{"$f":"G1061*G281","v":0},{"$f":"H1095+1","v":929},null,null,{"$f":"H1097","v":929},"=",{"$f":"H281","v":226},"x",{"$f":"H1061","v":895}]
[null,null,null,null,"1 a 2 anos ","R$/veículo.ano",0,{"$f":"H1097+1","v":930},null,null,930,"=",227,"x",896]
[null,null,null,null,"2 a 3 anos ","R$/veículo.ano",0,{"$f":"H1098+1","v":931},null,null,931,"=",228,"x",897]
[null,null,null,null,"3 a 4 anos ","R$/veículo.ano",0,932,null,null,932,"=",229,"x",898]
[null,null,null,null,"4 a 5 anos ","R$/veículo.ano",0,933,null,null,933,"=",230,"x",899]
[null,null,null,null,"5 a 6 anos ","R$/veículo.ano",0,934,null,null,934,"=",231,"x",900]
[null,null,null,null,"6 a 7 anos ","R$/veículo.ano",0,935,null,null,935,"=",232,"x",901]
[null,null,null,null,"7 a 8 anos ","R$/veículo.ano",0,936,null,null,936,"=",233,"x",902]
[null,null,null,null,"8 a 9 anos ","R$/veículo.ano",0,937,null,null,937,"=",234,"x",903]
[null,null,null,null,"9 a 10 anos ","R$/veículo.ano",0,938,null,null,938,"=",235,"x",904]
[null,null,null,null,"10 a 11 anos ","R$/veículo.ano",0,939,null,null,939,"=",236,"x",905]
[null,null,null,null,"11 a 12 anos ","R$/veículo.ano",0,940,null,null,940,"=",237,"x",906]
[null,null,null,null,"12 a 13 anos ","R$/veículo.ano",0,941,null,null,941,"=",238,"x",907]
[null,null,null,null,"13 a 14 anos ","R$/veículo.ano",0,942,null,null,942,"=",239,"x",908]
[null,null,null,null,"14 a 15 anos ","R$/veículo.ano",0,943,null,null,943,"=",240,"x",909]
[null,null,null,null,"+ de 15 anos ","R$/veículo.ano",0,944,null,null,944,"=",241,"x",910]
[null,null,null,null,"TOTAL","R$/veículo.ano",{"$f":"SUM(G1097:G1112)","v":0},{"$f":"H1112+1","v":945},null,null,945,"=","soma (",{"$f":"H1097","v":929},":",{"$f":"H1112","v":944},")"]
[null,null,null,"Remuneração Mensal ",null,"R$/veículo.mês",{"$f":"IF(G297=0,0,G63*G1113/(G297*12))","v":0},{"$f":"H1113+1","v":946},null,null,{"$f":"H1114","v":946},"=",{"$f":"H63","v":30},"x",{"$f":"H1113","v":945},"/    (",{"$f":"H297","v":242},"x",12,")"]
[null,null,"Ponderação da Remuneração",null,null,"R$/veículo.mês",{"$f":"IF(G400=0,0,(G1095*G203+G1114*G297)/G400)","v":0},{"$f":"H1114+1","v":947},null,null,{"$f":"H1115","v":947},"=   (",{"$f":"H203","v":154},"x",{"$f":"H1095","v":928},"+",{"$f":"H297","v":242},"x",{"$f":"H1114","v":946},")  /",{"$f":"H400","v":303}]
[]
[null,"Remuneração Ponderada dos Veículos",null,null,null,"R$/veículo.mês",{"$f":"IF(G401=0,0,(G891*G396+G947*G397+G1003*G398+G1059*G399+G1115*G400)/G401)","v":0},{"$f":"H1115+1","v":948},null,null,{"$f":"H1117","v":948},"=   (",{"$f":"H396","v":299},"x",{"$f":"H891","v":735},"+",{"$f":"H397","v":300},"x",{"$f":"H947","v":788},"+",{"$f":"H398","v":301},"x",{"$f":"H1003","v":841},"+",{"$f":"H399","v":302},"x",{"$f":"H1059","v":894},"+",{"$f":"H400","v":303},"x",{"$f":"H1115","v":947},")  /",{"$f":"H401","v":304}]
[]
[null,"REMUNERAÇÃO DO ALMOXARIFADO","Coeficiente de Remuneração ",null,null,"%/veículo.mês",{"$f":"Coeficientes!F226","v":0},{"$f":"H1117+1","v":949}]
[null,null,"Remuneração ",null,null,"R$/veículo.mês",{"$f":"G50*G1119/100","v":0},{"$f":"H1119+1","v":950},null,null,{"$f":"H1120","v":950},"=",{"$f":"H50","v":20},"x",{"$f":"H1119","v":949},"    /100"]
[]
[null,"REMUNERAÇÃO DE OUTROS ATIVOS","Edificações",null,"Coeficiente de Remuneração ","%/veículo.mês",{"$f":"Coeficientes!F228","v":0},{"$f":"H1120+1","v":951}]
[null,null,null,null,"Remuneração ","R$/veículo.mês",{"$f":"0.01*G805*G1122/$G$401","v":{"$error":"#DIV/0!"}},{"$f":"H1122+1","v":952},null,null,{"$f":"H1123","v":952},"=",{"$f":"H805","v":653},"x",{"$f":"H1122","v":951},"/      (",{"$f":"$H$401","v":304},"  x  100",")"]
[null,null,"Equipamentos de Garagem",null,"Coeficiente de Remuneração ","%/veículo.mês",{"$f":"Coeficientes!F229","v":0},{"$f":"H1123+1","v":953}]
[null,null,null,null,"Remuneração ","R$/veículo.mês",{"$f":"0.01*G808*G1124/$G$401","v":{"$error":"#DIV/0!"}},954,null,null,{"$f":"H1125","v":954},"=",{"$f":"H808","v":656},"x",{"$f":"H1124","v":953},"/      (",{"$f":"$H$401","v":304},"  x  100",")"]
[null,null,"Equiipamentos de Bilhetagem Eletrônica e ITS",null,"Coeficiente de Remuneração ","%/veículo.mês",{"$f":"Coeficientes!F230","v":0},955]
[null,null,null,null,"Remuneração ","R$/veículo.mês",{"$f":"0.01*G811*G1126/$G$401","v":{"$error":"#DIV/0!"}},956,null,null,{"$f":"H1127","v":956},"=",{"$f":"H811","v":659},"x",{"$f":"H1126","v":955},"/      (",{"$f":"$H$401","v":304},"  x  100",")"]
[null,null,"Outras Máquinas e Equipamentos",null,"Coeficiente de Remuneração ","%/veículo.mês",{"$f":"Coeficientes!F231","v":0},957]
[null,null,null,null,"Remuneração ","R$/veículo.mês",{"$f":"0.01*G814*G1128/$G$401","v":{"$error":"#DIV/0!"}},958,null,null,{"$f":"H1129","v":958},"=",{"$f":"H814","v":662},"x",{"$f":"H1128","v":957},"/      (",{"$f":"$H$401","v":304},"  x  100",")"]
[null,null,"Veículos  de Apoio","Caminhão-oficina","Coeficiente de Remuneração ","%/veículo.mês",{"$f":"Coeficientes!F232","v":0},{"$f":"H1129+1","v":959}]
[null,null,null,null,"Remuneração ","R$/veículo.mês",{"$f":"0.01*G817*G1130/$G$401","v":{"$error":"#DIV/0!"}},960,null,null,{"$f":"H1131","v":960},"=",{"$f":"H817","v":665},"x",{"$f":"H1130","v":959},"/      (",{"$f":"$H$401","v":304},"  x  100",")"]
[null,null,null,"Caminhão-guincho","Coeficiente de Remuneração ","%/veículo.mês",{"$f":"Coeficientes!F233","v":0},961]
[null,null,null,null,"Remuneração ","R$/veículo.mês",{"$f":"0.01*G820*G1132/$G$401","v":{"$error":"#DIV/0!"}},962,null,null,{"$f":"H1133","v":962},"=",{"$f":"H820","v":668},"x",{"$f":"H1132","v":961},"/      (",{"$f":"$H$401","v":304},"  x  100",")"]
[null,null,null,"Caminhoneta","Coeficiente de Remuneração ","%/veículo.mês",{"$f":"Coeficientes!F234","v":0},963]
[null,null,null,null,"Remuneração ","R$/veículo.mês",{"$f":"0.01*G823*G1134/$G$401","v":{"$error":"#DIV/0!"}},964,null,null,{"$f":"H1135","v":964},"=",{"$f":"H823","v":671},"x",{"$f":"H1134","v":963},"/      (",{"$f":"$H$401","v":304},"  x  100",")"]
[null,null,null,"Auitomóvel Básico","Coeficiente de Remuneração ","%/veículo.mês",{"$f":"Coeficientes!F235","v":0},965]
[null,null,null,null,"Remuneração ","R$/veículo.mês",{"$f":"0.01*G826*G1136/$G$401","v":{"$error":"#DIV/0!"}},966,null,null,{"$f":"H1137","v":966},"=",{"$f":"H826","v":674},"x",{"$f":"H1136","v":965},"/      (",{"$f":"$H$401","v":304},"  x  100",")"]
[null,null,null,"Motocicleta","Coeficiente de Remuneração ","%/veículo.mês",{"$f":"Coeficientes!F236","v":0},967]
[null,null,null,null,"Remuneração ","R$/veículo.mês",{"$f":"0.01*G829*G1138/$G$401","v":{"$error":"#DIV/0!"}},968,null,null,{"$f":"H1139","v":968},"=",{"$f":"H829","v":677},"x",{"$f":"H1138","v":967},"/      (",{"$f":"$H$401","v":304},"  x  100",")"]
[null,null,"Remuneração Total de Outros Ativos - Modelo Detalhado",null,null,"R$/veículo.mês",{"$f":"G1123+G1125+G1127+G1129+G1131+G1133+G1135+G1137+G1139","v":{"$error":"#DIV/0!"}},969,null,null,{"$f":"H1140","v":969},"=",{"$f":"H1123","v":952},"+",{"$f":"H1125","v":954},"+",{"$f":"H1127","v":956},"+",{"$f":"H1129","v":958},"+",{"$f":"K1131","v":960},"+",{"$f":"H1133","v":962},"+",{"$f":"H1135","v":964},"+",{"$f":"H1137","v":966},"+",{"$f":"H1139","v":968}]
[null,null,"Remuneração Total de Outros Ativos - Modelo Resumido",null,"Coeficiente de Remuneração ","%/veículo.mês",{"$f":"Coeficientes!F239","v":0},970]
[null,null,null,null,"Remuneração","R$/veículo.mês",{"$f":"G69*G1141/100","v":{"$error":"#DIV/0!"}},971,null,null,{"$f":"H1142","v":971},"=",{"$f":"H65","v":32},"x",{"$f":"H1141","v":970},"   /  100"]
[]
[null,"AMORTIZAÇÃO MENSAL DE OUTROS INVESTIMENTOS","Valor","Outorga",null,"R$",{"$f":"Insumos!G407","v":0},{"$f":"H1142+1","v":972}]
[null,null,null,"Investimento Terminal e Infraestrutura",null,"R$",{"$f":"Insumos!G408","v":0},973]
[null,null,"Coeficiente","Coeficiente de Outorga",null,"%/veículo.mês",{"$f":"Coeficientes!F237","v":0},974]
[null,null,null,"Coeficiente de Investimento Terminal e Infraestrutura",null,"%/veículo.mês",{"$f":"Coeficientes!F238","v":0},975]
[null,null,"Amortização e Depreciação","Outorga",null,"R$/veículo.mês",{"$f":"G1144*G1146/100","v":0},976,null,null,{"$f":"H1148","v":976},"=",{"$f":"H1144","v":972},"x",{"$f":"H1146","v":974},"   /  100"]
[null,null,null,"Investimento Terminal e Infraestrutura",null,"R$/veículo.mês",{"$f":"G1145*G1147/100","v":0},977,null,null,{"$f":"H1149","v":977},"=",{"$f":"H1145","v":973},"+",{"$f":"H1147","v":975},"   /  100"]
[null,null,"Total",null,null,"R$/veículo.mês",{"$f":"SUM(G1148:G1149)","v":0},978,null,null,{"$f":"H1150","v":978},"=",{"$f":"H1148","v":976},"+",{"$f":"H1149","v":977}]
[]
[null,"REMUNERAÇÃO E AMORTIZAÇÃO DO CAPITAL",null,null,null,"R$/veículo.mês",{"$f":"G1117+G1120+G1140+G1142+G1150","v":{"$error":"#DIV/0!"}},{"$f":"H1150+1","v":979},null,null,{"$f":"H1152","v":979},"=",{"$f":"H1117","v":948},"+",{"$f":"H1120","v":950},"+",{"$f":"H1140","v":969},"+",{"$f":"H1142","v":971},"+",{"$f":"H1150","v":978}]
[]
[null,"CUSTO TOTAL DE CAPITAL",null,null,null,"R$/veículo.mês",{"$f":"G1152+G835","v":{"$error":"#DIV/0!"}},{"$f":"H1152+1","v":980},null,null,{"$f":"H1154","v":980},"=",{"$f":"H835","v":682},"+",{"$f":"H1152","v":979}]
[]
[]
[null,"6.2 DESPESAS COM PESSOAL"]
[]
[null,"ENCARGOS SOCIAIS",null,null,null,"%",{"$f":"Coeficientes!$F$244","v":0},{"$f":"H1154+1","v":981}]
[null,"PESSOAL DE OPERAÇÃO","Motorista","Fator de Utilização",null,"func./veículo",{"$f":"Coeficientes!$F$241","v":0},{"$f":"H1159+1","v":982}]
[null,null,null,"Despesas",null,"R$/veículo.mês",{"$f":"G26*G1160*(1+G1159/100)","v":0},983,null,null,{"$f":"H1161","v":983},"=",{"$f":"H26","v":2},"x   (  1  +",{"$f":"$H$1159","v":981}," / 100 )  x",{"$f":"H1160","v":982}]
[null,null,"Cobrador","Fator de Utilização",null,"func./veículo",{"$f":"Coeficientes!$F$242","v":0},984]
[null,null,null,"Despesas",null,"R$/veículo.mês",{"$f":"G27*G1162*(1+G1159/100)","v":0},985,null,null,{"$f":"H1163","v":985},"=",{"$f":"H27","v":3},"x   (  1  +",{"$f":"$H$1159","v":981}," / 100 )  x",{"$f":"H1162","v":984}]
[null,null,"Fiscal/Despachante","Fator de Utilização",null,"func./veículo",{"$f":"Coeficientes!$F$243","v":0},986]
[null,null,null,"Despesas",null,"R$/veículo.mês",{"$f":"G28*G1164*(1+G1159/100)","v":0},987,null,null,{"$f":"H1165","v":987},"=",{"$f":"H28","v":4},"x   (  1  +",{"$f":"$H$1159","v":981}," / 100 )  x",{"$f":"H1164","v":986}]
[null,null,"Total",null,null,"R$/veículo.mês",{"$f":"G1161+G1163+G1165","v":0},988,null,null,{"$f":"H1166","v":988},"=",{"$f":"H1161","v":983},"+",{"$f":"H1163","v":985},"+",{"$f":"H1165","v":987}]
[null,"PESSOAL DE MANUTENÇÃO",null,"Coeficiente",null,"%",{"$f":"Coeficientes!$F$245","v":0},989]
[null,null,null,"Despesas",null,"R$/veículo.mês",{"$f":"G1166*G1167/100","v":0},990,null,null,{"$f":"H1168","v":990},"=",{"$f":"H1166","v":988},"x",{"$f":"H1167","v":989}," / 100 "]
[null,"PESSOAL ADMINISTRATIVO",null,"Coeficiente",null,"%",{"$f":"Coeficientes!F246","v":0},{"$f":"H1168+1","v":991}]
[null,null,null,"Despesas",null,"R$/veículo.mês",{"$f":"G1166*G1169/100","v":0},992,null,null,{"$f":"H1170","v":992},"=",{"$f":"H1166","v":988},"x",{"$f":"H1169","v":991}," / 100 "]
[null,"BENEFÍCIOS",null,"Coeficiente de Benefícios",null,"%",{"$f":"Coeficientes!F247","v":0},993]
[null,null,null,"Despesas",null,"R$/veículo.mês",{"$f":"G1171*G46/100","v":0},994,null,null,{"$f":"H1172","v":994},"=",{"$f":"H46","v":16},"x",{"$f":"H1171","v":993}," / 100 "]
[null,"REMUNERAÇÃO DA DIRETORIA",null,"Coeficiente de Remuneração de Diretoria",null,"%",{"$f":"Coeficientes!F248","v":0},995]
[null,null,null,"Despesas",null,"R$/veículo.mês",{"$f":"G1173*G46/100","v":0},996,null,null,{"$f":"H1174","v":996},"=",{"$f":"H46","v":16},"x",{"$f":"H1173","v":995}," / 100 "]
[null,"DESPESA TOTAL COM PESSOAL",null,null,null,"R$/veículo.mês",{"$f":"G1166+G1168+G1170+G1172+G1174","v":0},997,null,null,{"$f":"H1175","v":997},"=",{"$f":"H1166","v":988},"+",{"$f":"H1168","v":990},"+",{"$f":"H1170","v":992},"+",{"$f":"H1172","v":994},"+",{"$f":"H1174","v":996}]
[]
[]
[null,"6.3 DESPESAS ADMINISTRATIVAS"]
[]
[null,"DESPESA ADMINISTRATIVA","Coeficiente de Despesa Administrativa",null,null,"% /veículo.mês",{"$f":"Coeficientes!F250","v":0},{"$f":"H1175+1","v":998}]
[null,null,"Despesa Administrativa",null,null,"R$/veículo.mês",{"$f":"G1180*G46/100","v":0},{"$f":"H1180+1","v":999},null,null,{"$f":"H1181","v":999},"=",{"$f":"H1180","v":998},"x",{"$f":"H46","v":16}," / 100 "]
[null,"CUSTO AMBIENTAL","Coeficiente de Custo Ambiental",null,null,"% /veículo.mês",{"$f":"Coeficientes!F252","v":0},{"$f":"H1181+1","v":1000}]
[null,null,"Custo Ambiental",null,null,"R$/veículo.mês",{"$f":"G1182*G46/100","v":0},{"$f":"H1182+1","v":1001},null,null,{"$f":"H1183","v":1001},"=",{"$f":"H1182","v":1000},"x",{"$f":"H46","v":16}," / 100 "]
[null,"DESPESA ADMINISTRATIVA TOTAL",null,null,null,"R$/veículo.mês",{"$f":"G1181+G1183","v":0},{"$f":"H1183+1","v":1002},null,null,{"$f":"H1184","v":1002},"=",{"$f":"H1181","v":999},"+",{"$f":"H1183","v":1001}," / 100 "]
[]
[]
[null,"6.4 CUSTO FIXO TOTAL"]
[]
[null,"CUSTO DE CAPITAL E ADMINISTRATIVO",null,null,null,"R$/veículo.mês",{"$f":"(G1154+G1184)","v":{"$error":"#DIV/0!"}},{"$f":"H1184+1","v":1003},null,null,{"$f":"H1189","v":1003},"=",{"$f":"H1154","v":980},"+",{"$f":"H1184","v":1002}]
[null,"CUSTO DE PESSOAL",null,null,null,"R$/veículo.mês",{"$f":"G1175","v":0},{"$f":"H1189+1","v":1004},null,null,{"$f":"H1190","v":1004},"=",{"$f":"H1175","v":997}]
[null,"CUSTO FIXO TOTAL POR QUILÔMETRO",null,null,null,"R$/km",{"$f":"(G401*G1189+G393*G1190)/G409","v":{"$error":"#DIV/0!"}},{"$f":"H1190+1","v":1005},null,null,{"$f":"H1191","v":1005},"=    (",{"$f":"H401","v":304},"x",{"$f":"H1189","v":1003},"+",{"$f":"G393","v":0},"x",{"$f":"H1190","v":1004},"/",{"$f":"H409","v":308}]
[]
[]
[null,"7 CUSTO TOTAL"]
[]
[null,"CUSTO TOTAL",null,null,null,"R$/km",{"$f":"G513+G1191","v":{"$error":"#DIV/0!"}},{"$f":"H1191+1","v":1006},null,null,{"$f":"H1196","v":1006},"=",{"$f":"H513","v":386},"+",{"$f":"H1191","v":1005}]
[]
[]
[null,"8 CUSTO DE REMUNERAÇÃO PELA PRESTAÇÃO DOS SERVIÇOS"]
[]
[null,"CUSTO DE REMUNERAÇÃO PELA PRESTAÇÃO DOS SERVIÇOS",null,"Coeficiente de Remuneração",null,"% /veículo.mês",{"$f":"Coeficientes!F254","v":0},{"$f":"H1196+1","v":1007}]
[null,null,null,"Custo de Remuneração por Quilômetro",null,"R$/km",{"$f":"G1201*G1196/100","v":{"$error":"#DIV/0!"}},{"$f":"H1201+1","v":1008},null,null,{"$f":"H1202","v":1008},"=",{"$f":"H513","v":386},"x",{"$f":"H1201","v":1007},"/ 100"]
[]
[]
[null,"9. CÁLCULO FINAL DOS CUSTOS"]
[]
[null,"CUSTO TOTAL POR QUILÔMETRO SEM TRIBUTOS",null,null,null,"R$/km",{"$f":"G1196+G1202","v":{"$error":"#DIV/0!"}},{"$f":"H1202+1","v":1009},null,null,{"$f":"H1207","v":1009},"=",{"$f":"H1196","v":1006},"+",{"$f":"H1202","v":1008}]
[null,"TRIBUTOS",null,null,null,"%",{"$f":"Coeficientes!F266","v":0},{"$f":"H1207+1","v":1010}]
[null,"CUSTO TOTAL COM TRIBUTOS",null,null,null,"R$/km",{"$f":"G1207/(1-G1208/100)","v":{"$error":"#DIV/0!"}},{"$f":"H1208+1","v":1011},null,null,{"$f":"H1209","v":1011},"=",{"$f":"H1207","v":1009},"/   (1  -",{"$f":"H1208","v":1010},")"]
[null,"CUSTO TOTAL COM TRIBUTOS ANTERIOR",null,null,null,"R$/km",{"$f":"Insumos!G21","v":{"$error":"#DIV/0!"}},1012]
[null,"OCUPAÇÃO MÉDIA",null,null,null,"passageiros/viagem",{"$f":"Insumos!G31","v":0},1013]
[null,"COEFICIENTE TARIFÁRIO",null,null,null,"R$/pass.km",{"$f":"G1209/G1211","v":{"$error":"#DIV/0!"}},1014,null,null,{"$f":"H1212","v":1014},"=",{"$f":"H1209","v":1011},"/",{"$f":"H1211","v":1013}]
[null,"COEFICIENTE TARIFÁRIO ANTERIOR",null,null,null,"R$/pass.km",{"$f":"Insumos!G22","v":{"$error":"#DIV/0!"}},1015]
[null,"VARIAÇÃO DOS CUSTOS",null,null,null,"%",{"$f":"G1209/G1210-1","v":{"$error":"#DIV/0!"}},1016,null,null,{"$f":"H1214","v":1016},"=       (",{"$f":"H1209","v":1011},"/",{"$f":"H1210","v":1012},-1,")   x 100"]
[null,"VARIAÇÃO DOA COEFICIENTES TARIFÁRIOS",null,null,null,"%",{"$f":"G1212/G1213-1","v":{"$error":"#DIV/0!"}},1017,null,null,{"$f":"H1215","v":1017},"=       (",{"$f":"H1212","v":1014},"/",{"$f":"H1213","v":1015},-1,")   x 100"]

{"sheet":"Depre e Rem Gen","index":5,"n_rows":57,"n_cols":44,"rows_kept":57,"cut":false,"hidden":false,"merged":[[39,17,39,18],[39,20,40,22],[39,23,39,24],[39,26,40,28],[39,29,39,30],[39,2,40,4],[39,5,39,6],[39,8,40,10],[39,11,39,12],[39,14,40,16],[33,34,33,35],[34,2,34,6],[34,8,34,11],[34,14,34,17],[34,34,38,34],[34,20,34,24],[34,26,34,29],[16,26,17,28],[16,29,16,30],[18,34,18,35],[19,34,23,34],[28,34,30,35],[13,34,15,35],[13,36,15,36],[13,37,15,37],[13,38,15,38],[32,34,32,35],[16,34,16,35],[17,34,17,35],[28,36,30,36],[31,34,31,35],[16,2,17,4],[16,5,16,6],[16,8,17,10],[16,11,16,12],[16,14,17,16],[8,10,8,12],[5,16,6,16],[5,17,6,17],[16,20,17,22],[16,23,16,24],[5,10,6,12],[5,13,6,13],[5,14,6,14],[5,15,6,15],[7,10,7,12],[16,17,16,18],[12,13,12,17]]}
[]
[null,"Cálculo Genérico de Depreciação e Remuneração do Capital Investindo em Veículos",null,null,null,null,null,null,null,null,null,null,null,null,null,null,null,null,null,null,null,null,null,null,null,null,null,null,null,null,null,null,null,null,"Outros Ativos"]
[]
[]
[]
[null,null,null,null,null,null,null,null,null,null,"Item",null,null,"Micro-ônibus","Ônibus Convencional","Ônibus Leito","Ônibus Misto","Outro"]
[null,null,null,"TRC",0.12]
[null,null,null,null,null,null,null,null,null,null,"Vida Útil  (anos)",null,null,10,10,10,10,10]
[null,null,null,null,null,null,null,null,null,null,"Valor Residual (%)",null,null,10,10,10,10,10]
[]
[null,null,null,null,null,null,null,null,null,null,null,null,null,1,2,3,4,5]
[null,null,null,null,null,null,null,null,null,null,null,null,null,{"$f":"ROUND(-0.9722*N11+16.692,0)","v":16},{"$f":"ROUND(-0.9722*O11+16.692,0)","v":15},14,13,12]
[null,null,null,null,null,null,null,null,null,null,null,null,null,"y=-0,9722 X+16,692"]
[null,null,null,null,null,null,null,null,null,null,null,null,null,null,null,null,null,null,null,null,null,null,null,null,null,null,null,null,null,null,null,null,null,null,"Item",null,"Vida Útil (anos)","Valor Residual (%)","Coeficiente de depreciação mensal"]
[]
[null,null,null,null,null,null,null,null,null,null,null,null,null,null,null,null,null,null,null,null,null,null,null,null,null,null,null,null,null,null,null,null,null,null,null,null,null,null,null,null,null,null,null,"valor"]
[null,null,"Micro-ônibus",null,null,"Depreciação",null,null,"Ônibus Leve",null,null,"Depreciação",null,null,"Ônibus Pesado",null,null,"Depreciação",null,null,"Ônibus Articulado",null,null,"Depreciação",null,null,"Ônibus Bi-Articulado",null,null,"Depreciação",null,null,null,null,"Edificações",null,25,10,{"$f":"(100-AL17)/(1200*AK17)","v":3.0000000000000001E-3},null,null,{"$f":"1+AP16","v":1},{"$f":"1-AP17*AM$17*12","v":0.96399999999999997},"="]
[null,null,null,null,null,"Anual","Mensal",null,null,null,null,"Anual","Mensal",null,null,null,null,"Anual","Mensal",null,null,null,null,"Anual","Mensal",null,null,null,null,"Anual","Mensal",null,null,null,"Equipamentos de Garagem",null,10,0,{"$f":"(100-AL18)/(1200*AK18)","v":8.3333333333333332E-3},null,"  ",{"$f":"1+AP17","v":2},0.92799999999999994]
[null,null,1,{"$f":"N8","v":10},{"$f":"1-N$9/100","v":0.9},{"$f":"E19*D19/C$35","v":0.16363636363636364},{"$f":"F19/12","v":1.3636363636363636E-2},null,1,{"$f":"O8","v":10},{"$f":"1-O$9/100","v":0.9},{"$f":"K19*J19/I$35","v":0.16363636363636364},{"$f":"L19/12","v":1.3636363636363636E-2},null,1,{"$f":"P8","v":10},{"$f":"1-P$9/100","v":0.9},{"$f":"Q19*P19/O$35","v":0.16363636363636364},{"$f":"R19/12","v":1.3636363636363636E-2},null,1,{"$f":"Q8","v":10},{"$f":"1-Q$9/100","v":0.9},{"$f":"W19*V19/U$35","v":0.16363636363636364},{"$f":"X19/12","v":1.3636363636363636E-2},null,1,{"$f":"R8","v":10},{"$f":"1-R$9/100","v":0.9},{"$f":"AC19*AB19/AA$35","v":0.16363636363636364},{"$f":"AD19/12","v":1.3636363636363636E-2},null,null,null,"Equiipamentos de Bilhetagem Eletrônica e ITS",null,5,0,1.6666666666666666E-2,null,null,3,0.89200000000000002]
[null,null,{"$f":"1+C19","v":2},{"$f":"IF((D19-1)<0,0,(D19-1))","v":9},0.9,{"$f":"E20*D20/C$35","v":0.14727272727272728},{"$f":"F20/12","v":1.2272727272727274E-2},null,{"$f":"1+I19","v":2},{"$f":"IF((J19-1)<0,0,(J19-1))","v":9},0.9,{"$f":"K20*J20/I$35","v":0.14727272727272728},{"$f":"L20/12","v":1.2272727272727274E-2},null,{"$f":"1+O19","v":2},{"$f":"IF((P19-1)<0,0,(P19-1))","v":9},0.9,0.14727272727272728,{"$f":"R20/12","v":1.2272727272727274E-2},null,{"$f":"1+U19","v":2},{"$f":"IF((V19-1)<0,0,(V19-1))","v":9},{"$f":"1-Q$9/100","v":0.9},{"$f":"W20*V20/U$35","v":0.14727272727272728},{"$f":"X20/12","v":1.2272727272727274E-2},null,{"$f":"1+AA19","v":2},{"$f":"IF((AB19-1)<0,0,(AB19-1))","v":9},{"$f":"1-R$9/100","v":0.9},{"$f":"AC20*AB20/AA$35","v":0.14727272727272728},{"$f":"AD20/12","v":1.2272727272727274E-2},null,null,null,"Veículos de Apoio","Caminhão-oficina",15,10,5.0000000000000001E-3,null,null,4,0.85599999999999998]
[null,null,{"$f":"1+C20","v":3},{"$f":"IF((D20-1)<0,0,(D20-1))","v":8},0.9,0.13090909090909092,1.090909090909091E-2,null,{"$f":"1+I20","v":3},{"$f":"IF((J20-1)<0,0,(J20-1))","v":8},0.9,0.13090909090909092,1.090909090909091E-2,null,{"$f":"1+O20","v":3},{"$f":"IF((P20-1)<0,0,(P20-1))","v":8},0.9,0.13090909090909092,1.090909090909091E-2,null,{"$f":"1+U20","v":3},{"$f":"IF((V20-1)<0,0,(V20-1))","v":8},0.9,0.13090909090909092,1.090909090909091E-2,null,{"$f":"1+AA20","v":3},{"$f":"IF((AB20-1)<0,0,(AB20-1))","v":8},0.9,0.13090909090909092,1.090909090909091E-2,null,null,null,null,"Caminhão-guincho",15,10,5.0000000000000001E-3,null,null,5,0.82000000000000006]
[null,null,4,7,0.9,0.11454545454545455,9.5454545454545462E-3,null,4,7,0.9,0.11454545454545455,9.5454545454545462E-3,null,4,7,0.9,0.11454545454545455,9.5454545454545462E-3,null,4,7,0.9,0.11454545454545455,9.5454545454545462E-3,null,4,7,0.9,0.11454545454545455,9.5454545454545462E-3,null,null,null,null,"Caminhoneta",8,15,8.8541666666666664E-3,null,null,6,0.78400000000000003]
[null,null,5,6,0.9,9.818181818181819E-2,8.1818181818181825E-3,null,5,6,0.9,9.818181818181819E-2,8.1818181818181825E-3,null,5,6,0.9,9.818181818181819E-2,8.1818181818181825E-3,null,5,6,0.9,9.818181818181819E-2,8.1818181818181825E-3,null,5,6,0.9,9.818181818181819E-2,8.1818181818181825E-3,null,null,null,null,"Auitomóvel Básico",5,20,1.3333333333333334E-2,null,null,7,0.748]
[null,null,6,5,0.9,8.1818181818181818E-2,6.8181818181818179E-3,null,6,5,0.9,8.1818181818181818E-2,6.8181818181818179E-3,null,6,5,0.9,8.1818181818181818E-2,6.8181818181818179E-3,null,6,5,0.9,8.1818181818181818E-2,6.8181818181818179E-3,null,6,5,0.9,8.1818181818181818E-2,6.8181818181818179E-3,null,null,null,null,"Motocicleta",5,20,1.3333333333333334E-2,null,null,8,0.71199999999999997]
[null,null,7,4,0.9,6.545454545454546E-2,5.454545454545455E-3,null,7,4,0.9,6.545454545454546E-2,5.454545454545455E-3,null,7,4,0.9,6.545454545454546E-2,5.454545454545455E-3,null,7,4,0.9,6.545454545454546E-2,5.454545454545455E-3,null,7,4,0.9,6.545454545454546E-2,5.454545454545455E-3,null,null,null,null,null,null,null,null,null,null,9,0.67599999999999993]
[null,null,8,3,0.9,4.9090909090909095E-2,4.0909090909090912E-3,null,8,3,0.9,4.9090909090909095E-2,4.0909090909090912E-3,null,8,3,0.9,4.9090909090909095E-2,4.0909090909090912E-3,null,8,3,0.9,4.9090909090909095E-2,4.0909090909090912E-3,null,8,3,0.9,4.9090909090909095E-2,4.0909090909090912E-3,null,null,null,null,null,null,null,null,null,null,10,0.64]
[null,null,9,2,0.9,3.272727272727273E-2,2.7272727272727275E-3,null,9,2,0.9,3.272727272727273E-2,2.7272727272727275E-3,null,9,2,0.9,3.272727272727273E-2,2.7272727272727275E-3,null,9,2,0.9,3.272727272727273E-2,2.7272727272727275E-3,null,9,2,0.9,3.272727272727273E-2,2.7272727272727275E-3,null,null,null,"Remuneração de Outros Ativos",null,"(metade da vida útil)",null,null,null,null,11,0.60399999999999998]
[null,null,10,1,0.9,1.6363636363636365E-2,1.3636363636363637E-3,null,10,1,0.9,1.6363636363636365E-2,1.3636363636363637E-3,null,10,1,0.9,1.6363636363636365E-2,1.3636363636363637E-3,null,10,1,0.9,1.6363636363636365E-2,1.3636363636363637E-3,null,10,1,0.9,1.6363636363636365E-2,1.3636363636363637E-3,null,null,null,null,null,null,null,null,null,null,12,0.56799999999999995]
[null,null,11,0,0.9,0,0,null,11,0,0.9,0,0,null,11,0,0.9,0,0,null,11,0,0.9,0,0,null,11,0,0.9,0,0,null,null,null,"Item",null,"Valor",null,null,null,null,13,0.53200000000000003]
[null,null,12,0,0.9,0,0,null,12,0,0.9,0,0,null,12,0,0.9,0,0,null,12,0,0.9,0,0,null,12,0,0.9,0,0,null,null,null,null,null,null,null,null,null,null,14,0.496]
[null,null,13,0,0.9,0,0,null,13,0,0.9,0,0,null,13,0,0.9,0,0,null,13,0,0.9,0,0,null,13,0,0.9,0,0,null,null,null,null,null,null,null,null,null,null,15,0.45999999999999996]
[null,null,14,0,0.9,0,0,null,14,0,0.9,0,0,null,14,0,0.9,0,0,null,14,0,0.9,0,0,null,14,0,0.9,0,0,null,null,null,"Edificações",null,{"$f":"0.12*((1-AL17/100)/AK17)/12","v":3.6000000000000002E-4}]
[null,null,15,0,0.9,0,0,null,15,0,0.9,0,0,null,15,0,0.9,0,0,null,15,0,0.9,0,0,null,15,0,0.9,0,0,null,null,null,"Equipamentos de Garagem",null,1E-3]
[null,null,"> 15",0,0.9,0,0,null,"> 15",0,0.9,0,0,null,"> 15",0,0.9,0,0,null,"> 15",0,0.9,0,0,null,"> 15",0,0.9,0,0,null,null,null,"Equiipamentos de Bilhetagem Eletrônica e ITS",null,2E-3]
[null,null,{"$f":"SUM(D19:D31)","v":55},null,null,null,null,null,{"$f":"SUM(J19:J31)","v":55},null,null,null,null,null,{"$f":"SUM(P19:P31)","v":55},null,null,null,null,null,{"$f":"SUM(V19:V31)","v":55},null,null,null,null,null,{"$f":"SUM(AB19:AB31)","v":55},null,null,null,null,null,null,null,"Veículos de Apoio","Caminhão-oficina",6.0000000000000006E-4]
[null,null,null,null,null,null,null,null,null,null,null,null,null,null,null,null,null,null,null,null,null,null,null,null,null,null,null,null,null,null,null,null,null,null,null,"Caminhão-guincho",6.0000000000000006E-4]
[null,null,null,null,null,null,null,null,null,null,null,null,null,null,null,null,null,null,null,null,null,null,null,null,null,null,null,null,null,null,null,null,null,null,null,"Caminhoneta",1.0624999999999999E-3]
[null,null,null,null,null,null,null,null,null,null,null,null,null,null,null,null,null,null,null,null,null,null,null,null,null,null,null,null,null,null,null,null,null,null,null,"Auitomóvel Básico",1.5999999999999999E-3]
[null,null,null,null,null,null,null,null,null,null,null,null,null,null,null,null,null,null,null,null,null,null,null,null,null,null,null,null,null,null,null,null,null,null,null,"Motocicleta",1.5999999999999999E-3]
[null,null,"Micro-ônibus",null,null,"Remuneração",null,null,"Ônibus Leve",null,null,"Remuneração",null,null,"Ônibus Pesado",null,null,"Remuneração",null,null,"Ônibus Articulado",null,null,"Remuneração",null,null,"Ônibus Bi-Articulado",null,null,"Remuneração"]
[null,null,null,null,null,"Anual","Mensal",null,null,null,null,"Anual","Mensal",null,null,null,null,"Anual","Mensal",null,null,null,null,"Anual","Mensal",null,null,null,null,"Anual","Mensal"]
[null,null,1,0,{"$f":"1-D42","v":1},{"$f":"E42*$E$7","v":0.12},{"$f":"F42/12","v":0.01},null,1,0,{"$f":"1-J42","v":1},{"$f":"K42*$E$7","v":0.12},{"$f":"L42/12","v":0.01},null,1,0,{"$f":"1-P42","v":1},{"$f":"Q42*$E$7","v":0.12},{"$f":"R42/12","v":0.01},null,1,0,{"$f":"1-V42","v":1},{"$f":"W42*$E$7","v":0.12},{"$f":"X42/12","v":0.01},null,1,0,{"$f":"1-AB42","v":1},{"$f":"AC42*$E$7","v":0.12},{"$f":"AD42/12","v":0.01}]
[null,null,{"$f":"1+C42","v":2},{"$f":"E$19*SUM(D$19:D19)/C$35","v":0.16363636363636364},{"$f":"1-D43","v":0.83636363636363642},{"$f":"E43*$E$7","v":0.10036363636363636},{"$f":"F43/12","v":8.363636363636363E-3},null,{"$f":"1+I42","v":2},{"$f":"K$19*SUM(J$19:J19)/I$35","v":0.16363636363636364},{"$f":"1-J43","v":0.83636363636363642},{"$f":"K43*$E$7","v":0.10036363636363636},{"$f":"L43/12","v":8.363636363636363E-3},null,{"$f":"1+O42","v":2},{"$f":"Q$19*SUM(P$19:P19)/O$35","v":0.16363636363636364},{"$f":"1-P43","v":0.83636363636363642},{"$f":"Q43*$E$7","v":0.10036363636363636},{"$f":"R43/12","v":8.363636363636363E-3},null,{"$f":"1+U42","v":2},{"$f":"W$19*SUM(V$19:V19)/U$35","v":0.16363636363636364},{"$f":"1-V43","v":0.83636363636363642},{"$f":"W43*$E$7","v":0.10036363636363636},{"$f":"X43/12","v":8.363636363636363E-3},null,{"$f":"1+AA42","v":2},{"$f":"AC$19*SUM(AB$19:AB19)/AA$35","v":0.16363636363636364},{"$f":"1-AB43","v":0.83636363636363642},{"$f":"AC43*$E$7","v":0.10036363636363636},{"$f":"AD43/12","v":8.363636363636363E-3}]
[null,null,{"$f":"1+C43","v":3},{"$f":"E$19*SUM(D$19:D20)/C$35","v":0.31090909090909091},0.68909090909090909,8.2690909090909093E-2,6.8909090909090908E-3,null,{"$f":"1+I43","v":3},{"$f":"K$19*SUM(J$19:J20)/I$35","v":0.31090909090909091},0.68909090909090909,8.2690909090909093E-2,6.8909090909090908E-3,null,{"$f":"1+O43","v":3},{"$f":"Q$19*SUM(P$19:P20)/O$35","v":0.31090909090909091},0.68909090909090909,8.2690909090909093E-2,6.8909090909090908E-3,null,{"$f":"1+U43","v":3},{"$f":"W$19*SUM(V$19:V20)/U$35","v":0.31090909090909091},0.68909090909090909,8.2690909090909093E-2,6.8909090909090908E-3,null,{"$f":"1+AA43","v":3},{"$f":"AC$19*SUM(AB$19:AB20)/AA$35","v":0.31090909090909091},0.68909090909090909,8.2690909090909093E-2,6.8909090909090908E-3]
[null,null,4,{"$f":"E$19*SUM(D$19:D21)/C$35","v":0.44181818181818183},0.55818181818181811,6.698181818181817E-2,5.5818181818181808E-3,null,4,{"$f":"K$19*SUM(J$19:J21)/I$35","v":0.44181818181818183},0.55818181818181811,6.698181818181817E-2,5.5818181818181808E-3,null,4,{"$f":"Q$19*SUM(P$19:P21)/O$35","v":0.44181818181818183},0.55818181818181811,6.698181818181817E-2,5.5818181818181808E-3,null,4,{"$f":"W$19*SUM(V$19:V21)/U$35","v":0.44181818181818183},0.55818181818181811,6.698181818181817E-2,5.5818181818181808E-3,null,4,{"$f":"AC$19*SUM(AB$19:AB21)/AA$35","v":0.44181818181818183},0.55818181818181811,6.698181818181817E-2,5.5818181818181808E-3]
[null,null,5,{"$f":"E$19*SUM(D$19:D22)/C$35","v":0.55636363636363639},0.44363636363636361,5.323636363636363E-2,4.4363636363636359E-3,null,5,{"$f":"K$19*SUM(J$19:J22)/I$35","v":0.55636363636363639},0.44363636363636361,5.323636363636363E-2,4.4363636363636359E-3,null,5,{"$f":"Q$19*SUM(P$19:P22)/O$35","v":0.55636363636363639},0.44363636363636361,5.323636363636363E-2,4.4363636363636359E-3,null,5,{"$f":"W$19*SUM(V$19:V22)/U$35","v":0.55636363636363639},0.44363636363636361,5.323636363636363E-2,4.4363636363636359E-3,null,5,{"$f":"AC$19*SUM(AB$19:AB22)/AA$35","v":0.55636363636363639},0.44363636363636361,5.323636363636363E-2,4.4363636363636359E-3]
[null,null,6,{"$f":"E$19*SUM(D$19:D23)/C$35","v":0.65454545454545454},0.34545454545454546,4.1454545454545452E-2,3.4545454545454545E-3,null,6,{"$f":"K$19*SUM(J$19:J23)/I$35","v":0.65454545454545454},0.34545454545454546,4.1454545454545452E-2,3.4545454545454545E-3,null,6,{"$f":"Q$19*SUM(P$19:P23)/O$35","v":0.65454545454545454},0.34545454545454546,4.1454545454545452E-2,3.4545454545454545E-3,null,6,{"$f":"W$19*SUM(V$19:V23)/U$35","v":0.65454545454545454},0.34545454545454546,4.1454545454545452E-2,3.4545454545454545E-3,null,6,{"$f":"AC$19*SUM(AB$19:AB23)/AA$35","v":0.65454545454545454},0.34545454545454546,4.1454545454545452E-2,3.4545454545454545E-3]
[null,null,7,{"$f":"E$19*SUM(D$19:D24)/C$35","v":0.73636363636363633},0.26363636363636367,3.1636363636363636E-2,2.6363636363636363E-3,null,7,{"$f":"K$19*SUM(J$19:J24)/I$35","v":0.73636363636363633},0.26363636363636367,3.1636363636363636E-2,2.6363636363636363E-3,null,7,{"$f":"Q$19*SUM(P$19:P24)/O$35","v":0.73636363636363633},0.26363636363636367,3.1636363636363636E-2,2.6363636363636363E-3,null,7,{"$f":"W$19*SUM(V$19:V24)/U$35","v":0.73636363636363633},0.26363636363636367,3.1636363636363636E-2,2.6363636363636363E-3,null,7,{"$f":"AC$19*SUM(AB$19:AB24)/AA$35","v":0.73636363636363633},0.26363636363636367,3.1636363636363636E-2,2.6363636363636363E-3]
[null,null,8,{"$f":"E$19*SUM(D$19:D25)/C$35","v":0.80181818181818187},0.19818181818181813,2.3781818181818175E-2,1.9818181818181814E-3,null,8,{"$f":"K$19*SUM(J$19:J25)/I$35","v":0.80181818181818187},0.19818181818181813,2.3781818181818175E-2,1.9818181818181814E-3,null,8,{"$f":"Q$19*SUM(P$19:P25)/O$35","v":0.80181818181818187},0.19818181818181813,2.3781818181818175E-2,1.9818181818181814E-3,null,8,{"$f":"W$19*SUM(V$19:V25)/U$35","v":0.80181818181818187},0.19818181818181813,2.3781818181818175E-2,1.9818181818181814E-3,null,8,{"$f":"AC$19*SUM(AB$19:AB25)/AA$35","v":0.80181818181818187},0.19818181818181813,2.3781818181818175E-2,1.9818181818181814E-3]
[null,null,9,{"$f":"E$19*SUM(D$19:D26)/C$35","v":0.85090909090909095},0.14909090909090905,1.7890909090909086E-2,1.4909090909090905E-3,null,9,{"$f":"K$19*SUM(J$19:J26)/I$35","v":0.85090909090909095},0.14909090909090905,1.7890909090909086E-2,1.4909090909090905E-3,null,9,{"$f":"Q$19*SUM(P$19:P26)/O$35","v":0.85090909090909095},0.14909090909090905,1.7890909090909086E-2,1.4909090909090905E-3,null,9,{"$f":"W$19*SUM(V$19:V26)/U$35","v":0.85090909090909095},0.14909090909090905,1.7890909090909086E-2,1.4909090909090905E-3,null,9,{"$f":"AC$19*SUM(AB$19:AB26)/AA$35","v":0.85090909090909095},0.14909090909090905,1.7890909090909086E-2,1.4909090909090905E-3]
[null,null,10,{"$f":"E$19*SUM(D$19:D27)/C$35","v":0.88363636363636366},0.11636363636363634,1.396363636363636E-2,1.1636363636363634E-3,null,10,{"$f":"K$19*SUM(J$19:J27)/I$35","v":0.88363636363636366},0.11636363636363634,1.396363636363636E-2,1.1636363636363634E-3,null,10,{"$f":"Q$19*SUM(P$19:P27)/O$35","v":0.88363636363636366},0.11636363636363634,1.396363636363636E-2,1.1636363636363634E-3,null,10,{"$f":"W$19*SUM(V$19:V27)/U$35","v":0.88363636363636366},0.11636363636363634,1.396363636363636E-2,1.1636363636363634E-3,null,10,{"$f":"AC$19*SUM(AB$19:AB27)/AA$35","v":0.88363636363636366},0.11636363636363634,1.396363636363636E-2,1.1636363636363634E-3]
[null,null,11,{"$f":"E$19*SUM(D$19:D28)/C$35","v":0.9},9.9999999999999978E-2,1.1999999999999997E-2,9.999999999999998E-4,null,11,{"$f":"K$19*SUM(J$19:J28)/I$35","v":0.9},9.9999999999999978E-2,1.1999999999999997E-2,9.999999999999998E-4,null,11,{"$f":"Q$19*SUM(P$19:P28)/O$35","v":0.9},9.9999999999999978E-2,1.1999999999999997E-2,9.999999999999998E-4,null,11,{"$f":"W$19*SUM(V$19:V28)/U$35","v":0.9},9.9999999999999978E-2,1.1999999999999997E-2,9.999999999999998E-4,null,11,{"$f":"AC$19*SUM(AB$19:AB28)/AA$35","v":0.9},9.9999999999999978E-2,1.1999999999999997E-2,9.999999999999998E-4]
[null,null,12,{"$f":"E$19*SUM(D$19:D29)/C$35","v":0.9},9.9999999999999978E-2,1.1999999999999997E-2,9.999999999999998E-4,null,12,{"$f":"K$19*SUM(J$19:J29)/I$35","v":0.9},9.9999999999999978E-2,1.1999999999999997E-2,9.999999999999998E-4,null,12,{"$f":"Q$19*SUM(P$19:P29)/O$35","v":0.9},9.9999999999999978E-2,1.1999999999999997E-2,9.999999999999998E-4,null,12,{"$f":"W$19*SUM(V$19:V29)/U$35","v":0.9},9.9999999999999978E-2,1.1999999999999997E-2,9.999999999999998E-4,null,12,{"$f":"AC$19*SUM(AB$19:AB29)/AA$35","v":0.9},9.9999999999999978E-2,1.1999999999999997E-2,9.999999999999998E-4]
[null,null,13,{"$f":"E$19*SUM(D$19:D30)/C$35","v":0.9},9.9999999999999978E-2,1.1999999999999997E-2,9.999999999999998E-4,null,13,{"$f":"K$19*SUM(J$19:J30)/I$35","v":0.9},9.9999999999999978E-2,1.1999999999999997E-2,9.999999999999998E-4,null,13,{"$f":"Q$19*SUM(P$19:P30)/O$35","v":0.9},9.9999999999999978E-2,1.1999999999999997E-2,9.999999999999998E-4,null,13,{"$f":"W$19*SUM(V$19:V30)/U$35","v":0.9},9.9999999999999978E-2,1.1999999999999997E-2,9.999999999999998E-4,null,13,{"$f":"AC$19*SUM(AB$19:AB30)/AA$35","v":0.9},9.9999999999999978E-2,1.1999999999999997E-2,9.999999999999998E-4]
[null,null,14,{"$f":"E$19*SUM(D$19:D31)/C$35","v":0.9},9.9999999999999978E-2,1.1999999999999997E-2,9.999999999999998E-4,null,14,{"$f":"K$19*SUM(J$19:J31)/I$35","v":0.9},9.9999999999999978E-2,1.1999999999999997E-2,9.999999999999998E-4,null,14,{"$f":"Q$19*SUM(P$19:P31)/O$35","v":0.9},9.9999999999999978E-2,1.1999999999999997E-2,9.999999999999998E-4,null,14,{"$f":"W$19*SUM(V$19:V31)/U$35","v":0.9},9.9999999999999978E-2,1.1999999999999997E-2,9.999999999999998E-4,null,14,{"$f":"AC$19*SUM(AB$19:AB31)/AA$35","v":0.9},9.9999999999999978E-2,1.1999999999999997E-2,9.999999999999998E-4]
[null,null,15,{"$f":"E$19*SUM(D$19:D32)/C$35","v":0.9},9.9999999999999978E-2,1.1999999999999997E-2,9.999999999999998E-4,null,15,{"$f":"K$19*SUM(J$19:J32)/I$35","v":0.9},9.9999999999999978E-2,1.1999999999999997E-2,9.999999999999998E-4,null,15,{"$f":"Q$19*SUM(P$19:P32)/O$35","v":0.9},9.9999999999999978E-2,1.1999999999999997E-2,9.999999999999998E-4,null,15,{"$f":"W$19*SUM(V$19:V32)/U$35","v":0.9},9.9999999999999978E-2,1.1999999999999997E-2,9.999999999999998E-4,null,15,{"$f":"AC$19*SUM(AB$19:AB32)/AA$35","v":0.9},9.9999999999999978E-2,1.1999999999999997E-2,9.999999999999998E-4]
[null,null,">15",{"$f":"E$19*SUM(D$19:D33)/C$35","v":0.9},9.9999999999999978E-2,1.1999999999999997E-2,9.999999999999998E-4,null,">15",{"$f":"K$19*SUM(J$19:J33)/I$35","v":0.9},9.9999999999999978E-2,1.1999999999999997E-2,9.999999999999998E-4,null,">15",{"$f":"Q$19*SUM(P$19:P33)/O$35","v":0.9},9.9999999999999978E-2,1.1999999999999997E-2,9.999999999999998E-4,null,">15",{"$f":"W$19*SUM(V$19:V33)/U$35","v":0.9},9.9999999999999978E-2,1.1999999999999997E-2,9.999999999999998E-4,null,">15",{"$f":"AC$19*SUM(AB$19:AB33)/AA$35","v":0.9},9.9999999999999978E-2,1.1999999999999997E-2,9.999999999999998E-4]